{"text_format":"1","workbook":"xlsx","n_sheets":8,"sheets":["Druckverlust","Optipress","Optiflex-Profix","Optiflex-Flowpress","Optiflex-Press","Optiarmatur","Dimensionen","Medien"],"not_rendered":{"charts":0,"images":38,"macros":1,"external_links":0,"defined_names":20,"comments":0,"pivot_tables":0},"unopened":[],"bounds":{"document_bytes":16777216,"sheet_cells":100000,"rows_first":2000,"rows_last":500,"rows_between":2000,"halvings":0,"cell_chars":16384,"cell_head_chars":4096},"cells_cut":0,"cells_raw":0,"read":"whole","date_system":"1900"}

{"sheet":"Druckverlust","index":0,"n_rows":25,"n_cols":8,"rows_kept":25,"cut":false,"hidden":false,"merged":[[24,1,24,5],[20,1,20,5],[0,2,1,4]]}
[null,null,"Volume"]
[]
[null,null,"u","v"]
[null,"N°","Dim-","Longueur","Matériau","Diamètre","Volume d'eau","Volume"]
[null,"SP","Nr.",null,"du tuyau","de conduite","par mètre","par ségment"]
[null,"[-]","[-]","[m]","[-]","[mm]","[l/m]","[l]"]
[null,1,null,null,{"$f":"IF(C7=\"\",\"\",VLOOKUP($C7,Dimensionen!$B$3:$G$21,5))","v":""},{"$f":"IF(E7=\"\",\"\",VLOOKUP($C7,Dimensionen!$B$3:$G$21,2))","v":""},{"$f":"IF(F7=\"\",\"\",VLOOKUP($C7,Dimensionen!$B$3:$G$21,6))","v":""},{"$f":"IF(F7=\"\",\"\",G7*D7)","v":""}]
[null,2,null,null,{"$f":"IF(C8=\"\",\"\",VLOOKUP($C8,Dimensionen!$B$3:$G$21,5))","v":""},{"$f":"IF(E8=\"\",\"\",VLOOKUP($C8,Dimensionen!$B$3:$G$21,2))","v":""},{"$f":"IF(F8=\"\",\"\",VLOOKUP($C8,Dimensionen!$B$3:$G$21,6))","v":""},{"$f":"IF(F8=\"\",\"\",G8*D8)","v":""}]
[null,3,null,null,{"$f":"IF(C9=\"\",\"\",VLOOKUP($C9,Dimensionen!$B$3:$G$21,5))","v":""},{"$f":"IF(E9=\"\",\"\",VLOOKUP($C9,Dimensionen!$B$3:$G$21,2))","v":""},{"$f":"IF(F9=\"\",\"\",VLOOKUP($C9,Dimensionen!$B$3:$G$21,6))","v":""},""]
[" ",4,null,null,{"$f":"IF(C10=\"\",\"\",VLOOKUP($C10,Dimensionen!$B$3:$G$21,5))","v":""},{"$f":"IF(E10=\"\",\"\",VLOOKUP($C10,Dimensionen!$B$3:$G$21,2))","v":""},{"$f":"IF(F10=\"\",\"\",VLOOKUP($C10,Dimensionen!$B$3:$G$21,6))","v":""},""]
[null,5,null,null,{"$f":"IF(C11=\"\",\"\",VLOOKUP($C11,Dimensionen!$B$3:$G$21,5))","v":""},{"$f":"IF(E11=\"\",\"\",VLOOKUP($C11,Dimensionen!$B$3:$G$21,2))","v":""},{"$f":"IF(F11=\"\",\"\",VLOOKUP($C11,Dimensionen!$B$3:$G$21,6))","v":""},""]
[null,6,null,null,{"$f":"IF(C12=\"\",\"\",VLOOKUP($C12,Dimensionen!$B$3:$G$21,5))","v":""},{"$f":"IF(E12=\"\",\"\",VLOOKUP($C12,Dimensionen!$B$3:$G$21,2))","v":""},{"$f":"IF(F12=\"\",\"\",VLOOKUP($C12,Dimensionen!$B$3:$G$21,6))","v":""},""]
[null,7,null,null,{"$f":"IF(C13=\"\",\"\",VLOOKUP($C13,Dimensionen!$B$3:$G$21,5))","v":""},{"$f":"IF(E13=\"\",\"\",VLOOKUP($C13,Dimensionen!$B$3:$G$21,2))","v":""},{"$f":"IF(F13=\"\",\"\",VLOOKUP($C13,Dimensionen!$B$3:$G$21,6))","v":""},""]
[null,8,null,null,{"$f":"IF(C14=\"\",\"\",VLOOKUP($C14,Dimensionen!$B$3:$G$21,5))","v":""},{"$f":"IF(E14=\"\",\"\",VLOOKUP($C14,Dimensionen!$B$3:$G$21,2))","v":""},{"$f":"IF(F14=\"\",\"\",VLOOKUP($C14,Dimensionen!$B$3:$G$21,6))","v":""},""]
[null,9,null,null,{"$f":"IF(C15=\"\",\"\",VLOOKUP($C15,Dimensionen!$B$3:$G$21,5))","v":""},{"$f":"IF(E15=\"\",\"\",VLOOKUP($C15,Dimensionen!$B$3:$G$21,2))","v":""},{"$f":"IF(F15=\"\",\"\",VLOOKUP($C15,Dimensionen!$B$3:$G$21,6))","v":""},""]
[null,10,null,null,{"$f":"IF(C16=\"\",\"\",VLOOKUP($C16,Dimensionen!$B$3:$G$21,5))","v":""},{"$f":"IF(E16=\"\",\"\",VLOOKUP($C16,Dimensionen!$B$3:$G$21,2))","v":""},{"$f":"IF(F16=\"\",\"\",VLOOKUP($C16,Dimensionen!$B$3:$G$21,6))","v":""},""]
[null,11,null,null,{"$f":"IF(C17=\"\",\"\",VLOOKUP($C17,Dimensionen!$B$3:$G$21,5))","v":""},{"$f":"IF(E17=\"\",\"\",VLOOKUP($C17,Dimensionen!$B$3:$G$21,2))","v":""},{"$f":"IF(F17=\"\",\"\",VLOOKUP($C17,Dimensionen!$B$3:$G$21,6))","v":""},""]
[null,12,null,null,{"$f":"IF(C18=\"\",\"\",VLOOKUP($C18,Dimensionen!$B$3:$G$21,5))","v":""},{"$f":"IF(E18=\"\",\"\",VLOOKUP($C18,Dimensionen!$B$3:$G$21,2))","v":""},{"$f":"IF(F18=\"\",\"\",VLOOKUP($C18,Dimensionen!$B$3:$G$21,6))","v":""},""]
[null,13,null,null,{"$f":"IF(C19=\"\",\"\",VLOOKUP($C19,Dimensionen!$B$3:$G$21,5))","v":""},{"$f":"IF(E19=\"\",\"\",VLOOKUP($C19,Dimensionen!$B$3:$G$21,2))","v":""},{"$f":"IF(F19=\"\",\"\",VLOOKUP($C19,Dimensionen!$B$3:$G$21,6))","v":""},""]
[null,14,null,null,{"$f":"IF(C20=\"\",\"\",VLOOKUP($C20,Dimensionen!$B$3:$G$21,5))","v":""},{"$f":"IF(E20=\"\",\"\",VLOOKUP($C20,Dimensionen!$B$3:$G$21,2))","v":""},{"$f":"IF(F20=\"\",\"\",VLOOKUP($C20,Dimensionen!$B$3:$G$21,6))","v":""},""]
[null,"Suppression: uniquement avec la touche \"Delete\"!"]
[null,null,null,null,null,null,"Voulume total [Litre]",{"$f":"SUM(H7:H20)","v":0}]
[]
[null,"11.2017 V1.01. ©  R. Nussbaum SA"]
[null,"L'utilisateur est seul responsable de l'exactitude"]

{"sheet":"Optipress","index":1,"n_rows":88,"n_cols":108,"rows_kept":88,"cut":false,"hidden":false,"merged":[[83,1,83,5],[49,1,59,1],[49,2,59,2],[49,3,59,3],[60,1,64,1],[60,2,64,2],[60,3,64,3],[1,4,3,4],[1,5,3,5],[16,1,26,1],[16,2,26,2],[16,3,26,3],[5,1,15,1],[5,2,15,2],[5,3,15,3],[1,1,3,1],[1,2,3,2],[1,3,3,3],[27,107,37,107],[79,1,82,1],[79,2,82,2],[79,3,82,3],[65,1,71,1],[65,2,71,2],[65,3,71,3],[72,1,78,1],[72,2,78,2],[72,3,78,3],[27,1,48,1],[27,2,37,2],[27,3,37,3],[38,2,48,2],[38,3,48,3]]}
[]
[null,"Nr.","Symbol","Bezeichnung","d","z","TS","TS","TS","TS","TS","TS","TS","TS","TS","TS","TS","TS","TS","TS","TS","TS","TS","TS","TS","TS","TS","TS","TS","TS","TS","TS","TS","TS","TS","TS","TS","TS","TS","TS","TS","TS","TS","TS","TS","TS","TS","TS","TS","TS","TS","TS","TS","TS","TS","TS"]
[null,null,null,null,null,null,1,2,3,4,5,6,7,8,9,10,11,12,13,14,15,16,17,18,19,20,21,22,23,24,25,26,27,28,29,30,31,32,33,34,35,36,37,38,39,40,41,42,43,44,45,46,47,48,49,50]
[null,null,null,null,null,null,"Stk","Stk","Stk","Stk","Stk","Stk","Stk","Stk","Stk","Stk","Stk","Stk","Stk","Stk","Stk","Stk","Stk","Stk","Stk","Stk","Stk","Stk","Stk","Stk","Stk","Stk","Stk","Stk","Stk","Stk","Stk","Stk","Stk","Stk","Stk","Stk","Stk","Stk","Stk","Stk","Stk","Stk","Stk","Stk","Stk","Stk","Stk","Stk","Stk","Stk"]
[null,null,null,"Zeta-Total Optipress",null,null,{"$f":"G84","v":0},{"$f":"H84","v":0},0,0,0,0,0,0,0,0,0,0,0,0,0,0,0,0,0,{"$f":"Z84","v":0},{"$f":"AA84","v":0},0,0,0,0,0,0,0,0,0,0,0,0,0,0,0,0,0,0,0,0,0,0,0,0,0,0,0,0,0]
[null,80000,null,"Optipress-Aquaplus-Bogen 90°",15,0.8,null,null,null,null,null,null,null,null,null,null,null,null,null,null,null,null,null,null,null,null,null,null,null,null,null,null,null,null,null,null,null,null,null,null,null,null,null,null,null,null,null,null,null,null,null,null,null,null,null,null,null,{"$f":"$F6*G6","v":0},{"$f":"$F6*H6","v":0},{"$f":"$F6*I6","v":0},{"$f":"$F6*J6","v":0},{"$f":"$F6*K6","v":0},{"$f":"$F6*L6","v":0},{"$f":"$F6*M6","v":0},{"$f":"$F6*N6","v":0},{"$f":"$F6*O6","v":0},{"$f":"$F6*P6","v":0},{"$f":"$F6*Q6","v":0},{"$f":"$F6*R6","v":0},{"$f":"$F6*S6","v":0},{"$f":"$F6*T6","v":0},{"$f":"$F6*U6","v":0},{"$f":"$F6*V6","v":0},{"$f":"$F6*W6","v":0},{"$f":"$F6*X6","v":0},{"$f":"$F6*Y6","v":0},{"$f":"$F6*Z6","v":0},{"$f":"$F6*AA6","v":0},{"$f":"$F6*AB6","v":0},{"$f":"$F6*AC6","v":0},{"$f":"$F6*AD6","v":0},{"$f":"$F6*AE6","v":0},{"$f":"$F6*AF6","v":0},{"$f":"$F6*AG6","v":0},{"$f":"$F6*AH6","v":0},{"$f":"$F6*AI6","v":0},{"$f":"$F6*AJ6","v":0},{"$f":"$F6*AK6","v":0},{"$f":"$F6*AL6","v":0},{"$f":"$F6*AM6","v":0},{"$f":"$F6*AN6","v":0},{"$f":"$F6*AO6","v":0},{"$f":"$F6*AP6","v":0},{"$f":"$F6*AQ6","v":0},{"$f":"$F6*AR6","v":0},{"$f":"$F6*AS6","v":0},{"$f":"$F6*AT6","v":0},{"$f":"$F6*AU6","v":0},{"$f":"$F6*AV6","v":0},{"$f":"$F6*AW6","v":0},{"$f":"$F6*AX6","v":0},{"$f":"$F6*AY6","v":0},{"$f":"$F6*AZ6","v":0},{"$f":"$F6*BA6","v":0},{"$f":"$F6*BB6","v":0},{"$f":"$F6*BC6","v":0},{"$f":"$F6*BD6","v":0}]
[null,null,null,null,18,0.5,null,null,null,null,null,null,null,null,null,null,null,null,null,null,null,null,null,null,null,null,null,null,null,null,null,null,null,null,null,null,null,null,null,null,null,null,null,null,null,null,null,null,null,null,null,null,null,null,null,null,null,0,0,0,0,0,0,0,0,0,0,0,0,0,0,0,0,0,0,0,0,0,0,0,0,0,0,0,0,0,0,0,0,0,0,0,0,0,0,0,0,0,0,0,0,0,0,0,0,0,0]
[null,null,null,null,22,0.3,null,null,null,null,null,null,null,null,null,null,null,null,null,null,null,null,null,null,null,null,null,null,null,null,null,null,null,null,null,null,null,null,null,null,null,null,null,null,null,null,null,null,null,null,null,null,null,null,null,null,null,0,0,0,0,0,0,0,0,0,0,0,0,0,0,0,0,0,0,0,0,0,0,0,0,0,0,0,0,0,0,0,0,0,0,0,0,0,0,0,0,0,0,0,0,0,0,0,0,0,0]
[null,null,null,null,28,0.4,null,null,null,null,null,null,null,null,null,null,null,null,null,null,null,null,null,null,null,null,null,null,null,null,null,null,null,null,null,null,null,null,null,null,null,null,null,null,null,null,null,null,null,null,null,null,null,null,null,null,null,0,0,0,0,0,0,0,0,0,0,0,0,0,0,0,0,0,0,0,0,0,0,0,0,0,0,0,0,0,0,0,0,0,0,0,0,0,0,0,0,0,0,0,0,0,0,0,0,0,0]
[null,null,null,null,35,0.2,null,null,null,null,null,null,null,null,null,null,null,null,null,null,null,null,null,null,null,null,null,null,null,null,null,null,null,null,null,null,null,null,null,null,null,null,null,null,null,null,null,null,null,null,null,null,null,null,null,null,null,0,0,0,0,0,0,0,0,0,0,0,0,0,0,0,0,0,0,0,0,0,0,0,0,0,0,0,0,0,0,0,0,0,0,0,0,0,0,0,0,0,0,0,0,0,0,0,0,0,0]
[null,null,null,null,42,0.3,null,null,null,null,null,null,null,null,null,null,null,null,null,null,null,null,null,null,null,null,null,null,null,null,null,null,null,null,null,null,null,null,null,null,null,null,null,null,null,null,null,null,null,null,null,null,null,null,null,null,null,0,0,0,0,0,0,0,0,0,0,0,0,0,0,0,0,0,0,0,0,0,0,0,0,0,0,0,0,0,0,0,0,0,0,0,0,0,0,0,0,0,0,0,0,0,0,0,0,0,0]
[null,null,null,null,54,0.3,null,null,null,null,null,null,null,null,null,null,null,null,null,null,null,null,null,null,null,null,null,null,null,null,null,null,null,null,null,null,null,null,null,null,null,null,null,null,null,null,null,null,null,null,null,null,null,null,null,null,null,0,0,0,0,0,0,0,0,0,0,0,0,0,0,0,0,0,0,0,0,0,0,0,0,0,0,0,0,0,0,0,0,0,0,0,0,0,0,0,0,0,0,0,0,0,0,0,0,0,0]
[null,null,null,null,64,0.3,null,null,null,null,null,null,null,null,null,null,null,null,null,null,null,null,null,null,null,null,null,null,null,null,null,null,null,null,null,null,null,null,null,null,null,null,null,null,null,null,null,null,null,null,null,null,null,null,null,null,null,0,0,0,0,0,0,0,0,0,0,0,0,0,0,0,0,0,0,0,0,0,0,0,0,0,0,0,0,0,0,0,0,0,0,0,0,0,0,0,0,0,0,0,0,0,0,0,0,0,0]
[null,null,null,null,76.099999999999994,0.3,null,null,null,null,null,null,null,null,null,null,null,null,null,null,null,null,null,null,null,null,null,null,null,null,null,null,null,null,null,null,null,null,null,null,null,null,null,null,null,null,null,null,null,null,null,null,null,null,null,null,null,0,0,0,0,0,0,0,0,0,0,0,0,0,0,0,0,0,0,0,0,0,0,0,0,0,0,0,0,0,0,0,0,0,0,0,0,0,0,0,0,0,0,0,0,0,0,0,0,0,0]
[null,null,null,null,88.9,0.2,null,null,null,null,null,null,null,null,null,null,null,null,null,null,null,null,null,null,null,null,null,null,null,null,null,null,null,null,null,null,null,null,null,null,null,null,null,null,null,null,null,null,null,null,null,null,null,null,null,null,null,0,0,0,0,0,0,0,0,0,0,0,0,0,0,0,0,0,0,0,0,0,0,0,0,0,0,0,0,0,0,0,0,0,0,0,0,0,0,0,0,0,0,0,0,0,0,0,0,0,0]
[null,null,null,null,108,0.2,null,null,null,null,null,null,null,null,null,null,null,null,null,null,null,null,null,null,null,null,null,null,null,null,null,null,null,null,null,null,null,null,null,null,null,null,null,null,null,null,null,null,null,null,null,null,null,null,null,null,null,0,0,0,0,0,0,0,0,0,0,0,0,0,0,0,0,0,0,0,0,0,0,0,0,0,0,0,0,0,0,0,0,0,0,0,0,0,0,0,0,0,0,0,0,0,0,0,0,0,0]
[null,80004,null,"Optipress-Aquaplus-Bogen 45°",15,0.5,null,null,null,null,null,null,null,null,null,null,null,null,null,null,null,null,null,null,null,null,null,null,null,null,null,null,null,null,null,null,null,null,null,null,null,null,null,null,null,null,null,null,null,null,null,null,null,null,null,null,null,0,0,0,0,0,0,0,0,0,0,0,0,0,0,0,0,0,0,0,0,0,0,0,0,0,0,0,0,0,0,0,0,0,0,0,0,0,0,0,0,0,0,0,0,0,0,0,0,0,0]
[null,null,null,null,18,0.3,null,null,null,null,null,null,null,null,null,null,null,null,null,null,null,null,null,null,null,null,null,null,null,null,null,null,null,null,null,null,null,null,null,null,null,null,null,null,null,null,null,null,null,null,null,null,null,null,null,null,null,0,0,0,0,0,0,0,0,0,0,0,0,0,0,0,0,0,0,0,0,0,0,0,0,0,0,0,0,0,0,0,0,0,0,0,0,0,0,0,0,0,0,0,0,0,0,0,0,0,0]
[null,null,null,null,22,0.7,null,null,null,null,null,null,null,null,null,null,null,null,null,null,null,null,null,null,null,null,null,null,null,null,null,null,null,null,null,null,null,null,null,null,null,null,null,null,null,null,null,null,null,null,null,null,null,null,null,null,null,0,0,0,0,0,0,0,0,0,0,0,0,0,0,0,0,0,0,0,0,0,0,0,0,0,0,0,0,0,0,0,0,0,0,0,0,0,0,0,0,0,0,0,0,0,0,0,0,0,0]
[null,null,null,null,28,0.4,null,null,null,null,null,null,null,null,null,null,null,null,null,null,null,null,null,null,null,null,null,null,null,null,null,null,null,null,null,null,null,null,null,null,null,null,null,null,null,null,null,null,null,null,null,null,null,null,null,null,null,0,0,0,0,0,0,0,0,0,0,0,0,0,0,0,0,0,0,0,0,0,0,0,0,0,0,0,0,0,0,0,0,0,0,0,0,0,0,0,0,0,0,0,0,0,0,0,0,0,0]
[null,null,null,null,35,0.3,null,null,null,null,null,null,null,null,null,null,null,null,null,null,null,null,null,null,null,null,null,null,null,null,null,null,null,null,null,null,null,null,null,null,null,null,null,null,null,null,null,null,null,null,null,null,null,null,null,null,null,0,0,0,0,0,0,0,0,0,0,0,0,0,0,0,0,0,0,0,0,0,0,0,0,0,0,0,0,0,0,0,0,0,0,0,0,0,0,0,0,0,0,0,0,0,0,0,0,0,0]
[null,null,null,null,42,0.2,null,null,null,null,null,null,null,null,null,null,null,null,null,null,null,null,null,null,null,null,null,null,null,null,null,null,null,null,null,null,null,null,null,null,null,null,null,null,null,null,null,null,null,null,null,null,null,null,null,null,null,0,0,0,0,0,0,0,0,0,0,0,0,0,0,0,0,0,0,0,0,0,0,0,0,0,0,0,0,0,0,0,0,0,0,0,0,0,0,0,0,0,0,0,0,0,0,0,0,0,0]
[null,null,null,null,54,0.2,null,null,null,null,null,null,null,null,null,null,null,null,null,null,null,null,null,null,null,null,null,null,null,null,null,null,null,null,null,null,null,null,null,null,null,null,null,null,null,null,null,null,null,null,null,null,null,null,null,null,null,0,0,0,0,0,0,0,0,0,0,0,0,0,0,0,0,0,0,0,0,0,0,0,0,0,0,0,0,0,0,0,0,0,0,0,0,0,0,0,0,0,0,0,0,0,0,0,0,0,0]
[null,null,null,null,64,0.2,null,null,null,null,null,null,null,null,null,null,null,null,null,null,null,null,null,null,null,null,null,null,null,null,null,null,null,null,null,null,null,null,null,null,null,null,null,null,null,null,null,null,null,null,null,null,null,null,null,null,null,0,0,0,0,0,0,0,0,0,0,0,0,0,0,0,0,0,0,0,0,0,0,0,0,0,0,0,0,0,0,0,0,0,0,0,0,0,0,0,0,0,0,0,0,0,0,0,0,0,0]
[null,null,null,null,76.099999999999994,0.2,null,null,null,null,null,null,null,null,null,null,null,null,null,null,null,null,null,null,null,null,null,null,null,null,null,null,null,null,null,null,null,null,null,null,null,null,null,null,null,null,null,null,null,null,null,null,null,null,null,null,null,0,0,0,0,0,0,0,0,0,0,0,0,0,0,0,0,0,0,0,0,0,0,0,0,0,0,0,0,0,0,0,0,0,0,0,0,0,0,0,0,0,0,0,0,0,0,0,0,0,0]
[null,null,null,null,88.9,0.2,null,null,null,null,null,null,null,null,null,null,null,null,null,null,null,null,null,null,null,null,null,null,null,null,null,null,null,null,null,null,null,null,null,null,null,null,null,null,null,null,null,null,null,null,null,null,null,null,null,null,null,0,0,0,0,0,0,0,0,0,0,0,0,0,0,0,0,0,0,0,0,0,0,0,0,0,0,0,0,0,0,0,0,0,0,0,0,0,0,0,0,0,0,0,0,0,0,0,0,0,0]
[null,null,null,null,108,0.1,null,null,null,null,null,null,null,null,null,null,null,null,null,null,null,null,null,null,null,null,null,null,null,null,null,null,null,null,null,null,null,null,null,null,null,null,null,null,null,null,null,null,null,null,null,null,null,null,null,null,null,0,0,0,0,0,0,0,0,0,0,0,0,0,0,0,0,0,0,0,0,0,0,0,0,0,0,0,0,0,0,0,0,0,0,0,0,0,0,0,0,0,0,0,0,0,0,0,0,0,0]
[null,80010,"Durchfluss","Optipress-Aquaplus-T-Stück",15,0.3,null,null,null,null,null,null,null,null,null,null,null,null,null,null,null,null,null,null,null,null,null,null,null,null,null,null,null,null,null,null,null,null,null,null,null,null,null,null,null,null,null,null,null,null,null,null,null,null,null,null,null,0,0,0,0,0,0,0,0,0,0,0,0,0,0,0,0,0,0,0,0,0,0,0,0,0,0,0,0,0,0,0,0,0,0,0,0,0,0,0,0,0,0,0,0,0,0,0,0,0,0,"Bei reduzierten T-Stücken wird der Widerstandswert des egalen T-Stückes mit der kleinsten Dimension des reduzierten T-Stückes für den zu berechnenden Fliessweg angesetzt."]
[null,null,null,null,18,0.3,null,null,null,null,null,null,null,null,null,null,null,null,null,null,null,null,null,null,null,null,null,null,null,null,null,null,null,null,null,null,null,null,null,null,null,null,null,null,null,null,null,null,null,null,null,null,null,null,null,null,null,0,0,0,0,0,0,0,0,0,0,0,0,0,0,0,0,0,0,0,0,0,0,0,0,0,0,0,0,0,0,0,0,0,0,0,0,0,0,0,0,0,0,0,0,0,0,0,0,0,0]
[null,null,null,null,22,0.2,null,null,null,null,null,null,null,null,null,null,null,null,null,null,null,null,null,null,null,null,null,null,null,null,null,null,null,null,null,null,null,null,null,null,null,null,null,null,null,null,null,null,null,null,null,null,null,null,null,null,null,0,0,0,0,0,0,0,0,0,0,0,0,0,0,0,0,0,0,0,0,0,0,0,0,0,0,0,0,0,0,0,0,0,0,0,0,0,0,0,0,0,0,0,0,0,0,0,0,0,0]
[null,null,null,null,28,0.1,null,null,null,null,null,null,null,null,null,null,null,null,null,null,null,null,null,null,null,null,null,null,null,null,null,null,null,null,null,null,null,null,null,null,null,null,null,null,null,null,null,null,null,null,null,null,null,null,null,null,null,0,0,0,0,0,0,0,0,0,0,0,0,0,0,0,0,0,0,0,0,0,0,0,0,0,0,0,0,0,0,0,0,0,0,0,0,0,0,0,0,0,0,0,0,0,0,0,0,0,0]
[null,null,null,null,35,0.1,null,null,null,null,null,null,null,null,null,null,null,null,null,null,null,null,null,null,null,null,null,null,null,null,null,null,null,null,null,null,null,null,null,null,null,null,null,null,null,null,null,null,null,null,null,null,null,null,null,null,null,0,0,0,0,0,0,0,0,0,0,0,0,0,0,0,0,0,0,0,0,0,0,0,0,0,0,0,0,0,0,0,0,0,0,0,0,0,0,0,0,0,0,0,0,0,0,0,0,0,0]
[null,null,null,null,42,0.1,null,null,null,null,null,null,null,null,null,null,null,null,null,null,null,null,null,null,null,null,null,null,null,null,null,null,null,null,null,null,null,null,null,null,null,null,null,null,null,null,null,null,null,null,null,null,null,null,null,null,null,0,0,0,0,0,0,0,0,0,0,0,0,0,0,0,0,0,0,0,0,0,0,0,0,0,0,0,0,0,0,0,0,0,0,0,0,0,0,0,0,0,0,0,0,0,0,0,0,0,0]
[null,null,null,null,54,0.1,null,null,null,null,null,null,null,null,null,null,null,null,null,null,null,null,null,null,null,null,null,null,null,null,null,null,null,null,null,null,null,null,null,null,null,null,null,null,null,null,null,null,null,null,null,null,null,null,null,null,null,0,0,0,0,0,0,0,0,0,0,0,0,0,0,0,0,0,0,0,0,0,0,0,0,0,0,0,0,0,0,0,0,0,0,0,0,0,0,0,0,0,0,0,0,0,0,0,0,0,0]
[null,null,null,null,64,0.1,null,null,null,null,null,null,null,null,null,null,null,null,null,null,null,null,null,null,null,null,null,null,null,null,null,null,null,null,null,null,null,null,null,null,null,null,null,null,null,null,null,null,null,null,null,null,null,null,null,null,null,0,0,0,0,0,0,0,0,0,0,0,0,0,0,0,0,0,0,0,0,0,0,0,0,0,0,0,0,0,0,0,0,0,0,0,0,0,0,0,0,0,0,0,0,0,0,0,0,0,0]
[null,null,null,null,76.099999999999994,0.1,null,null,null,null,null,null,null,null,null,null,null,null,null,null,null,null,null,null,null,null,null,null,null,null,null,null,null,null,null,null,null,null,null,null,null,null,null,null,null,null,null,null,null,null,null,null,null,null,null,null,null,0,0,0,0,0,0,0,0,0,0,0,0,0,0,0,0,0,0,0,0,0,0,0,0,0,0,0,0,0,0,0,0,0,0,0,0,0,0,0,0,0,0,0,0,0,0,0,0,0,0]
[null,null,null,null,88.9,0.1,null,null,null,null,null,null,null,null,null,null,null,null,null,null,null,null,null,null,null,null,null,null,null,null,null,null,null,null,null,null,null,null,null,null,null,null,null,null,null,null,null,null,null,null,null,null,null,null,null,null,null,0,0,0,0,0,0,0,0,0,0,0,0,0,0,0,0,0,0,0,0,0,0,0,0,0,0,0,0,0,0,0,0,0,0,0,0,0,0,0,0,0,0,0,0,0,0,0,0,0,0]
[null,null,null,null,108,0.1,null,null,null,null,null,null,null,null,null,null,null,null,null,null,null,null,null,null,null,null,null,null,null,null,null,null,null,null,null,null,null,null,null,null,null,null,null,null,null,null,null,null,null,null,null,null,null,null,null,null,null,{"$f":"$F38*G38","v":0},0,0,0,0,0,0,0,0,0,0,0,0,0,0,0,0,0,0,0,0,0,0,0,0,0,0,0,0,0,0,0,0,0,0,0,0,0,0,0,0,0,0,0,0,0,0,0,0,0]
[null,null,"Abzweigung","Optipress-Aquaplus-T-Stück",15,1.3,null,null,null,null,null,null,null,null,null,null,null,null,null,null,null,null,null,null,null,null,null,null,null,null,null,null,null,null,null,null,null,null,null,null,null,null,null,null,null,null,null,null,null,null,null,null,null,null,null,null,null,0,0,0,0,0,0,0,0,0,0,0,0,0,0,0,0,0,0,0,0,0,0,0,0,0,0,0,0,0,0,0,0,0,0,0,0,0,0,0,0,0,0,0,0,0,0,0,0,0,0]
[null,null,null,null,18,1.2,null,null,null,null,null,null,null,null,null,null,null,null,null,null,null,null,null,null,null,null,null,null,null,null,null,null,null,null,null,null,null,null,null,null,null,null,null,null,null,null,null,null,null,null,null,null,null,null,null,null,null,0,0,0,0,0,0,0,0,0,0,0,0,0,0,0,0,0,0,0,0,0,0,0,0,0,0,0,0,0,0,0,0,0,0,0,0,0,0,0,0,0,0,0,0,0,0,0,0,0,0]
[null,null,null,null,22,1.1000000000000001,null,null,null,null,null,null,null,null,null,null,null,null,null,null,null,null,null,null,null,null,null,null,null,null,null,null,null,null,null,null,null,null,null,null,null,null,null,null,null,null,null,null,null,null,null,null,null,null,null,null,null,0,0,0,0,0,0,0,0,0,0,0,0,0,0,0,0,0,0,0,0,0,0,0,0,0,0,0,0,0,0,0,0,0,0,0,0,0,0,0,0,0,0,0,0,0,0,0,0,0,0]
[null,null,null,null,28,1.1000000000000001,null,null,null,null,null,null,null,null,null,null,null,null,null,null,null,null,null,null,null,null,null,null,null,null,null,null,null,null,null,null,null,null,null,null,null,null,null,null,null,null,null,null,null,null,null,null,null,null,null,null,null,0,0,0,0,0,0,0,0,0,0,0,0,0,0,0,0,0,0,0,0,0,0,0,0,0,0,0,0,0,0,0,0,0,0,0,0,0,0,0,0,0,0,0,0,0,0,0,0,0,0]
[null,null,null,null,35,0.9,null,null,null,null,null,null,null,null,null,null,null,null,null,null,null,null,null,null,null,null,null,null,null,null,null,null,null,null,null,null,null,null,null,null,null,null,null,null,null,null,null,null,null,null,null,null,null,null,null,null,null,0,0,0,0,0,0,0,0,0,0,0,0,0,0,0,0,0,0,0,0,0,0,0,0,0,0,0,0,0,0,0,0,0,0,0,0,0,0,0,0,0,0,0,0,0,0,0,0,0,0]
[null,null,null,null,42,0.9,null,null,null,null,null,null,null,null,null,null,null,null,null,null,null,null,null,null,null,null,null,null,null,null,null,null,null,null,null,null,null,null,null,null,null,null,null,null,null,null,null,null,null,null,null,null,null,null,null,null,null,0,0,0,0,0,0,0,0,0,0,0,0,0,0,0,0,0,0,0,0,0,0,0,0,0,0,0,0,0,0,0,0,0,0,0,0,0,0,0,0,0,0,0,0,0,0,0,0,0,0]
[null,null,null,null,54,0.9,null,null,null,null,null,null,null,null,null,null,null,null,null,null,null,null,null,null,null,null,null,null,null,null,null,null,null,null,null,null,null,null,null,null,null,null,null,null,null,null,null,null,null,null,null,null,null,null,null,null,null,0,0,0,0,0,0,0,0,0,0,0,0,0,0,0,0,0,0,0,0,0,0,0,0,0,0,0,0,0,0,0,0,0,0,0,0,0,0,0,0,0,0,0,0,0,0,0,0,0,0]
[null,null,null,null,64,0.8,null,null,null,null,null,null,null,null,null,null,null,null,null,null,null,null,null,null,null,null,null,null,null,null,null,null,null,null,null,null,null,null,null,null,null,null,null,null,null,null,null,null,null,null,null,null,null,null,null,null,null,0,0,0,0,0,0,0,0,0,0,0,0,0,0,0,0,0,0,0,0,0,0,0,0,0,0,0,0,0,0,0,0,0,0,0,0,0,0,0,0,0,0,0,0,0,0,0,0,0,0]
[null,null,null,null,76.099999999999994,0.8,null,null,null,null,null,null,null,null,null,null,null,null,null,null,null,null,null,null,null,null,null,null,null,null,null,null,null,null,null,null,null,null,null,null,null,null,null,null,null,null,null,null,null,null,null,null,null,null,null,null,null,0,0,0,0,0,0,0,0,0,0,0,0,0,0,0,0,0,0,0,0,0,0,0,0,0,0,0,0,0,0,0,0,0,0,0,0,0,0,0,0,0,0,0,0,0,0,0,0,0,0]
[null,null,null,null,88.9,0.7,null,null,null,null,null,null,null,null,null,null,null,null,null,null,null,null,null,null,null,null,null,null,null,null,null,null,null,null,null,null,null,null,null,null,null,null,null,null,null,null,null,null,null,null,null,null,null,null,null,null,null,0,0,0,0,0,0,0,0,0,0,0,0,0,0,0,0,0,0,0,0,0,0,0,0,0,0,0,0,0,0,0,0,0,0,0,0,0,0,0,0,0,0,0,0,0,0,0,0,0,0]
[null,null,null,null,108,0.6,null,null,null,null,null,null,null,null,null,null,null,null,null,null,null,null,null,null,null,null,null,null,null,null,null,null,null,null,null,null,null,null,null,null,null,null,null,null,null,null,null,null,null,null,null,null,null,null,null,null,null,0,0,0,0,0,0,0,0,0,0,0,0,0,0,0,0,0,0,0,0,0,0,0,0,0,0,0,0,0,0,0,0,0,0,0,0,0,0,0,0,0,0,0,0,0,0,0,0,0,0]
[null,80020,null,"Optipress-Aquaplus-Muffe",15,0.4,null,null,null,null,null,null,null,null,null,null,null,null,null,null,null,null,null,null,null,null,null,null,null,null,null,null,null,null,null,null,null,null,null,null,null,null,null,null,null,null,null,null,null,null,null,null,null,null,null,null,null,0,0,0,0,0,0,0,0,0,0,0,0,0,0,0,0,0,0,0,0,0,0,0,0,0,0,0,0,0,0,0,0,0,0,0,0,0,0,0,0,0,0,0,0,0,0,0,0,0,0]
[null,null,null,null,18,0.2,null,null,null,null,null,null,null,null,null,null,null,null,null,null,null,null,null,null,null,null,null,null,null,null,null,null,null,null,null,null,null,null,null,null,null,null,null,null,null,null,null,null,null,null,null,null,null,null,null,null,null,0,0,0,0,0,0,0,0,0,0,0,0,0,0,0,0,0,0,0,0,0,0,0,0,0,0,0,0,0,0,0,0,0,0,0,0,0,0,0,0,0,0,0,0,0,0,0,0,0,0]
[null,null,null,null,22,0.2,null,null,null,null,null,null,null,null,null,null,null,null,null,null,null,null,null,null,null,null,null,null,null,null,null,null,null,null,null,null,null,null,null,null,null,null,null,null,null,null,null,null,null,null,null,null,null,null,null,null,null,0,0,0,0,0,0,0,0,0,0,0,0,0,0,0,0,0,0,0,0,0,0,0,0,0,0,0,0,0,0,0,0,0,0,0,0,0,0,0,0,0,0,0,0,0,0,0,0,0,0]
[null,null,null,null,28,0.2,null,null,null,null,null,null,null,null,null,null,null,null,null,null,null,null,null,null,null,null,null,null,null,null,null,null,null,null,null,null,null,null,null,null,null,null,null,null,null,null,null,null,null,null,null,null,null,null,null,null,null,0,0,0,0,0,0,0,0,0,0,0,0,0,0,0,0,0,0,0,0,0,0,0,0,0,0,0,0,0,0,0,0,0,0,0,0,0,0,0,0,0,0,0,0,0,0,0,0,0,0]
[null,null,null,null,35,0.2,null,null,null,null,null,null,null,null,null,null,null,null,null,null,null,null,null,null,null,null,null,null,null,null,null,null,null,null,null,null,null,null,null,null,null,null,null,null,null,null,null,null,null,null,null,null,null,null,null,null,null,0,0,0,0,0,0,0,0,0,0,0,0,0,0,0,0,0,0,0,0,0,0,0,0,0,0,0,0,0,0,0,0,0,0,0,0,0,0,0,0,0,0,0,0,0,0,0,0,0,0]
[null,null,null,null,42,0.1,null,null,null,null,null,null,null,null,null,null,null,null,null,null,null,null,null,null,null,null,null,null,null,null,null,null,null,null,null,null,null,null,null,null,null,null,null,null,null,null,null,null,null,null,null,null,null,null,null,null,null,0,0,0,0,0,0,0,0,0,0,0,0,0,0,0,0,0,0,0,0,0,0,0,0,0,0,0,0,0,0,0,0,0,0,0,0,0,0,0,0,0,0,0,0,0,0,0,0,0,0]
[null,null,null,null,54,0.1,null,null,null,null,null,null,null,null,null,null,null,null,null,null,null,null,null,null,null,null,null,null,null,null,null,null,null,null,null,null,null,null,null,null,null,null,null,null,null,null,null,null,null,null,null,null,null,null,null,null,null,0,0,0,0,0,0,0,0,0,0,0,0,0,0,0,0,0,0,0,0,0,0,0,0,0,0,0,0,0,0,0,0,0,0,0,0,0,0,0,0,0,0,0,0,0,0,0,0,0,0]
[null,null,null,null,64,0.1,null,null,null,null,null,null,null,null,null,null,null,null,null,null,null,null,null,null,null,null,null,null,null,null,null,null,null,null,null,null,null,null,null,null,null,null,null,null,null,null,null,null,null,null,null,null,null,null,null,null,null,0,0,0,0,0,0,0,0,0,0,0,0,0,0,0,0,0,0,0,0,0,0,0,0,0,0,0,0,0,0,0,0,0,0,0,0,0,0,0,0,0,0,0,0,0,0,0,0,0,0]
[null,null,null,null,76.099999999999994,0.1,null,null,null,null,null,null,null,null,null,null,null,null,null,null,null,null,null,null,null,null,null,null,null,null,null,null,null,null,null,null,null,null,null,null,null,null,null,null,null,null,null,null,null,null,null,null,null,null,null,null,null,0,0,0,0,0,0,0,0,0,0,0,0,0,0,0,0,0,0,0,0,0,0,0,0,0,0,0,0,0,0,0,0,0,0,0,0,0,0,0,0,0,0,0,0,0,0,0,0,0,0]
[null,null,null,null,88.9,0.1,null,null,null,null,null,null,null,null,null,null,null,null,null,null,null,null,null,null,null,null,null,null,null,null,null,null,null,null,null,null,null,null,null,null,null,null,null,null,null,null,null,null,null,null,null,null,null,null,null,null,null,0,0,0,0,0,0,0,0,0,0,0,0,0,0,0,0,0,0,0,0,0,0,0,0,0,0,0,0,0,0,0,0,0,0,0,0,0,0,0,0,0,0,0,0,0,0,0,0,0,0]
[null,null,null,null,108,0.1,null,null,null,null,null,null,null,null,null,null,null,null,null,null,null,null,null,null,null,null,null,null,null,null,null,null,null,null,null,null,null,null,null,null,null,null,null,null,null,null,null,null,null,null,null,null,null,null,null,null,null,0,0,0,0,0,0,0,0,0,0,0,0,0,0,0,0,0,0,0,0,0,0,0,0,0,0,0,0,0,0,0,0,0,0,0,0,0,0,0,0,0,0,0,0,0,0,0,0,0,0]
[null,80050,null,"Optipress-Aquaplus-Anschluss-winkel","15 x ½",1.6,null,null,null,null,null,null,null,null,null,null,null,null,null,null,null,null,null,null,null,null,null,null,null,null,null,null,null,null,null,null,null,null,null,null,null,null,null,null,null,null,null,null,null,null,null,null,null,null,null,null,null,0,0,0,0,0,0,0,0,0,0,0,0,0,0,0,0,0,0,0,0,0,0,0,0,0,0,0,0,0,0,0,0,0,0,0,0,0,0,0,0,0,0,0,0,0,0,0,0,0,0]
[null,null,null,null,"18 x ½",1.6,null,null,null,null,null,null,null,null,null,null,null,null,null,null,null,null,null,null,null,null,null,null,null,null,null,null,null,null,null,null,null,null,null,null,null,null,null,null,null,null,null,null,null,null,null,null,null,null,null,null,null,0,0,0,0,0,0,0,0,0,0,0,0,0,0,0,0,0,0,0,0,0,0,0,0,0,0,0,0,0,0,0,0,0,0,0,0,0,0,0,0,0,0,0,0,0,0,0,0,0,0]
[null,null,null,null,"22 x ½",1.6,null,null,null,null,null,null,null,null,null,null,null,null,null,null,null,null,null,null,null,null,null,null,null,null,null,null,null,null,null,null,null,null,null,null,null,null,null,null,null,null,null,null,null,null,null,null,null,null,null,null,null,0,0,0,0,0,0,0,0,0,0,0,0,0,0,0,0,0,0,0,0,0,0,0,0,0,0,0,0,0,0,0,0,0,0,0,0,0,0,0,0,0,0,0,0,0,0,0,0,0,0]
[null,null,null,null,"22 x ¾",1.6,null,null,null,null,null,null,null,null,null,null,null,null,null,null,null,null,null,null,null,null,null,null,null,null,null,null,null,null,null,null,null,null,null,null,null,null,null,null,null,null,null,null,null,null,null,null,null,null,null,null,null,0,0,0,0,0,0,0,0,0,0,0,0,0,0,0,0,0,0,0,0,0,0,0,0,0,0,0,0,0,0,0,0,0,0,0,0,0,0,0,0,0,0,0,0,0,0,0,0,0,0]
[null,null,null,null,"28 x 1",1.3,null,null,null,null,null,null,null,null,null,null,null,null,null,null,null,null,null,null,null,null,null,null,null,null,null,null,null,null,null,null,null,null,null,null,null,null,null,null,null,null,null,null,null,null,null,null,null,null,null,null,null,0,0,0,0,0,0,0,0,0,0,0,0,0,0,0,0,0,0,0,0,0,0,0,0,0,0,0,0,0,0,0,0,0,0,0,0,0,0,0,0,0,0,0,0,0,0,0,0,0,0]
[null,"82200 80180",null,"Optipress-Aquaplus-Schrägsitzventil",15,2.2999999999999998,null,null,null,null,null,null,null,null,null,null,null,null,null,null,null,null,null,null,null,null,null,null,null,null,null,null,null,null,null,null,null,null,null,null,null,null,null,null,null,null,null,null,null,null,null,null,null,null,null,null,null,0,0,0,0,0,0,0,0,0,0,0,0,0,0,0,0,0,0,0,0,0,0,0,0,0,0,0,0,0,0,0,0,0,0,0,0,0,0,0,0,0,0,0,0,0,0,0,0,0,0]
[null,null,null,null,18,2.1,null,null,null,null,null,null,null,null,null,null,null,null,null,null,null,null,null,null,null,null,null,null,null,null,null,null,null,null,null,null,null,null,null,null,null,null,null,null,null,null,null,null,null,null,null,null,null,null,null,null,null,0,0,0,0,0,0,0,0,0,0,0,0,0,0,0,0,0,0,0,0,0,0,0,0,0,0,0,0,0,0,0,0,0,0,0,0,0,0,0,0,0,0,0,0,0,0,0,0,0,0]
[null,null,null,null,22,1.7,null,null,null,null,null,null,null,null,null,null,null,null,null,null,null,null,null,null,null,null,null,null,null,null,null,null,null,null,null,null,null,null,null,null,null,null,null,null,null,null,null,null,null,null,null,null,null,null,null,null,null,0,0,0,0,0,0,0,0,0,0,0,0,0,0,0,0,0,0,0,0,0,0,0,0,0,0,0,0,0,0,0,0,0,0,0,0,0,0,0,0,0,0,0,0,0,0,0,0,0,0]
[null,null,null,null,28,1.4,null,null,null,null,null,null,null,null,null,null,null,null,null,null,null,null,null,null,null,null,null,null,null,null,null,null,null,null,null,null,null,null,null,null,null,null,null,null,null,null,null,null,null,null,null,null,null,null,null,null,null,0,0,0,0,0,0,0,0,0,0,0,0,0,0,0,0,0,0,0,0,0,0,0,0,0,0,0,0,0,0,0,0,0,0,0,0,0,0,0,0,0,0,0,0,0,0,0,0,0,0]
[null,null,null,null,35,1.2,null,null,null,null,null,null,null,null,null,null,null,null,null,null,null,null,null,null,null,null,null,null,null,null,null,null,null,null,null,null,null,null,null,null,null,null,null,null,null,null,null,null,null,null,null,null,null,null,null,null,null,0,{"$f":"$F70*H70","v":0},{"$f":"$F70*I70","v":0},{"$f":"$F70*J70","v":0},{"$f":"$F70*K70","v":0},{"$f":"$F70*L70","v":0},{"$f":"$F70*M70","v":0},{"$f":"$F70*N70","v":0},{"$f":"$F70*O70","v":0},{"$f":"$F70*P70","v":0},{"$f":"$F70*Q70","v":0},{"$f":"$F70*R70","v":0},{"$f":"$F70*S70","v":0},{"$f":"$F70*T70","v":0},{"$f":"$F70*U70","v":0},{"$f":"$F70*V70","v":0},{"$f":"$F70*W70","v":0},{"$f":"$F70*X70","v":0},{"$f":"$F70*Y70","v":0},{"$f":"$F70*Z70","v":0},{"$f":"$F70*AA70","v":0},{"$f":"$F70*AB70","v":0},{"$f":"$F70*AC70","v":0},{"$f":"$F70*AD70","v":0},{"$f":"$F70*AE70","v":0},{"$f":"$F70*AF70","v":0},{"$f":"$F70*AG70","v":0},{"$f":"$F70*AH70","v":0},{"$f":"$F70*AI70","v":0},{"$f":"$F70*AJ70","v":0},{"$f":"$F70*AK70","v":0},{"$f":"$F70*AL70","v":0},{"$f":"$F70*AM70","v":0},{"$f":"$F70*AN70","v":0},{"$f":"$F70*AO70","v":0},{"$f":"$F70*AP70","v":0},{"$f":"$F70*AQ70","v":0},{"$f":"$F70*AR70","v":0},{"$f":"$F70*AS70","v":0},{"$f":"$F70*AT70","v":0},{"$f":"$F70*AU70","v":0},{"$f":"$F70*AV70","v":0},{"$f":"$F70*AW70","v":0},{"$f":"$F70*AX70","v":0},{"$f":"$F70*AY70","v":0},{"$f":"$F70*AZ70","v":0},{"$f":"$F70*BA70","v":0},{"$f":"$F70*BB70","v":0},{"$f":"$F70*BC70","v":0},{"$f":"$F70*BD70","v":0}]
[null,null,null,null,42,1.6,null,null,null,null,null,null,null,null,null,null,null,null,null,null,null,null,null,null,null,null,null,null,null,null,null,null,null,null,null,null,null,null,null,null,null,null,null,null,null,null,null,null,null,null,null,null,null,null,null,null,null,0,0,0,0,0,0,0,0,0,0,0,0,0,0,0,0,0,0,0,0,0,0,0,0,0,0,0,0,0,0,0,0,0,0,0,0,0,0,0,0,0,0,0,0,0,0,0,0,0,0]
[null,null,null,null,54,1.5,null,null,null,null,null,null,null,null,null,null,null,null,null,null,null,null,null,null,null,null,null,null,null,null,null,null,null,null,null,null,null,null,null,null,null,null,null,null,null,null,null,null,null,null,null,null,null,null,null,null,null,0,0,0,0,0,0,0,0,0,0,0,0,0,0,0,0,0,0,0,0,0,0,0,0,0,0,0,0,0,0,0,0,0,0,0,0,0,0,0,0,0,0,0,0,0,0,0,0,0,0]
[null,"82204 82208 82210",null,"Optipress-Aquaplus-Gradsitzventil",15,5.5,null,null,null,null,null,null,null,null,null,null,null,null,null,null,null,null,null,null,null,null,null,null,null,null,null,null,null,null,null,null,null,null,null,null,null,null,null,null,null,null,null,null,null,null,null,null,null,null,null,null,null,0,0,0,0,0,0,0,0,0,0,0,0,0,0,0,0,0,0,0,0,0,0,0,0,0,0,0,0,0,0,0,0,0,0,0,0,0,0,0,0,0,0,0,0,0,0,0,0,0,0]
[null,null,null,null,18,5.7,null,null,null,null,null,null,null,null,null,null,null,null,null,null,null,null,null,null,null,null,null,null,null,null,null,null,null,null,null,null,null,null,null,null,null,null,null,null,null,null,null,null,null,null,null,null,null,null,null,null,null,0,0,0,0,0,0,0,0,0,0,0,0,0,0,0,0,0,0,0,0,0,0,0,0,0,0,0,0,0,0,0,0,0,0,0,0,0,0,0,0,0,0,0,0,0,0,0,0,0,0]
[null,null,null,null,22,7.4,null,null,null,null,null,null,null,null,null,null,null,null,null,null,null,null,null,null,null,null,null,null,null,null,null,null,null,null,null,null,null,null,null,null,null,null,null,null,null,null,null,null,null,null,null,null,null,null,null,null,null,0,0,0,0,0,0,0,0,0,0,0,0,0,0,0,0,0,0,0,0,0,0,0,0,0,0,0,0,0,0,0,0,0,0,0,0,0,0,0,0,0,0,0,0,0,0,0,0,0,0]
[null,null,null,null,28,7.1,null,null,null,null,null,null,null,null,null,null,null,null,null,null,null,null,null,null,null,null,null,null,null,null,null,null,null,null,null,null,null,null,null,null,null,null,null,null,null,null,null,null,null,null,null,null,null,null,null,null,null,0,0,0,0,0,0,0,0,0,0,0,0,0,0,0,0,0,0,0,0,0,0,0,0,0,0,0,0,0,0,0,0,0,0,0,0,0,0,0,0,0,0,0,0,0,0,0,0,0,0]
[null,null,null,null,35,6.5,null,null,null,null,null,null,null,null,null,null,null,null,null,null,null,null,null,null,null,null,null,null,null,null,null,null,null,null,null,null,null,null,null,null,null,null,null,null,null,null,null,null,null,null,null,null,null,null,null,null,null,0,0,0,0,0,0,0,0,0,0,0,0,0,0,0,0,0,0,0,0,0,0,0,0,0,0,0,0,0,0,0,0,0,0,0,0,0,0,0,0,0,0,0,0,0,0,0,0,0,0]
[null,null,null,null,42,8.5,null,null,null,null,null,null,null,null,null,null,null,null,null,null,null,null,null,null,null,null,null,null,null,null,null,null,null,null,null,null,null,null,null,null,null,null,null,null,null,null,null,null,null,null,null,null,null,null,null,null,null,0,0,0,0,0,0,0,0,0,0,0,0,0,0,0,0,0,0,0,0,0,0,0,0,0,0,0,0,0,0,0,0,0,0,0,0,0,0,0,0,0,0,0,0,0,0,0,0,0,0]
[null,null,null,null,54,8,null,null,null,null,null,null,null,null,null,null,null,null,null,null,null,null,null,null,null,null,null,null,null,null,null,null,null,null,null,null,null,null,null,null,null,null,null,null,null,null,null,null,null,null,null,null,null,null,null,null,null,0,0,0,0,0,0,0,0,0,0,0,0,0,0,0,0,0,0,0,0,0,0,0,0,0,0,0,0,0,0,0,0,0,0,0,0,0,0,0,0,0,0,0,0,0,0,0,0,0,0]
[null,82212,null,"Optipress-Aquaplus-\nUP-Gradsitz-ventil",15,6.5,null,null,null,null,null,null,null,null,null,null,null,null,null,null,null,null,null,null,null,null,null,null,null,null,null,null,null,null,null,null,null,null,null,null,null,null,null,null,null,null,null,null,null,null,null,null,null,null,null,null,null,0,0,0,0,0,0,0,0,0,0,0,0,0,0,0,0,0,0,0,0,0,0,0,0,0,0,0,0,0,0,0,0,0,0,0,0,0,0,0,0,0,0,0,0,0,0,0,0,0,0]
[null,null,null,null,18,5.7,null,null,null,null,null,null,null,null,null,null,null,null,null,null,null,null,null,null,null,null,null,null,null,null,null,null,null,null,null,null,null,null,null,null,null,null,null,null,null,null,null,null,null,null,null,null,null,null,null,null,null,0,0,0,0,0,0,0,0,0,0,0,0,0,0,0,0,0,0,0,0,0,0,0,0,0,0,0,0,0,0,0,0,0,0,0,0,0,0,0,0,0,0,0,0,0,0,0,0,0,0]
[null,null,null,null,22,7.4,null,null,null,null,null,null,null,null,null,null,null,null,null,null,null,null,null,null,null,null,null,null,null,null,null,null,null,null,null,null,null,null,null,null,null,null,null,null,null,null,null,null,null,null,null,null,null,null,null,null,null,0,0,0,0,0,0,0,0,0,0,0,0,0,0,0,0,0,0,0,0,0,0,0,0,0,0,0,0,0,0,0,0,0,0,0,0,0,0,0,0,0,0,0,0,0,0,0,0,0,0]
[null,null,null,null,28,7.1,null,null,null,null,null,null,null,null,null,null,null,null,null,null,null,null,null,null,null,null,null,null,null,null,null,null,null,null,null,null,null,null,null,null,null,null,null,null,null,null,null,null,null,null,null,null,null,null,null,null,null,0,0,0,0,0,0,0,0,0,0,0,0,0,0,0,0,0,0,0,0,0,0,0,0,0,0,0,0,0,0,0,0,0,0,0,0,0,0,0,0,0,0,0,0,0,0,0,0,0,0]
[null,"Total z",null,null,null,null,{"$f":"BF84","v":0},{"$f":"BG84","v":0},{"$f":"BH84","v":0},{"$f":"BI84","v":0},{"$f":"BJ84","v":0},{"$f":"BK84","v":0},{"$f":"BL84","v":0},{"$f":"BM84","v":0},{"$f":"BN84","v":0},{"$f":"BO84","v":0},{"$f":"BP84","v":0},{"$f":"BQ84","v":0},{"$f":"BR84","v":0},{"$f":"BS84","v":0},{"$f":"BT84","v":0},{"$f":"BU84","v":0},{"$f":"BV84","v":0},{"$f":"BW84","v":0},{"$f":"BX84","v":0},{"$f":"BY84","v":0},{"$f":"BZ84","v":0},{"$f":"CA84","v":0},{"$f":"CB84","v":0},{"$f":"CC84","v":0},{"$f":"CD84","v":0},{"$f":"CE84","v":0},{"$f":"CF84","v":0},{"$f":"CG84","v":0},{"$f":"CH84","v":0},{"$f":"CI84","v":0},{"$f":"CJ84","v":0},{"$f":"CK84","v":0},{"$f":"CL84","v":0},{"$f":"CM84","v":0},{"$f":"CN84","v":0},{"$f":"CO84","v":0},{"$f":"CP84","v":0},{"$f":"CQ84","v":0},{"$f":"CR84","v":0},{"$f":"CS84","v":0},{"$f":"CT84","v":0},{"$f":"CU84","v":0},{"$f":"CV84","v":0},{"$f":"CW84","v":0},{"$f":"CX84","v":0},{"$f":"CY84","v":0},{"$f":"CZ84","v":0},{"$f":"DA84","v":0},{"$f":"DB84","v":0},{"$f":"DC84","v":0},null,{"$f":"SUM(BF6:BF83)","v":0},{"$f":"SUM(BG6:BG83)","v":0},0,0,0,0,0,0,0,0,0,0,0,0,0,0,0,0,0,0,0,0,0,0,0,0,0,0,0,0,0,0,0,0,0,0,0,0,0,0,0,0,0,0,0,0,0,0,0,0]
[]
[]
[null,{"$f":" Druckverlust!B24","v":"11.2017 V1.01. ©  R. Nussbaum SA"}]
[null,{"$f":"Druckverlust!B25","v":"L'utilisateur est seul responsable de l'exactitude"}]

{"sheet":"Optiflex-Profix","index":2,"n_rows":46,"n_cols":108,"rows_kept":46,"cut":false,"hidden":false,"merged":[[10,3,12,3],[24,1,26,1],[24,2,26,2],[24,3,26,3],[41,1,41,5],[27,1,32,1],[27,2,29,2],[27,3,29,3],[30,2,32,2],[30,3,32,3],[38,1,40,1],[38,2,40,2],[38,3,40,3],[33,1,37,1],[33,2,37,2],[33,3,37,3],[27,107,37,107],[5,1,6,1],[5,2,6,2],[5,3,6,3],[13,1,17,1],[13,2,17,2],[13,3,17,3],[18,1,23,1],[18,2,20,2],[18,3,20,3],[21,2,23,2],[21,3,23,3],[7,1,12,1],[7,2,9,2],[7,3,9,3],[10,2,12,2],[1,5,3,5],[1,4,3,4],[1,3,3,3],[1,2,3,2],[1,1,3,1]]}
[]
[null,"Nr.","Symbol","Bezeichnung","d","z","TS","TS","TS","TS","TS","TS","TS","TS","TS","TS","TS","TS","TS","TS","TS","TS","TS","TS","TS","TS","TS","TS","TS","TS","TS","TS","TS","TS","TS","TS","TS","TS","TS","TS","TS","TS","TS","TS","TS","TS","TS","TS","TS","TS","TS","TS","TS","TS","TS","TS"]
[null,null,null,null,null,null,1,2,3,4,5,6,7,8,9,10,11,12,13,14,15,16,17,18,19,20,21,22,23,24,25,26,27,28,29,30,31,32,33,34,35,36,37,38,39,40,41,42,43,44,45,46,47,48,49,50]
[null,null,null,null,null,null,"Stk.","Stk.","Stk.","Stk.","Stk.","Stk.","Stk.","Stk.","Stk.","Stk.","Stk.","Stk.","Stk.","Stk.","Stk.","Stk.","Stk.","Stk.","Stk.","Stk.","Stk","Stk","Stk","Stk","Stk","Stk","Stk","Stk","Stk","Stk","Stk","Stk","Stk","Stk","Stk","Stk","Stk","Stk","Stk","Stk","Stk","Stk","Stk","Stk","Stk","Stk","Stk","Stk","Stk","Stk"]
[null,null,null,"Zeta-Total Optiflex-Profix",null,null,{"$f":"G42","v":0},{"$f":"H42","v":0},0,0,0,0,0,0,0,0,0,0,0,0,0,0,0,0,0,0,0,0,0,0,0,0,0,0,0,0,0,0,0,0,0,0,0,0,0,0,0,0,0,{"$f":"AX42","v":0},0,0,0,0,0,0]
[null,"85100\n85105 ",null,"Optiflex-Profix-Dose 90° ","½ x 16",1.4,null,null,null,null,null,null,null,null,null,null,null,null,null,null,null,null,null,null,null,null,null,null,null,null,null,null,null,null,null,null,null,null,null,null,null,null,null,null,null,null,null,null,null,null,null,null,null,null,null,null,null,{"$f":"$F6*G6","v":0},0,0,0,0,0,0,0,0,0,0,0,0,0,0,0,0,0,0,0,{"$f":"$F6*AA6","v":0},0,0,0,0,0,0,0,0,0,0,0,0,0,0,0,0,0,0,0,0,0,0,{"$f":"$F6*AX6","v":0},0,0,0,0,0,0]
[null,null,null,null,"½ x 20",1.4,null,null,null,null,null,null,null,null,null,null,null,null,null,null,null,null,null,null,null,null,null,null,null,null,null,null,null,null,null,null,null,null,null,null,null,null,null,null,null,null,null,null,null,null,null,null,null,null,null,null,null,{"$f":"$F7*G7","v":0},{"$f":"$F7*H7","v":0},0,0,0,0,0,0,0,0,0,{"$f":"$F7*R7","v":0},0,0,0,0,0,0,0,0,0,0,0,0,0,0,0,0,0,0,0,0,0,0,0,0,0,0,0,0,0,0,0,0,0,0,0,0,0,0]
[null,"85110\n85111","Durchfluss","Optiflex-Profix-Doppeldose 90°","½ x 16 x 16",1.2,null,null,null,null,null,null,null,null,null,null,null,null,null,null,null,null,null,null,null,null,null,null,null,null,null,null,null,null,null,null,null,null,null,null,null,null,null,null,null,null,null,null,null,null,null,null,null,null,null,null,null,0,0,0,0,0,0,0,0,0,0,0,0,0,0,0,0,0,0,0,0,0,0,0,0,0,0,0,0,0,0,0,0,0,0,0,0,0,0,0,0,0,0,0,0,0,0,0,0,0,0]
[null,null,null,null,"½ x 20 x 16",1.3,null,null,null,null,null,null,null,null,null,null,null,null,null,null,null,null,null,null,null,null,null,null,null,null,null,null,null,null,null,null,null,null,null,null,null,null,null,null,null,null,null,null,null,null,null,null,null,null,null,null,null,0,0,0,0,0,0,0,0,0,0,0,0,0,0,0,0,0,0,0,0,0,0,0,0,0,0,0,0,0,0,0,0,0,0,0,0,0,0,0,0,0,0,{"$f":"$F9*AW9","v":0},0,0,0,0,0,0,0]
[null,null,null,null,"½ x 20 x 20",1.4,null,null,null,null,null,null,null,null,null,null,null,null,null,null,null,null,null,null,null,null,null,null,null,null,null,null,null,null,null,null,null,null,null,null,null,null,null,null,null,null,null,null,null,null,null,null,null,null,null,null,null,0,{"$f":"$F10*H10","v":0},{"$f":"$F10*I10","v":0},{"$f":"$F10*J10","v":0},{"$f":"$F10*K10","v":0},{"$f":"$F10*L10","v":0},{"$f":"$F10*M10","v":0},{"$f":"$F10*N10","v":0},{"$f":"$F10*O10","v":0},{"$f":"$F10*P10","v":0},{"$f":"$F10*Q10","v":0},{"$f":"$F10*R10","v":0},{"$f":"$F10*S10","v":0},{"$f":"$F10*T10","v":0},{"$f":"$F10*U10","v":0},{"$f":"$F10*V10","v":0},{"$f":"$F10*W10","v":0},{"$f":"$F10*X10","v":0},{"$f":"$F10*Y10","v":0},{"$f":"$F10*Z10","v":0},{"$f":"$F10*AA10","v":0},{"$f":"$F10*AB10","v":0},{"$f":"$F10*AC10","v":0},{"$f":"$F10*AD10","v":0},{"$f":"$F10*AE10","v":0},{"$f":"$F10*AF10","v":0},{"$f":"$F10*AG10","v":0},{"$f":"$F10*AH10","v":0},{"$f":"$F10*AI10","v":0},{"$f":"$F10*AJ10","v":0},{"$f":"$F10*AK10","v":0},{"$f":"$F10*AL10","v":0},{"$f":"$F10*AM10","v":0},{"$f":"$F10*AN10","v":0},{"$f":"$F10*AO10","v":0},{"$f":"$F10*AP10","v":0},{"$f":"$F10*AQ10","v":0},{"$f":"$F10*AR10","v":0},{"$f":"$F10*AS10","v":0},{"$f":"$F10*AT10","v":0},{"$f":"$F10*AU10","v":0},{"$f":"$F10*AV10","v":0},0,0,0,0,0,0,0,0]
[null,null,"Ausfluss","Optiflex-Profix-Doppeldose 90°","½ x 16 x 16",1.3,null,null,null,null,null,null,null,null,null,null,null,null,null,null,null,null,null,null,null,null,null,null,null,null,null,null,null,null,null,null,null,null,null,null,null,null,null,null,null,null,null,null,null,null,null,null,null,null,null,null,null,0,0,0,0,0,0,0,0,0,0,0,0,0,0,0,0,0,0,0,0,0,0,0,0,0,0,0,0,0,0,0,0,0,0,0,0,0,0,0,0,0,0,0,0,0,0,0,0,0,0]
[null,null,null,null,"½ x 16 x 16",2.1,null,null,null,null,null,null,null,null,null,null,null,null,null,null,null,null,null,null,null,null,null,null,null,null,null,null,null,null,null,null,null,null,null,null,null,null,null,null,null,null,null,null,null,null,null,null,null,null,null,null,null,0,0,0,0,0,0,0,0,0,0,0,0,0,0,0,0,0,0,0,0,0,0,0,0,0,0,0,0,0,0,0,0,0,0,0,0,0,0,0,0,0,0,0,0,0,0,0,0,0,0]
[null,null,null,null,"½ x 20 x 20",2.1,null,null,null,null,null,null,null,null,null,null,null,null,null,null,null,null,null,null,null,null,null,null,null,null,null,null,null,null,null,null,null,null,null,null,null,null,null,null,null,null,null,null,null,null,null,null,null,null,null,null,null,0,0,0,0,0,0,0,0,0,0,0,0,0,0,0,0,0,0,0,0,0,0,0,0,0,0,0,0,0,0,0,0,0,0,0,0,0,0,0,0,0,0,0,0,0,0,0,0,0,0]
[null,85115,null,"Optiflex-Profix-Anschlusswinkel","½ x 16-25 mm",1.4,null,null,null,null,null,null,null,null,null,null,null,null,null,null,null,null,null,null,null,null,null,null,null,null,null,null,null,null,null,null,null,null,null,null,null,null,null,null,null,null,null,null,null,null,null,null,null,null,null,null,null,0,0,0,0,0,0,0,0,0,0,0,0,0,0,0,0,0,0,0,0,0,0,0,0,0,0,0,0,0,0,0,0,0,0,0,0,0,0,0,0,0,0,0,0,0,0,0,0,0,0]
[null,null,null,null,"½ x 20-25 mm",1.4,null,null,null,null,null,null,null,null,null,null,null,null,null,null,null,null,null,null,null,null,null,null,null,null,null,null,null,null,null,null,null,null,null,null,null,null,null,null,null,null,null,null,null,null,null,null,null,null,null,null,null,0,0,0,0,0,0,0,0,0,0,0,0,0,0,0,0,0,0,0,0,0,0,0,0,0,0,0,0,0,0,0,0,0,0,0,0,0,0,0,0,0,0,0,0,0,0,0,0,0,0]
[null,null,null,null,"¾ x 20-27 mm",1.3,null,null,null,null,null,null,null,null,null,null,null,null,null,null,null,null,null,null,null,null,null,null,null,null,null,null,null,null,null,null,null,null,null,null,null,null,null,null,null,null,null,null,null,null,null,null,null,null,null,null,null,0,0,0,0,0,0,0,0,0,0,0,0,0,0,0,0,0,0,0,0,0,0,0,0,0,0,0,0,0,0,0,0,0,0,0,0,0,0,0,0,0,0,0,0,0,0,0,0,0,0]
[null,null,null,null,"½ x 16-39 mm",1,null,null,null,null,null,null,null,null,null,null,null,null,null,null,null,null,null,null,null,null,null,null,null,null,null,null,null,null,null,null,null,null,null,null,null,null,null,null,null,null,null,null,null,null,null,null,null,null,null,null,null,0,0,0,0,0,0,0,0,0,0,0,0,0,0,0,0,0,0,0,0,0,0,0,0,0,0,0,0,0,0,0,0,0,0,0,0,0,0,0,0,0,0,0,0,0,0,0,0,0,0]
[null,null,null,null,"½ x 20-39 mm",3.6,null,null,null,null,null,null,null,null,null,null,null,null,null,null,null,null,null,null,null,null,null,null,null,null,null,null,null,null,null,null,null,null,null,null,null,null,null,null,null,null,null,null,null,null,null,null,null,null,null,null,null,0,0,0,0,0,0,0,0,0,0,0,0,0,0,0,0,0,0,0,0,0,0,0,0,0,0,0,0,0,0,0,0,0,0,0,0,0,0,0,0,0,0,0,0,0,0,0,0,0,0]
[null,85119,"Durchfluss","Optiflex-Profix-Doppel-Anschlusswinkel","½ x 16 x 16-39 mm",0.7,null,null,null,null,null,null,null,null,null,null,null,null,null,null,null,null,null,null,null,null,null,null,null,null,null,null,null,null,null,null,null,null,null,null,null,null,null,null,null,null,null,null,null,null,null,null,null,null,null,null,null,0,0,0,0,0,0,0,0,0,0,0,0,0,0,0,0,0,0,0,0,0,0,0,0,0,0,0,0,0,0,0,0,0,0,0,0,0,0,0,0,0,0,0,0,0,0,0,0,0,0]
[null,null,null,null,"½ x 20 x 16-39 mm",1,null,null,null,null,null,null,null,null,null,null,null,null,null,null,null,null,null,null,null,null,null,null,null,null,null,null,null,null,null,null,null,null,null,null,null,null,null,null,null,null,null,null,null,null,null,null,null,null,null,null,null,0,0,0,0,0,0,0,0,0,0,0,0,0,0,0,0,0,0,0,0,0,0,0,0,0,0,0,0,0,0,0,0,0,0,0,0,0,0,0,0,0,0,0,0,0,0,0,0,0,0]
[null,null,null,null,"½ x 20 x 20-39 mm",0.9,null,null,null,null,null,null,null,null,null,null,null,null,null,null,null,null,null,null,null,null,null,null,null,null,null,null,null,null,null,null,null,null,null,null,null,null,null,null,null,null,null,null,null,null,null,null,null,null,null,null,null,0,0,0,0,0,0,0,0,0,0,0,0,0,0,0,0,0,0,0,0,0,0,0,0,0,0,0,0,0,0,0,0,0,0,0,0,0,0,0,0,0,0,0,0,0,0,0,0,0,0]
[null,null,"Ausfluss","Optiflex-Profix-Doppel-Anschlusswinkel","½ x 16 x 16-39 mm",1.6,null,null,null,null,null,null,null,null,null,null,null,null,null,null,null,null,null,null,null,null,null,null,null,null,null,null,null,null,null,null,null,null,null,null,null,null,null,null,null,null,null,null,null,null,null,null,null,null,null,null,null,0,0,0,0,0,0,0,0,0,0,0,0,0,0,0,0,0,0,0,0,0,0,0,0,0,0,0,0,0,0,0,0,0,0,0,0,0,0,0,0,0,0,0,{"$f":"$F22*AX22","v":0},{"$f":"$F22*AY22","v":0},{"$f":"$F22*AZ22","v":0},{"$f":"$F22*BA22","v":0},{"$f":"$F22*BB22","v":0},{"$f":"$F22*BC22","v":0},{"$f":"$F22*BD22","v":0}]
[null,null,null,null,"½ x 20 x 16-39 mm",3.1,null,null,null,null,null,null,null,null,null,null,null,null,null,null,null,null,null,null,null,null,null,null,null,null,null,null,null,null,null,null,null,null,null,null,null,null,null,null,null,null,null,null,null,null,null,null,null,null,null,null,null,0,0,0,0,0,0,0,0,0,0,0,0,0,0,0,0,0,0,0,0,0,0,0,0,0,0,0,0,0,0,0,0,0,0,0,0,0,0,0,0,0,0,0,0,0,0,0,0,0,0]
[null,null,null,null,"½ x 20 x 20-39 mm",3.1,null,null,null,null,null,null,null,null,null,null,null,null,null,null,null,null,null,null,null,null,null,null,null,null,null,null,null,null,null,null,null,null,null,null,null,null,null,null,null,null,null,null,null,null,null,null,null,null,null,null,null,0,0,0,0,0,0,0,0,0,0,0,0,0,0,0,0,0,0,0,0,0,0,0,0,0,0,0,0,0,0,0,0,0,0,0,0,0,0,0,0,0,0,0,0,0,0,0,0,0,0]
[null,85140,null,"Optiflex-Profix-Bogen 90°","16 x 16",0.6,null,null,null,null,null,null,null,null,null,null,null,null,null,null,null,null,null,null,null,null,null,null,null,null,null,null,null,null,null,null,null,null,null,null,null,null,null,null,null,null,null,null,null,null,null,null,null,null,null,null,null,0,0,0,0,0,0,0,0,0,0,0,0,0,0,0,0,0,0,0,0,0,0,0,0,0,0,0,0,0,0,0,0,0,0,0,0,0,0,0,0,0,0,0,0,0,0,0,0,0,0]
[null,null,null,null,"20 x 20",0.5,null,null,null,null,null,null,null,null,null,null,null,null,null,null,null,null,null,null,null,null,null,null,null,null,null,null,null,null,null,null,null,null,null,null,null,null,null,null,null,null,null,null,null,null,null,null,null,null,null,null,null,0,0,0,0,0,0,0,0,0,0,0,0,0,0,0,0,0,0,0,0,0,0,0,0,0,0,0,0,0,0,0,0,0,0,0,0,0,0,0,0,0,0,0,0,0,0,0,0,0,0]
[null,null,null,null,"25 x 25",0.5,null,null,null,null,null,null,null,null,null,null,null,null,null,null,null,null,null,null,null,null,null,null,null,null,null,null,null,null,null,null,null,null,null,null,null,null,null,null,null,null,null,null,null,null,null,null,null,null,null,null,null,0,0,0,0,0,0,0,0,0,0,0,0,0,0,0,0,0,0,0,0,0,0,0,0,0,0,0,0,0,0,0,0,0,0,0,0,0,0,0,0,0,0,0,0,0,0,0,0,0,0]
[null,85142,"Durchfluss","Optiflex-Profix-    T-Stück",16,0.4,null,null,null,null,null,null,null,null,null,null,null,null,null,null,null,null,null,null,null,null,null,null,null,null,null,null,null,null,null,null,null,null,null,null,null,null,null,null,null,null,null,null,null,null,null,null,null,null,null,null,null,0,0,0,0,0,0,0,0,0,0,0,0,0,0,0,0,0,0,0,0,0,0,0,0,0,0,0,0,0,0,0,0,0,0,0,0,0,0,0,0,0,0,0,0,0,0,0,0,0,0,"Bei reduzierten T-Stücken wird der Widerstandswert des egalen T-Stückes mit der kleinsten Dimension des reduzierten T-Stückes für den zu berechnenden Fliessweg angesetzt."]
[null,null,null,null,20,0.3,null,null,null,null,null,null,null,null,null,null,null,null,null,null,null,null,null,null,null,null,null,null,null,null,null,null,null,null,null,null,null,null,null,null,null,null,null,null,null,null,null,null,null,null,null,null,null,null,null,null,null,0,0,0,0,0,0,0,0,0,0,0,0,0,0,0,0,0,0,0,0,0,0,0,0,0,0,0,0,0,0,0,0,0,0,0,0,0,0,0,0,0,0,0,0,0,0,0,0,0,0]
[null,null,null,null,25,0.2,null,null,null,null,null,null,null,null,null,null,null,null,null,null,null,null,null,null,null,null,null,null,null,null,null,null,null,null,null,null,null,null,null,null,null,null,null,null,null,null,null,null,null,null,null,null,null,null,null,null,null,0,0,0,0,0,0,0,0,0,0,0,0,0,0,0,0,0,0,0,0,0,0,0,0,0,0,0,0,0,0,0,0,0,0,0,0,0,0,0,0,0,0,0,0,0,0,0,0,0,0]
[null,null,"Abzweig","Optiflex-Profix-    T-Stück",16,0.9,null,null,null,null,null,null,null,null,null,null,null,null,null,null,null,null,null,null,null,null,null,null,null,null,null,null,null,null,null,null,null,null,null,null,null,null,null,null,null,null,null,null,null,null,null,null,null,null,null,null,null,0,0,0,0,0,0,0,0,0,0,0,0,0,0,0,0,0,0,0,0,0,0,0,0,0,0,0,0,0,0,0,0,0,0,0,0,0,0,0,0,0,0,0,0,0,0,0,0,0,0]
[null,null,null,null,20,0.9,null,null,null,null,null,null,null,null,null,null,null,null,null,null,null,null,null,null,null,null,null,null,null,null,null,null,null,null,null,null,null,null,null,null,null,null,null,null,null,null,null,null,null,null,null,null,null,null,null,null,null,0,0,0,0,0,0,0,0,0,0,0,0,0,0,0,0,0,0,0,0,0,0,0,0,0,0,0,0,0,0,0,0,0,0,0,0,0,0,0,0,0,0,0,0,0,0,0,0,0,0]
[null,null,null,null,25,1.1000000000000001,null,null,null,null,null,null,null,null,null,null,null,null,null,null,null,null,null,null,null,null,null,null,null,null,null,null,null,null,null,null,null,null,null,null,null,null,null,null,null,null,null,null,null,null,null,null,null,null,null,null,null,0,0,0,0,0,0,0,0,0,0,0,0,0,0,0,0,0,0,0,0,0,0,0,0,0,0,0,0,0,0,0,0,0,0,0,0,0,0,0,0,0,0,0,0,0,0,0,0,0,0]
[null,85136,null,"Optiflex-Profix-Kupplung","16 x 16",0.3,null,null,null,null,null,null,null,null,null,null,null,null,null,null,null,null,null,null,null,null,null,null,null,null,null,null,null,null,null,null,null,null,null,null,null,null,null,null,null,null,null,null,null,null,null,null,null,null,null,null,null,0,0,0,0,0,0,0,0,0,0,0,0,0,0,0,0,0,0,0,0,0,0,0,0,0,0,0,0,0,0,0,0,0,0,0,0,0,0,0,0,0,0,0,0,0,0,0,0,0,0]
[null,null,null,null,"20 x 20",0.2,null,null,null,null,null,null,null,null,null,null,null,null,null,null,null,null,null,null,null,null,null,null,null,null,null,null,null,null,null,null,null,null,null,null,null,null,null,null,null,null,null,null,null,null,null,null,null,null,null,null,null,0,0,0,0,0,0,0,0,0,0,0,0,0,0,0,0,0,0,0,0,0,0,0,0,0,0,0,0,0,0,0,0,0,0,0,0,0,0,0,0,0,0,0,0,0,0,0,0,0,0]
[null,null,null,null,"20 x 16",0.7,null,null,null,null,null,null,null,null,null,null,null,null,null,null,null,null,null,null,null,null,null,null,null,null,null,null,null,null,null,null,null,null,null,null,null,null,null,null,null,null,null,null,null,null,null,null,null,null,null,null,null,0,0,0,0,0,0,0,0,0,0,0,0,0,0,0,0,0,0,0,0,0,0,0,0,0,0,0,0,0,0,0,0,0,0,0,0,0,0,0,0,0,0,0,0,0,0,0,0,0,0]
[null,null,null,null,"25 x 25",0.1,null,null,null,null,null,null,null,null,null,null,null,null,null,null,null,null,null,null,null,null,null,null,null,null,null,null,null,null,null,null,null,null,null,null,null,null,null,null,null,null,null,null,null,null,null,null,null,null,null,null,null,0,0,0,0,0,0,0,0,0,0,0,0,0,0,0,0,0,0,0,0,0,0,0,0,0,0,0,0,0,0,0,0,0,0,0,0,0,0,0,0,0,0,0,0,0,0,0,0,0,0]
[null,null,null,null,"25 x 20",1,null,null,null,null,null,null,null,null,null,null,null,null,null,null,null,null,null,null,null,null,null,null,null,null,null,null,null,null,null,null,null,null,null,null,null,null,null,null,null,null,null,null,null,null,null,null,null,null,null,null,null,0,0,0,0,0,0,0,0,0,0,0,0,0,0,0,0,0,0,0,0,0,0,0,0,0,0,0,0,0,0,0,0,0,0,0,0,0,0,0,0,0,0,0,0,0,0,0,0,0,0]
[null,"86002 / 86003 mit 85150",null,"Optiflex-Verteiler",16,1,null,null,null,null,null,null,null,null,null,null,null,null,null,null,null,null,null,null,null,null,null,null,null,null,null,null,null,null,null,null,null,null,null,null,null,null,null,null,null,null,null,null,null,null,null,null,null,null,null,null,null,0,0,0,0,0,0,0,0,0,0,0,0,0,0,0,0,0,0,0,0,0,0,0,0,0,0,0,0,0,0,0,0,0,0,0,0,0,0,0,0,0,0,0,0,0,0,0,0,0,0]
[null,null,null,null,20,1,null,null,null,null,null,null,null,null,null,null,null,null,null,null,null,null,null,null,null,null,null,null,null,null,null,null,null,null,null,null,null,null,null,null,null,null,null,null,null,null,null,null,null,null,null,null,null,null,null,null,null,0,0,0,0,0,0,0,0,0,0,0,0,0,0,0,0,0,0,0,0,0,0,0,0,0,0,0,0,0,0,0,0,0,0,0,0,0,0,0,0,0,0,0,0,0,0,0,0,0,0]
[null,null,null,null,25,1,null,null,null,null,null,null,null,null,null,null,null,null,null,null,null,null,null,null,null,null,null,null,null,null,null,null,null,null,null,null,null,null,null,null,null,null,null,null,null,null,null,null,null,null,null,null,null,null,null,null,null,0,0,0,0,0,0,0,0,0,0,0,0,0,0,0,0,0,0,0,0,0,0,0,0,0,0,0,0,0,0,0,0,0,0,0,0,0,0,0,0,0,0,0,0,0,0,0,0,0,0]
[null,"Total z",null,null,null,null,{"$f":"BF42","v":0},0,0,0,0,0,0,0,0,0,0,0,0,0,0,0,0,0,0,0,0,0,0,0,0,0,0,0,0,0,0,0,0,0,0,0,0,0,0,0,0,0,0,{"$f":"CW42","v":0},0,0,0,0,0,0,null,{"$f":"SUM(BF6:BF41)","v":0},{"$f":"SUM(BG6:BG41)","v":0},0,0,0,0,0,0,0,0,0,0,0,0,0,0,0,0,0,0,0,0,0,0,0,0,0,0,0,0,0,0,0,0,0,0,0,0,0,0,0,0,0,{"$f":"SUM(CW6:CW41)","v":0},0,0,0,0,0,0]
[]
[]
[null,{"$f":"Druckverlust!B24","v":"11.2017 V1.01. ©  R. Nussbaum SA"}]
[null,{"$f":"Druckverlust!B25","v":"L'utilisateur est seul responsable de l'exactitude"}]

{"sheet":"Optiflex-Flowpress","index":3,"n_rows":68,"n_cols":108,"rows_kept":68,"cut":false,"hidden":false,"merged":[[5,1,6,1],[5,2,6,2],[5,3,6,3],[1,1,3,1],[1,2,3,2],[1,3,3,3],[1,4,3,4],[1,5,3,5],[26,1,32,1],[26,2,32,2],[26,3,32,3],[7,1,12,1],[7,2,9,2],[7,3,9,3],[10,2,12,2],[10,3,12,3],[13,1,19,1],[13,2,19,2],[13,3,19,3],[20,1,25,1],[20,2,22,2],[20,3,22,3],[23,2,25,2],[23,3,25,3],[33,107,59,107],[40,2,46,2],[40,3,46,3],[63,1,63,5],[33,1,46,1],[33,2,39,2],[33,3,39,3],[47,1,59,1],[47,2,59,2],[47,3,59,3],[60,1,62,1],[60,2,62,2],[60,3,62,3]]}
[]
[null,"Nr.","Symbol","Bezeichnung","d","z","TS","TS","TS","TS","TS","TS","TS","TS","TS","TS","TS","TS","TS","TS","TS","TS","TS","TS","TS","TS","TS","TS","TS","TS","TS","TS","TS","TS","TS","TS","TS","TS","TS","TS","TS","TS","TS","TS","TS","TS","TS","TS","TS","TS","TS","TS","TS","TS","TS","TS"]
[null,null,null,null,null,null,1,2,3,4,5,6,7,8,9,10,11,12,13,14,15,16,17,18,19,20,21,22,23,24,25,26,27,28,29,30,31,32,33,34,35,36,37,38,39,40,41,42,43,44,45,46,47,48,49,50]
[null,null,null,null,null,null,"Stk.","Stk.","Stk.","Stk.","Stk.","Stk.","Stk.","Stk.","Stk.","Stk.","Stk.","Stk.","Stk.","Stk.","Stk.","Stk.","Stk.","Stk.","Stk.","Stk.","Stk","Stk","Stk","Stk","Stk","Stk","Stk","Stk","Stk","Stk","Stk","Stk","Stk","Stk","Stk","Stk","Stk","Stk","Stk","Stk","Stk","Stk","Stk","Stk","Stk","Stk","Stk","Stk","Stk","Stk"]
[null,null,null,"Zeta-Total Optiflex-Flowpress",null,null,{"$f":"G64","v":0},{"$f":"H64","v":0},0,0,0,0,0,0,0,0,0,0,0,0,0,0,0,0,0,0,0,0,0,0,0,0,0,0,0,0,0,0,0,0,0,0,0,0,0,0,0,0,0,0,0,0,0,0,0,0]
[null,"84200\n84205",null,"Optiflex-Flow-press-Dose 90° ","½ x 16",4,null,null,null,null,null,null,null,null,null,null,null,null,null,null,null,null,null,null,null,null,null,null,null,null,null,null,null,null,null,null,null,null,null,null,null,null,null,null,null,null,null,null,null,null,null,null,null,null,null,null,null,{"$f":"$F6*G6","v":0},0,0,0,0,0,0,0,0,0,0,0,0,0,0,0,{"$f":"$F6*W6","v":0},0,0,0,0,0,0,0,0,0,0,0,0,0,0,0,{"$f":"$F6*AM6","v":0},0,0,0,0,0,0,0,0,0,0,0,0,0,0,0,{"$f":"$F6*BC6","v":0},0]
[null,null,null,null,"½ x 20",2.9,null,null,null,null,null,null,null,null,null,null,null,null,null,null,null,null,null,null,null,null,null,null,null,null,null,null,null,null,null,null,null,null,null,null,null,null,null,null,null,null,null,null,null,null,null,null,null,null,null,null,null,0,0,0,0,0,0,0,0,0,0,0,0,0,0,0,0,0,0,0,0,0,0,0,0,0,0,0,0,0,0,0,0,0,0,0,0,0,0,0,0,0,0,0,0,0,0,0,0,0,0]
[null,"84210\n84211","Durchfluss","Optiflex-Flowpress-Doppeldose 90°","½ x 16 x 16",2.4,null,null,null,null,null,null,null,null,null,null,null,null,null,null,null,null,null,null,null,null,null,null,null,null,null,null,null,null,null,null,null,null,null,null,null,null,null,null,null,null,null,null,null,null,null,null,null,null,null,null,null,0,0,0,0,0,0,0,0,0,0,0,0,0,0,0,0,0,0,0,0,0,0,0,0,0,0,0,0,0,0,0,0,0,0,0,0,0,0,0,0,0,0,0,0,0,0,0,0,0,0]
[null,null,null,null,"½ x 20 x 16",2.4,null,null,null,null,null,null,null,null,null,null,null,null,null,null,null,null,null,null,null,null,null,null,null,null,null,null,null,null,null,null,null,null,null,null,null,null,null,null,null,null,null,null,null,null,null,null,null,null,null,null,null,0,0,0,0,0,0,0,0,0,0,0,0,0,0,0,0,0,0,0,0,0,0,0,0,0,0,0,0,0,0,0,0,0,0,0,0,0,0,0,0,0,0,0,0,0,0,0,0,0,0]
[null,null,null,null,"½ x 20 x 20",2.7,null,null,null,null,null,null,null,null,null,null,null,null,null,null,null,null,null,null,null,null,null,null,null,null,null,null,null,null,null,null,null,null,null,null,null,null,null,null,null,null,null,null,null,null,null,null,null,null,null,null,null,0,0,0,0,0,0,0,0,0,0,0,0,0,0,0,0,0,0,0,0,0,0,0,0,0,0,0,0,0,0,0,0,0,0,0,0,0,0,0,0,0,0,0,0,0,0,0,0,0,0]
[null,null,"Ausfluss","Optiflex-Flowpress-Doppeldose 90°","½ x 16 x 16",4.0999999999999996,null,null,null,null,null,null,null,null,null,null,null,null,null,null,null,null,null,null,null,null,null,null,null,null,null,null,null,null,null,null,null,null,null,null,null,null,null,null,null,null,null,null,null,null,null,null,null,null,null,null,null,0,0,0,0,0,0,0,0,0,0,0,0,0,0,0,0,0,0,0,0,0,0,0,0,0,0,0,0,0,0,0,0,0,0,0,0,0,0,0,0,0,0,0,0,0,0,0,0,0,0]
[null,null,null,null,"½ x 16 x 16",3.9,null,null,null,null,null,null,null,null,null,null,null,null,null,null,null,null,null,null,null,null,null,null,null,null,null,null,null,null,null,null,null,null,null,null,null,null,null,null,null,null,null,null,null,null,null,null,null,null,null,null,null,0,0,0,0,0,0,0,0,0,0,0,0,0,0,0,0,0,0,0,0,0,0,0,0,0,0,0,0,0,0,0,0,0,0,0,0,0,0,0,0,0,0,0,0,0,0,0,0,0,0]
[null,null,null,null,"½ x 20 x 20",3.9,null,null,null,null,null,null,null,null,null,null,null,null,null,null,null,null,null,null,null,null,null,null,null,null,null,null,null,null,null,null,null,null,null,null,null,null,null,null,null,null,null,null,null,null,null,null,null,null,null,null,null,0,0,0,0,0,0,0,0,0,0,0,0,0,0,0,0,0,0,0,0,0,0,0,0,0,0,0,0,0,0,0,0,0,0,0,0,0,0,0,0,0,0,0,0,0,0,0,0,0,0]
[null,84215,null,"Optiflex-Flowpress-Anschlusswinkel","½ x 16-45 mm",2.1,null,null,null,null,null,null,null,null,null,null,null,null,null,null,null,null,null,null,null,null,null,null,null,null,null,null,null,null,null,null,null,null,null,null,null,null,null,null,null,null,null,null,null,null,null,null,null,null,null,null,null,0,0,0,0,0,0,0,0,0,0,0,0,0,0,0,0,0,0,0,0,0,0,0,0,0,0,0,0,0,0,0,0,0,0,0,0,0,0,0,0,0,0,0,0,0,0,0,0,0,0]
[null,null,null,null,"½ x 20-45 mm",1.7,null,null,null,null,null,null,null,null,null,null,null,null,null,null,null,null,null,null,null,null,null,null,null,null,null,null,null,null,null,null,null,null,null,null,null,null,null,null,null,null,null,null,null,null,null,null,null,null,null,null,null,0,0,0,0,0,0,0,0,0,0,0,0,0,0,0,0,0,0,0,0,0,0,0,0,0,0,0,0,0,0,0,0,0,0,0,0,0,0,0,0,0,0,0,0,0,0,0,0,0,0]
[null,null,null,null,"¾ x 20-46 mm",1.7,null,null,null,null,null,null,null,null,null,null,null,null,null,null,null,null,null,null,null,null,null,null,null,null,null,null,null,null,null,null,null,null,null,null,null,null,null,null,null,null,null,null,null,null,null,null,null,null,null,null,null,0,0,0,0,0,0,0,0,0,0,0,0,0,0,0,0,0,0,0,0,0,0,0,0,0,0,0,0,0,0,0,0,0,0,0,0,0,0,0,0,0,0,0,0,0,0,0,0,0,0]
[null,null,null,null,"½ x 16-63 mm",2.1,null,null,null,null,null,null,null,null,null,null,null,null,null,null,null,null,null,null,null,null,null,null,null,null,null,null,null,null,null,null,null,null,null,null,null,null,null,null,null,null,null,null,null,null,null,null,null,null,null,null,null,0,0,0,0,0,0,0,0,0,0,0,0,0,0,0,0,0,0,0,0,0,0,0,0,0,0,0,0,0,0,0,0,0,0,0,0,0,0,0,0,0,0,0,0,0,0,0,0,0,0]
[null,null,null,null,"½ x 20-63 mm",1.7,null,null,null,null,null,null,null,null,null,null,null,null,null,null,null,null,null,null,null,null,null,null,null,null,null,null,null,null,null,null,null,null,null,null,null,null,null,null,null,null,null,null,null,null,null,null,null,null,null,null,null,{"$f":"$F18*G18","v":0},{"$f":"$F18*H18","v":0},{"$f":"$F18*I18","v":0},{"$f":"$F18*J18","v":0},{"$f":"$F18*K18","v":0},{"$f":"$F18*L18","v":0},{"$f":"$F18*M18","v":0},{"$f":"$F18*N18","v":0},{"$f":"$F18*O18","v":0},{"$f":"$F18*P18","v":0},{"$f":"$F18*Q18","v":0},{"$f":"$F18*R18","v":0},{"$f":"$F18*S18","v":0},{"$f":"$F18*T18","v":0},{"$f":"$F18*U18","v":0},{"$f":"$F18*V18","v":0},{"$f":"$F18*W18","v":0},{"$f":"$F18*X18","v":0},{"$f":"$F18*Y18","v":0},{"$f":"$F18*Z18","v":0},{"$f":"$F18*AA18","v":0},{"$f":"$F18*AB18","v":0},{"$f":"$F18*AC18","v":0},{"$f":"$F18*AD18","v":0},{"$f":"$F18*AE18","v":0},{"$f":"$F18*AF18","v":0},{"$f":"$F18*AG18","v":0},{"$f":"$F18*AH18","v":0},{"$f":"$F18*AI18","v":0},{"$f":"$F18*AJ18","v":0},{"$f":"$F18*AK18","v":0},{"$f":"$F18*AL18","v":0},{"$f":"$F18*AM18","v":0},{"$f":"$F18*AN18","v":0},{"$f":"$F18*AO18","v":0},{"$f":"$F18*AP18","v":0},{"$f":"$F18*AQ18","v":0},{"$f":"$F18*AR18","v":0},{"$f":"$F18*AS18","v":0},{"$f":"$F18*AT18","v":0},{"$f":"$F18*AU18","v":0},{"$f":"$F18*AV18","v":0},{"$f":"$F18*AW18","v":0},{"$f":"$F18*AX18","v":0},{"$f":"$F18*AY18","v":0},{"$f":"$F18*AZ18","v":0},{"$f":"$F18*BA18","v":0},{"$f":"$F18*BB18","v":0},{"$f":"$F18*BC18","v":0},{"$f":"$F18*BD18","v":0}]
[null,null,null,null,"½ x 16-75 mm",2.1,null,null,null,null,null,null,null,null,null,null,null,null,null,null,null,null,null,null,null,null,null,null,null,null,null,null,null,null,null,null,null,null,null,null,null,null,null,null,null,null,null,null,null,null,null,null,null,null,null,null,null,0,0,0,0,0,0,0,0,0,0,0,0,0,0,0,0,0,0,0,0,0,0,0,0,0,0,0,0,0,0,0,0,0,0,0,0,0,0,0,0,0,0,0,0,0,0,0,0,0,0]
[null,null,null,null,"½ x 20-75 mm",1.7,null,null,null,null,null,null,null,null,null,null,null,null,null,null,null,null,null,null,null,null,null,null,null,null,null,null,null,null,null,null,null,null,null,null,null,null,null,null,null,null,null,null,null,null,null,null,null,null,null,null,null,0,0,0,0,0,0,0,0,0,0,0,0,0,0,0,0,{"$f":"$F20*W20","v":0},0,0,0,0,0,0,0,0,0,0,0,0,0,0,0,{"$f":"$F20*AM20","v":0},0,0,0,0,0,0,0,0,0,0,0,0,0,0,0,0,0]
[null,84219,"Durchfluss","Optiflex-Flowpress-Doppel-Anschlusswinkel","½ x 16 x 16-75 mm",2.8,null,null,null,null,null,null,null,null,null,null,null,null,null,null,null,null,null,null,null,null,null,null,null,null,null,null,null,null,null,null,null,null,null,null,null,null,null,null,null,null,null,null,null,null,null,null,null,null,null,null,null,0,0,0,0,0,0,0,0,0,0,0,0,0,0,0,0,0,0,0,0,0,0,0,0,0,0,0,0,0,0,0,0,0,0,0,0,0,0,0,0,0,0,0,0,0,0,0,0,0,0]
[null,null,null,null,"½ x 20 x 16-75 mm",2.2999999999999998,null,null,null,null,null,null,null,null,null,null,null,null,null,null,null,null,null,null,null,null,null,null,null,null,null,null,null,null,null,null,null,null,null,null,null,null,null,null,null,null,null,null,null,null,null,null,null,null,null,null,null,{"$f":"$F22*G22","v":0},0,0,0,0,0,0,0,0,0,0,0,0,0,0,0,0,0,0,0,0,0,0,0,0,0,0,0,0,0,0,0,0,0,0,0,0,{"$f":"$F22*AR22","v":0},0,0,0,0,0,0,0,0,0,0,0,0]
[null,null,null,null,"½ x 16 x 16-90 mm",2.2999999999999998,null,null,null,null,null,null,null,null,null,null,null,null,null,null,null,null,null,null,null,null,null,null,null,null,null,null,null,null,null,null,null,null,null,null,null,null,null,null,null,null,null,null,null,null,null,null,null,null,null,null,null,0,0,0,0,0,0,0,0,0,0,0,0,0,0,0,0,0,0,0,0,0,0,0,0,0,0,0,0,0,0,0,0,0,0,0,0,0,0,0,0,0,0,0,0,0,0,0,0,0,0]
[null,null,"Ausfluss","Optiflex-Flowpress-Doppel-Anschlusswinkel","½ x 16 x 16-75 mm",3.9,null,null,null,null,null,null,null,null,null,null,null,null,null,null,null,null,null,null,null,null,null,null,null,null,null,null,null,null,null,null,null,null,null,null,null,null,null,null,null,null,null,null,null,null,null,null,null,null,null,null,null,0,0,0,0,0,0,0,0,0,0,0,0,0,0,0,0,0,0,0,0,0,0,0,0,0,0,0,0,0,0,0,0,0,0,0,0,0,0,0,0,0,0,0,0,0,0,0,0,0,0]
[null,null,null,null,"½ x 20 x 16-75 mm",2.9,null,null,null,null,null,null,null,null,null,null,null,null,null,null,null,null,null,null,null,null,null,null,null,null,null,null,null,null,null,null,null,null,null,null,null,null,null,null,null,null,null,null,null,null,null,null,null,null,null,null,null,0,0,0,0,0,0,0,0,0,0,0,0,0,0,0,0,0,0,0,0,0,0,0,0,0,0,0,0,0,0,0,0,0,0,0,0,0,0,0,0,0,0,0,0,0,0,0,0,0,0]
[null,null,null,null,"½ x 16 x 16-90 mm",3.9,null,null,null,null,null,null,null,null,null,null,null,null,null,null,null,null,null,null,null,null,null,null,null,null,null,null,null,null,null,null,null,null,null,null,null,null,null,null,null,null,null,null,null,null,null,null,null,null,null,null,null,0,0,0,0,0,0,0,0,0,0,0,0,0,0,0,0,0,0,0,0,0,0,0,0,0,0,0,0,0,0,0,0,0,0,0,0,0,0,0,0,0,0,0,0,0,0,0,0,0,0]
[null,84240,null,"Optiflex-Flowpress-Bogen 90°","16 x 16",1.7,null,null,null,null,null,null,null,null,null,null,null,null,null,null,null,null,null,null,null,null,null,null,null,null,null,null,null,null,null,null,null,null,null,null,null,null,null,null,null,null,null,null,null,null,null,null,null,null,null,null,null,0,0,0,0,0,0,0,0,0,0,0,0,0,0,0,0,0,0,0,0,0,0,0,0,0,0,0,0,0,0,0,0,0,0,0,0,0,0,0,0,0,0,0,0,0,0,0,0,0,0]
[null,null,null,null,"20 x 20",1.5,null,null,null,null,null,null,null,null,null,null,null,null,null,null,null,null,null,null,null,null,null,null,null,null,null,null,null,null,null,null,null,null,null,null,null,null,null,null,null,null,null,null,null,null,null,null,null,null,null,null,null,0,0,0,0,0,0,0,0,0,0,0,0,0,0,0,0,0,0,0,0,0,0,0,0,0,0,0,0,0,0,0,0,0,0,0,0,0,0,0,0,0,0,0,0,0,0,0,0,0,0]
[null,null,null,null,"25 x 25",1.2,null,null,null,null,null,null,null,null,null,null,null,null,null,null,null,null,null,null,null,null,null,null,null,null,null,null,null,null,null,null,null,null,null,null,null,null,null,null,null,null,null,null,null,null,null,null,null,null,null,null,null,{"$f":"$F29*G29","v":0},0,0,0,0,0,0,0,0,0,0,0,0,0,0,0,{"$f":"$F29*W29","v":0},{"$f":"$F29*X29","v":0},{"$f":"$F29*Y29","v":0},{"$f":"$F29*Z29","v":0},{"$f":"$F29*AA29","v":0},{"$f":"$F29*AB29","v":0},{"$f":"$F29*AC29","v":0},{"$f":"$F29*AD29","v":0},{"$f":"$F29*AE29","v":0},{"$f":"$F29*AF29","v":0},{"$f":"$F29*AG29","v":0},{"$f":"$F29*AH29","v":0},{"$f":"$F29*AI29","v":0},{"$f":"$F29*AJ29","v":0},{"$f":"$F29*AK29","v":0},{"$f":"$F29*AL29","v":0},{"$f":"$F29*AM29","v":0},{"$f":"$F29*AN29","v":0},{"$f":"$F29*AO29","v":0},{"$f":"$F29*AP29","v":0},{"$f":"$F29*AQ29","v":0},{"$f":"$F29*AR29","v":0},{"$f":"$F29*AS29","v":0},{"$f":"$F29*AT29","v":0},{"$f":"$F29*AU29","v":0},{"$f":"$F29*AV29","v":0},{"$f":"$F29*AW29","v":0},{"$f":"$F29*AX29","v":0},{"$f":"$F29*AY29","v":0},{"$f":"$F29*AZ29","v":0},{"$f":"$F29*BA29","v":0},{"$f":"$F29*BB29","v":0},{"$f":"$F29*BC29","v":0},{"$f":"$F29*BD29","v":0}]
[null,null,null,null,"32 x 32",1.2,null,null,null,null,null,null,null,null,null,null,null,null,null,null,null,null,null,null,null,null,null,null,null,null,null,null,null,null,null,null,null,null,null,null,null,null,null,null,null,null,null,null,null,null,null,null,null,null,null,null,null,{"$f":"$F30*G30","v":0},{"$f":"$F30*H30","v":0},{"$f":"$F30*I30","v":0},{"$f":"$F30*J30","v":0},{"$f":"$F30*K30","v":0},{"$f":"$F30*L30","v":0},{"$f":"$F30*M30","v":0},{"$f":"$F30*N30","v":0},{"$f":"$F30*O30","v":0},{"$f":"$F30*P30","v":0},{"$f":"$F30*Q30","v":0},{"$f":"$F30*R30","v":0},{"$f":"$F30*S30","v":0},{"$f":"$F30*T30","v":0},{"$f":"$F30*U30","v":0},{"$f":"$F30*V30","v":0},{"$f":"$F30*W30","v":0},{"$f":"$F30*X30","v":0},{"$f":"$F30*Y30","v":0},{"$f":"$F30*Z30","v":0},{"$f":"$F30*AA30","v":0},{"$f":"$F30*AB30","v":0},{"$f":"$F30*AC30","v":0},{"$f":"$F30*AD30","v":0},{"$f":"$F30*AE30","v":0},{"$f":"$F30*AF30","v":0},{"$f":"$F30*AG30","v":0},{"$f":"$F30*AH30","v":0},{"$f":"$F30*AI30","v":0},{"$f":"$F30*AJ30","v":0},{"$f":"$F30*AK30","v":0},{"$f":"$F30*AL30","v":0},{"$f":"$F30*AM30","v":0},{"$f":"$F30*AN30","v":0},{"$f":"$F30*AO30","v":0},{"$f":"$F30*AP30","v":0},{"$f":"$F30*AQ30","v":0},{"$f":"$F30*AR30","v":0},{"$f":"$F30*AS30","v":0},{"$f":"$F30*AT30","v":0},{"$f":"$F30*AU30","v":0},{"$f":"$F30*AV30","v":0},{"$f":"$F30*AW30","v":0},{"$f":"$F30*AX30","v":0},{"$f":"$F30*AY30","v":0},{"$f":"$F30*AZ30","v":0},{"$f":"$F30*BA30","v":0},{"$f":"$F30*BB30","v":0},{"$f":"$F30*BC30","v":0},{"$f":"$F30*BD30","v":0}]
[null,null,null,null,"40 x 40",0.9,null,null,null,null,null,null,null,null,null,null,null,null,null,null,null,null,null,null,null,null,null,null,null,null,null,null,null,null,null,null,null,null,null,null,null,null,null,null,null,null,null,null,null,null,null,null,null,null,null,null,null,0,0,0,0,0,0,0,0,0,0,0,0,0,0,0,0,0,0,0,0,0,0,0,0,0,0,0,0,0,0,0,0,0,0,0,0,0,0,0,0,0,0,0,0,0,0,0,0,0,0]
[null,null,null,null,"50 x 50",0.8,null,null,null,null,null,null,null,null,null,null,null,null,null,null,null,null,null,null,null,null,null,null,null,null,null,null,null,null,null,null,null,null,null,null,null,null,null,null,null,null,null,null,null,null,null,null,null,null,null,null,null,0,0,0,0,0,0,0,0,0,0,0,0,0,0,0,0,0,0,0,0,0,0,0,0,0,0,0,0,0,0,0,0,0,0,0,0,0,0,0,0,0,0,0,0,0,0,0,0,0,0]
[null,null,null,null,"63 x 63",0.8,null,null,null,null,null,null,null,null,null,null,null,null,null,null,null,null,null,null,null,null,null,null,null,null,null,null,null,null,null,null,null,null,null,null,null,null,null,null,null,null,null,null,null,null,null,null,null,null,null,null,null,0,0,0,0,0,0,0,0,0,0,0,0,0,0,0,0,{"$f":"$F33*W33","v":0},0,0,0,0,0,0,0,0,0,0,0,0,0,0,0,{"$f":"$F33*AM33","v":0},0,0,0,0,0,0,0,0,0,0,0,0,0,0,0,0,0]
[null,84242,"Durchfluss","Optiflex-Flowpress-T-Stück",16,0.8,null,null,null,null,null,null,null,null,null,null,null,null,null,null,null,null,null,null,null,null,null,null,null,null,null,null,null,null,null,null,null,null,null,null,null,null,null,null,null,null,null,null,null,null,null,null,null,null,null,null,null,0,0,0,0,0,0,0,0,0,0,0,0,0,0,0,0,0,0,0,0,0,0,0,0,0,0,0,0,0,0,0,0,0,0,0,0,0,0,0,0,0,0,0,0,0,0,0,0,0,0,"Bei reduzierten T-Stücken wird der Widerstandswert des egalen T-Stückes mit der kleinsten Dimension des reduzierten T-Stückes für den zu berechnenden Fliessweg angesetzt."]
[null,null,null,null,20,1,null,null,null,null,null,null,null,null,null,null,null,null,null,null,null,null,null,null,null,null,null,null,null,null,null,null,null,null,null,null,null,null,null,null,null,null,null,null,null,null,null,null,null,null,null,null,null,null,null,null,null,0,0,0,0,0,0,0,0,0,0,0,0,0,0,0,0,0,0,0,0,0,0,0,0,0,0,0,0,0,0,0,0,0,0,0,0,0,0,0,0,0,0,0,0,0,0,0,0,0,0]
[null,null,null,null,25,0.6,null,null,null,null,null,null,null,null,null,null,null,null,null,null,null,null,null,null,null,null,null,null,null,null,null,null,null,null,null,null,null,null,null,null,null,null,null,null,null,null,null,null,null,null,null,null,null,null,null,null,null,{"$f":"$F36*G36","v":0},0,0,0,0,0,0,0,0,0,0,0,0,0,0,0,{"$f":"$F36*W36","v":0},{"$f":"$F36*X36","v":0},{"$f":"$F36*Y36","v":0},{"$f":"$F36*Z36","v":0},{"$f":"$F36*AA36","v":0},{"$f":"$F36*AB36","v":0},{"$f":"$F36*AC36","v":0},{"$f":"$F36*AD36","v":0},{"$f":"$F36*AE36","v":0},{"$f":"$F36*AF36","v":0},{"$f":"$F36*AG36","v":0},{"$f":"$F36*AH36","v":0},{"$f":"$F36*AI36","v":0},{"$f":"$F36*AJ36","v":0},{"$f":"$F36*AK36","v":0},{"$f":"$F36*AL36","v":0},{"$f":"$F36*AM36","v":0},{"$f":"$F36*AN36","v":0},{"$f":"$F36*AO36","v":0},{"$f":"$F36*AP36","v":0},{"$f":"$F36*AQ36","v":0},{"$f":"$F36*AR36","v":0},{"$f":"$F36*AS36","v":0},{"$f":"$F36*AT36","v":0},{"$f":"$F36*AU36","v":0},{"$f":"$F36*AV36","v":0},{"$f":"$F36*AW36","v":0},{"$f":"$F36*AX36","v":0},{"$f":"$F36*AY36","v":0},{"$f":"$F36*AZ36","v":0},{"$f":"$F36*BA36","v":0},{"$f":"$F36*BB36","v":0},{"$f":"$F36*BC36","v":0},{"$f":"$F36*BD36","v":0}]
[null,null,null,null,32,0.5,null,null,null,null,null,null,null,null,null,null,null,null,null,null,null,null,null,null,null,null,null,null,null,null,null,null,null,null,null,null,null,null,null,null,null,null,null,null,null,null,null,null,null,null,null,null,null,null,null,null,null,{"$f":"$F37*G37","v":0},{"$f":"$F37*H37","v":0},{"$f":"$F37*I37","v":0},{"$f":"$F37*J37","v":0},{"$f":"$F37*K37","v":0},{"$f":"$F37*L37","v":0},{"$f":"$F37*M37","v":0},{"$f":"$F37*N37","v":0},{"$f":"$F37*O37","v":0},{"$f":"$F37*P37","v":0},{"$f":"$F37*Q37","v":0},{"$f":"$F37*R37","v":0},{"$f":"$F37*S37","v":0},{"$f":"$F37*T37","v":0},{"$f":"$F37*U37","v":0},{"$f":"$F37*V37","v":0},{"$f":"$F37*W37","v":0},{"$f":"$F37*X37","v":0},{"$f":"$F37*Y37","v":0},{"$f":"$F37*Z37","v":0},{"$f":"$F37*AA37","v":0},{"$f":"$F37*AB37","v":0},{"$f":"$F37*AC37","v":0},{"$f":"$F37*AD37","v":0},{"$f":"$F37*AE37","v":0},{"$f":"$F37*AF37","v":0},{"$f":"$F37*AG37","v":0},{"$f":"$F37*AH37","v":0},{"$f":"$F37*AI37","v":0},{"$f":"$F37*AJ37","v":0},{"$f":"$F37*AK37","v":0},{"$f":"$F37*AL37","v":0},{"$f":"$F37*AM37","v":0},{"$f":"$F37*AN37","v":0},{"$f":"$F37*AO37","v":0},{"$f":"$F37*AP37","v":0},{"$f":"$F37*AQ37","v":0},{"$f":"$F37*AR37","v":0},{"$f":"$F37*AS37","v":0},{"$f":"$F37*AT37","v":0},{"$f":"$F37*AU37","v":0},{"$f":"$F37*AV37","v":0},{"$f":"$F37*AW37","v":0},{"$f":"$F37*AX37","v":0},{"$f":"$F37*AY37","v":0},{"$f":"$F37*AZ37","v":0},{"$f":"$F37*BA37","v":0},{"$f":"$F37*BB37","v":0},{"$f":"$F37*BC37","v":0},{"$f":"$F37*BD37","v":0}]
[null,null,null,null,40,0.5,null,null,null,null,null,null,null,null,null,null,null,null,null,null,null,null,null,null,null,null,null,null,null,null,null,null,null,null,null,null,null,null,null,null,null,null,null,null,null,null,null,null,null,null,null,null,null,null,null,null,null,0,0,0,0,0,0,0,0,0,0,0,0,0,0,0,0,0,0,0,0,0,0,0,0,0,0,0,0,0,0,0,0,0,0,0,0,0,0,0,0,0,0,0,0,0,0,0,0,0,0]
[null,null,null,null,50,0.5,null,null,null,null,null,null,null,null,null,null,null,null,null,null,null,null,null,null,null,null,null,null,null,null,null,null,null,null,null,null,null,null,null,null,null,null,null,null,null,null,null,null,null,null,null,null,null,null,null,null,null,0,0,0,0,0,0,0,0,0,0,0,0,0,0,0,0,0,0,0,0,0,0,0,0,0,0,0,0,0,0,0,0,0,0,0,0,0,0,0,0,0,0,0,0,0,0,0,0,0,0]
[null,null,null,null,63,0.5,null,null,null,null,null,null,null,null,null,null,null,null,null,null,null,null,null,null,null,null,null,null,null,null,null,null,null,null,null,null,null,null,null,null,null,null,null,null,null,null,null,null,null,null,null,null,null,null,null,null,null,0,0,0,0,0,0,0,0,0,0,0,0,0,0,0,0,0,0,0,0,0,0,0,0,0,0,0,0,0,0,0,0,0,0,0,0,0,0,0,0,0,0,0,0,0,0,0,0,0,0]
[null,null,"Abzweig","Optiflex-Flowpress-T-Stück",16,2.2999999999999998,null,null,null,null,null,null,null,null,null,null,null,null,null,null,null,null,null,null,null,null,null,null,null,null,null,null,null,null,null,null,null,null,null,null,null,null,null,null,null,null,null,null,null,null,null,null,null,null,null,null,null,0,0,0,0,0,0,0,0,0,0,0,0,0,0,0,0,0,0,0,0,0,0,0,0,0,0,0,0,0,0,0,0,0,0,0,0,0,0,0,0,0,0,0,0,0,0,0,0,0,0]
[null,null,null,null,20,1.8,null,null,null,null,null,null,null,null,null,null,null,null,null,null,null,null,null,null,null,null,null,null,null,null,null,null,null,null,null,null,null,null,null,null,null,null,null,null,null,null,null,null,null,null,null,null,null,null,null,null,null,0,0,0,0,0,0,0,0,0,0,0,0,0,0,0,0,0,0,0,0,0,0,0,0,0,0,0,0,0,0,0,0,0,0,0,0,0,0,0,0,0,0,0,0,0,0,0,0,0,0]
[null,null,null,null,25,1.4,null,null,null,null,null,null,null,null,null,null,null,null,null,null,null,null,null,null,null,null,null,null,null,null,null,null,null,null,null,null,null,null,null,null,null,null,null,null,null,null,null,null,null,null,null,null,null,null,null,null,null,{"$f":"$F43*G43","v":0},0,0,0,0,0,0,0,0,0,0,0,0,0,0,0,{"$f":"$F43*W43","v":0},{"$f":"$F43*X43","v":0},{"$f":"$F43*Y43","v":0},{"$f":"$F43*Z43","v":0},{"$f":"$F43*AA43","v":0},{"$f":"$F43*AB43","v":0},{"$f":"$F43*AC43","v":0},{"$f":"$F43*AD43","v":0},{"$f":"$F43*AE43","v":0},{"$f":"$F43*AF43","v":0},{"$f":"$F43*AG43","v":0},{"$f":"$F43*AH43","v":0},{"$f":"$F43*AI43","v":0},{"$f":"$F43*AJ43","v":0},{"$f":"$F43*AK43","v":0},{"$f":"$F43*AL43","v":0},{"$f":"$F43*AM43","v":0},{"$f":"$F43*AN43","v":0},{"$f":"$F43*AO43","v":0},{"$f":"$F43*AP43","v":0},{"$f":"$F43*AQ43","v":0},{"$f":"$F43*AR43","v":0},{"$f":"$F43*AS43","v":0},{"$f":"$F43*AT43","v":0},{"$f":"$F43*AU43","v":0},{"$f":"$F43*AV43","v":0},{"$f":"$F43*AW43","v":0},{"$f":"$F43*AX43","v":0},{"$f":"$F43*AY43","v":0},{"$f":"$F43*AZ43","v":0},{"$f":"$F43*BA43","v":0},{"$f":"$F43*BB43","v":0},{"$f":"$F43*BC43","v":0},{"$f":"$F43*BD43","v":0}]
[null,null,null,null,32,1.5,null,null,null,null,null,null,null,null,null,null,null,null,null,null,null,null,null,null,null,null,null,null,null,null,null,null,null,null,null,null,null,null,null,null,null,null,null,null,null,null,null,null,null,null,null,null,null,null,null,null,null,{"$f":"$F44*G44","v":0},{"$f":"$F44*H44","v":0},{"$f":"$F44*I44","v":0},{"$f":"$F44*J44","v":0},{"$f":"$F44*K44","v":0},{"$f":"$F44*L44","v":0},{"$f":"$F44*M44","v":0},{"$f":"$F44*N44","v":0},{"$f":"$F44*O44","v":0},{"$f":"$F44*P44","v":0},{"$f":"$F44*Q44","v":0},{"$f":"$F44*R44","v":0},{"$f":"$F44*S44","v":0},{"$f":"$F44*T44","v":0},{"$f":"$F44*U44","v":0},{"$f":"$F44*V44","v":0},{"$f":"$F44*W44","v":0},{"$f":"$F44*X44","v":0},{"$f":"$F44*Y44","v":0},{"$f":"$F44*Z44","v":0},{"$f":"$F44*AA44","v":0},{"$f":"$F44*AB44","v":0},{"$f":"$F44*AC44","v":0},{"$f":"$F44*AD44","v":0},{"$f":"$F44*AE44","v":0},{"$f":"$F44*AF44","v":0},{"$f":"$F44*AG44","v":0},{"$f":"$F44*AH44","v":0},{"$f":"$F44*AI44","v":0},{"$f":"$F44*AJ44","v":0},{"$f":"$F44*AK44","v":0},{"$f":"$F44*AL44","v":0},{"$f":"$F44*AM44","v":0},{"$f":"$F44*AN44","v":0},{"$f":"$F44*AO44","v":0},{"$f":"$F44*AP44","v":0},{"$f":"$F44*AQ44","v":0},{"$f":"$F44*AR44","v":0},{"$f":"$F44*AS44","v":0},{"$f":"$F44*AT44","v":0},{"$f":"$F44*AU44","v":0},{"$f":"$F44*AV44","v":0},{"$f":"$F44*AW44","v":0},{"$f":"$F44*AX44","v":0},{"$f":"$F44*AY44","v":0},{"$f":"$F44*AZ44","v":0},{"$f":"$F44*BA44","v":0},{"$f":"$F44*BB44","v":0},{"$f":"$F44*BC44","v":0},{"$f":"$F44*BD44","v":0}]
[null,null,null,null,40,1.1000000000000001,null,null,null,null,null,null,null,null,null,null,null,null,null,null,null,null,null,null,null,null,null,null,null,null,null,null,null,null,null,null,null,null,null,null,null,null,null,null,null,null,null,null,null,null,null,null,null,null,null,null,null,0,0,0,0,0,0,0,0,0,0,0,0,0,0,0,0,0,0,0,0,0,0,0,0,0,0,0,0,0,0,0,0,0,0,0,0,0,0,0,0,0,0,0,0,0,0,0,0,0,0]
[null,null,null,null,50,1,null,null,null,null,null,null,null,null,null,null,null,null,null,null,null,null,null,null,null,null,null,null,null,null,null,null,null,null,null,null,null,null,null,null,null,null,null,null,null,null,null,null,null,null,null,null,null,null,null,null,null,0,0,0,0,0,0,0,0,0,0,0,0,0,0,0,0,0,0,0,0,0,0,0,0,0,0,0,0,0,0,0,0,0,0,0,0,0,0,0,0,0,0,0,0,0,0,0,0,0,0]
[null,null,null,null,63,0.8,null,null,null,null,null,null,null,null,null,null,null,null,null,null,null,null,null,null,null,null,null,null,null,null,null,null,null,null,null,null,null,null,null,null,null,null,null,null,null,null,null,null,null,null,null,null,null,null,null,null,null,0,0,0,0,0,0,0,0,0,0,0,0,0,0,0,0,0,0,0,0,0,0,0,0,0,0,0,0,0,0,0,0,0,0,0,0,0,0,0,0,0,0,0,0,0,0,0,0,0,0]
[null,84236,null,"Optiflex-Flowpress-Kupplung","16 x 16",0.7,null,null,null,null,null,null,null,null,null,null,null,null,null,null,null,null,null,null,null,null,null,null,null,null,null,null,null,null,null,null,null,null,null,null,null,null,null,null,null,null,null,null,null,null,null,null,null,null,null,null,null,0,0,0,0,0,0,0,0,0,0,0,0,0,0,0,0,0,0,0,0,0,0,0,0,0,0,0,0,0,0,0,0,0,0,0,0,0,0,0,0,0,0,0,0,0,0,0,0,0,0]
[null,null,null,null,"20 x 20",0.8,null,null,null,null,null,null,null,null,null,null,null,null,null,null,null,null,null,null,null,null,null,null,null,null,null,null,null,null,null,null,null,null,null,null,null,null,null,null,null,null,null,null,null,null,null,null,null,null,null,null,null,0,0,0,0,0,0,0,0,0,0,0,0,0,0,0,{"$f":"$F49*V49","v":0},0,0,0,0,0,0,0,0,0,0,0,0,0,0,0,0,0,0,0,0,0,0,0,0,0,0,0,0,0,0,0,0,0,0]
[null,null,null,null,"20 x 16",0.7,null,null,null,null,null,null,null,null,null,null,null,null,null,null,null,null,null,null,null,null,null,null,null,null,null,null,null,null,null,null,null,null,null,null,null,null,null,null,null,null,null,null,null,null,null,null,null,null,null,null,null,0,0,0,0,0,0,0,0,0,0,0,0,0,0,0,0,0,0,0,0,0,0,0,0,0,0,0,0,0,0,0,0,0,0,0,0,0,0,0,0,0,0,0,0,0,0,0,0,0,0]
[null,null,null,null,"25 x 25",0.5,null,null,null,null,null,null,null,null,null,null,null,null,null,null,null,null,null,null,null,null,null,null,null,null,null,null,null,null,null,null,null,null,null,null,null,null,null,null,null,null,null,null,null,null,null,null,null,null,null,null,null,0,0,0,0,0,0,0,0,0,0,0,0,0,0,0,0,0,0,0,0,0,0,0,0,0,0,0,0,0,0,0,0,0,0,0,0,0,0,0,0,0,0,0,0,0,0,0,0,0,0]
[null,null,null,null,"25 x 20",0.5,null,null,null,null,null,null,null,null,null,null,null,null,null,null,null,null,null,null,null,null,null,null,null,null,null,null,null,null,null,null,null,null,null,null,null,null,null,null,null,null,null,null,null,null,null,null,null,null,null,null,null,{"$f":"$F52*G52","v":0},{"$f":"$F52*H52","v":0},{"$f":"$F52*I52","v":0},{"$f":"$F52*J52","v":0},{"$f":"$F52*K52","v":0},{"$f":"$F52*L52","v":0},{"$f":"$F52*M52","v":0},{"$f":"$F52*N52","v":0},{"$f":"$F52*O52","v":0},{"$f":"$F52*P52","v":0},{"$f":"$F52*Q52","v":0},{"$f":"$F52*R52","v":0},{"$f":"$F52*S52","v":0},{"$f":"$F52*T52","v":0},{"$f":"$F52*U52","v":0},{"$f":"$F52*V52","v":0},{"$f":"$F52*W52","v":0},{"$f":"$F52*X52","v":0},{"$f":"$F52*Y52","v":0},{"$f":"$F52*Z52","v":0},{"$f":"$F52*AA52","v":0},{"$f":"$F52*AB52","v":0},{"$f":"$F52*AC52","v":0},{"$f":"$F52*AD52","v":0},{"$f":"$F52*AE52","v":0},{"$f":"$F52*AF52","v":0},{"$f":"$F52*AG52","v":0},{"$f":"$F52*AH52","v":0},{"$f":"$F52*AI52","v":0},{"$f":"$F52*AJ52","v":0},{"$f":"$F52*AK52","v":0},{"$f":"$F52*AL52","v":0},{"$f":"$F52*AM52","v":0},{"$f":"$F52*AN52","v":0},{"$f":"$F52*AO52","v":0},{"$f":"$F52*AP52","v":0},{"$f":"$F52*AQ52","v":0},{"$f":"$F52*AR52","v":0},{"$f":"$F52*AS52","v":0},{"$f":"$F52*AT52","v":0},{"$f":"$F52*AU52","v":0},{"$f":"$F52*AV52","v":0},{"$f":"$F52*AW52","v":0},{"$f":"$F52*AX52","v":0},{"$f":"$F52*AY52","v":0},{"$f":"$F52*AZ52","v":0},{"$f":"$F52*BA52","v":0},{"$f":"$F52*BB52","v":0},{"$f":"$F52*BC52","v":0},{"$f":"$F52*BD52","v":0}]
[null,null,null,null,"32 x 32",0.5,null,null,null,null,null,null,null,null,null,null,null,null,null,null,null,null,null,null,null,null,null,null,null,null,null,null,null,null,null,null,null,null,null,null,null,null,null,null,null,null,null,null,null,null,null,null,null,null,null,null,null,0,0,0,0,0,0,0,0,0,0,0,0,0,0,0,0,0,0,0,0,0,0,0,0,0,0,0,0,0,0,0,0,0,0,0,0,0,0,0,0,0,0,0,0,0,0,0,0,0,0]
[null,null,null,null,"32 x 25",0.5,null,null,null,null,null,null,null,null,null,null,null,null,null,null,null,null,null,null,null,null,null,null,null,null,null,null,null,null,null,null,null,null,null,null,null,null,null,null,null,null,null,null,null,null,null,null,null,null,null,null,null,0,0,0,0,0,0,0,0,0,0,0,0,0,0,0,0,0,0,0,0,0,0,0,0,0,0,0,0,0,0,0,0,0,0,0,0,0,0,0,0,0,0,0,0,0,0,0,0,0,0]
[null,null,null,null,"40 x 40",0.5,null,null,null,null,null,null,null,null,null,null,null,null,null,null,null,null,null,null,null,null,null,null,null,null,null,null,null,null,null,null,null,null,null,null,null,null,null,null,null,null,null,null,null,null,null,null,null,null,null,null,null,{"$f":"$F55*G55","v":0},{"$f":"$F55*H55","v":0},{"$f":"$F55*I55","v":0},{"$f":"$F55*J55","v":0},{"$f":"$F55*K55","v":0},{"$f":"$F55*L55","v":0},{"$f":"$F55*M55","v":0},{"$f":"$F55*N55","v":0},{"$f":"$F55*O55","v":0},{"$f":"$F55*P55","v":0},{"$f":"$F55*Q55","v":0},{"$f":"$F55*R55","v":0},{"$f":"$F55*S55","v":0},{"$f":"$F55*T55","v":0},{"$f":"$F55*U55","v":0},{"$f":"$F55*V55","v":0},{"$f":"$F55*W55","v":0},{"$f":"$F55*X55","v":0},{"$f":"$F55*Y55","v":0},{"$f":"$F55*Z55","v":0},{"$f":"$F55*AA55","v":0},{"$f":"$F55*AB55","v":0},{"$f":"$F55*AC55","v":0},{"$f":"$F55*AD55","v":0},{"$f":"$F55*AE55","v":0},{"$f":"$F55*AF55","v":0},{"$f":"$F55*AG55","v":0},{"$f":"$F55*AH55","v":0},{"$f":"$F55*AI55","v":0},{"$f":"$F55*AJ55","v":0},{"$f":"$F55*AK55","v":0},{"$f":"$F55*AL55","v":0},{"$f":"$F55*AM55","v":0},{"$f":"$F55*AN55","v":0},{"$f":"$F55*AO55","v":0},{"$f":"$F55*AP55","v":0},{"$f":"$F55*AQ55","v":0},{"$f":"$F55*AR55","v":0},{"$f":"$F55*AS55","v":0},{"$f":"$F55*AT55","v":0},{"$f":"$F55*AU55","v":0},{"$f":"$F55*AV55","v":0},{"$f":"$F55*AW55","v":0},{"$f":"$F55*AX55","v":0},{"$f":"$F55*AY55","v":0},{"$f":"$F55*AZ55","v":0},{"$f":"$F55*BA55","v":0},{"$f":"$F55*BB55","v":0},{"$f":"$F55*BC55","v":0},{"$f":"$F55*BD55","v":0}]
[null,null,null,null,"40 x 32",0.5,null,null,null,null,null,null,null,null,null,null,null,null,null,null,null,null,null,null,null,null,null,null,null,null,null,null,null,null,null,null,null,null,null,null,null,null,null,null,null,null,null,null,null,null,null,null,null,null,null,null,null,0,0,0,0,0,0,0,0,0,0,0,0,0,0,0,0,0,0,0,0,0,0,0,0,0,0,0,0,0,0,0,0,0,0,0,0,0,0,0,0,0,0,0,0,0,0,0,0,0,0]
[null,null,null,null,"50 x 50",0.4,null,null,null,null,null,null,null,null,null,null,null,null,null,null,null,null,null,null,null,null,null,null,null,null,null,null,null,null,null,null,null,null,null,null,null,null,null,null,null,null,null,null,null,null,null,null,null,null,null,null,null,0,0,0,0,0,0,0,0,0,0,0,0,0,0,0,0,0,0,0,0,0,0,0,0,0,0,0,0,0,0,0,0,0,0,0,0,0,0,0,0,0,0,0,0,0,0,0,0,0,0]
[null,null,null,null,"50 x 40",0.4,null,null,null,null,null,null,null,null,null,null,null,null,null,null,null,null,null,null,null,null,null,null,null,null,null,null,null,null,null,null,null,null,null,null,null,null,null,null,null,null,null,null,null,null,null,null,null,null,null,null,null,0,0,0,0,0,0,0,0,0,0,0,0,0,0,0,0,0,0,0,0,0,0,0,0,0,0,0,0,0,0,0,0,0,0,0,0,0,0,0,0,0,0,0,0,0,0,0,0,0,0]
[null,null,null,null,"63 x 63",0.3,null,null,null,null,null,null,null,null,null,null,null,null,null,null,null,null,null,null,null,null,null,null,null,null,null,null,null,null,null,null,null,null,null,null,null,null,null,null,null,null,null,null,null,null,null,null,null,null,null,null,null,0,0,0,0,0,0,0,0,0,0,0,0,0,0,0,0,0,0,0,0,0,0,0,0,0,0,0,0,0,0,0,0,0,0,0,0,0,0,0,0,0,0,0,0,0,0,0,0,0,0]
[null,null,null,null,"63 x 50",0.3,null,null,null,null,null,null,null,null,null,null,null,null,null,null,null,null,null,null,null,null,null,null,null,null,null,null,null,null,null,null,null,null,null,null,null,null,null,null,null,null,null,null,null,null,null,null,null,null,null,null,null,0,0,0,0,0,0,0,0,0,0,0,0,0,0,0,0,0,0,0,0,0,0,0,0,0,0,0,0,0,0,0,0,0,0,0,0,{"$f":"$F60*AQ60","v":0},0,0,0,0,0,0,0,0,0,0,0,0,0]
[null,"86002 / 86003 mit 84250",null,"Optiflex-Verteiler",16,2.1,null,null,null,null,null,null,null,null,null,null,null,null,null,null,null,null,null,null,null,null,null,null,null,null,null,null,null,null,null,null,null,null,null,null,null,null,null,null,null,null,null,null,null,null,null,null,null,null,null,null,null,0,0,0,0,0,0,0,0,0,0,0,0,0,0,0,0,0,0,0,0,0,0,0,0,0,0,0,0,0,0,0,0,0,0,0,0,0,0,0,0,0,0,0,0,0,0,0,0,0,0]
[null,null,null,null,20,2.1,null,null,null,null,null,null,null,null,null,null,null,null,null,null,null,null,null,null,null,null,null,null,null,null,null,null,null,null,null,null,null,null,null,null,null,null,null,null,null,null,null,null,null,null,null,null,null,null,null,null,null,0,0,0,0,0,0,0,0,0,0,0,0,0,0,0,0,0,0,0,0,0,0,0,0,0,0,0,0,0,0,0,0,0,0,0,0,0,0,0,0,0,0,0,0,0,0,0,0,0,0]
[null,null,null,null,25,2.1,null,null,null,null,null,null,null,null,null,null,null,null,null,null,null,null,null,null,null,null,null,null,null,null,null,null,null,null,null,null,null,null,null,null,null,null,null,null,null,null,null,null,null,null,null,null,null,null,null,null,null,0,0,0,0,0,0,0,0,0,0,0,0,0,0,0,0,0,0,0,0,0,0,0,0,0,0,0,0,0,0,0,0,0,0,0,0,0,0,0,0,0,0,0,0,0,0,0,0,0,0]
[null,"Total z",null,null,null,null,{"$f":"BF64","v":0},0,0,0,0,0,0,0,0,0,0,0,0,0,0,0,0,0,0,0,0,0,0,0,0,0,0,0,0,0,0,0,0,0,0,0,0,0,0,0,0,0,0,0,0,0,0,0,0,0,null,{"$f":"SUM(BF6:BF63)","v":0},{"$f":"SUM(BG6:BG63)","v":0},0,0,0,0,0,0,0,0,0,0,0,0,0,0,0,0,0,0,0,0,0,0,0,0,0,0,0,0,0,0,0,0,0,0,0,0,0,0,0,0,0,0,0,0,0,0,0,0]
[]
[]
[null,null,{"$f":"Druckverlust!B24","v":"11.2017 V1.01. ©  R. Nussbaum SA"}]
[null,null,{"$f":"Druckverlust!B25","v":"L'utilisateur est seul responsable de l'exactitude"}]

{"sheet":"Optiflex-Press","index":4,"n_rows":43,"n_cols":108,"rows_kept":43,"cut":false,"hidden":false,"merged":[[18,1,21,1],[18,2,19,2],[18,3,19,3],[20,2,21,2],[38,1,38,5],[25,1,30,1],[25,2,27,2],[25,3,27,3],[28,2,30,2],[28,3,30,3],[36,1,37,1],[36,2,37,2],[36,3,37,3],[31,1,35,1],[31,2,35,2],[31,3,35,3],[25,107,35,107],[20,3,21,3],[5,1,6,1],[5,2,6,2],[5,3,6,3],[22,1,24,1],[22,2,24,2],[22,3,24,3],[7,1,12,1],[7,2,9,2],[7,3,9,3],[10,2,12,2],[10,3,12,3],[13,1,17,1],[13,2,17,2],[13,3,17,3],[1,5,3,5],[1,4,3,4],[1,3,3,3],[1,2,3,2],[1,1,3,1]]}
[]
[null,"Nr.","Symbol","Bezeichnung","d","z","TS","TS","TS","TS","TS","TS","TS","TS","TS","TS","TS","TS","TS","TS","TS","TS","TS","TS","TS","TS","TS","TS","TS","TS","TS","TS","TS","TS","TS","TS","TS","TS","TS","TS","TS","TS","TS","TS","TS","TS","TS","TS","TS","TS","TS","TS","TS","TS","TS","TS"]
[null,null,null,null,null,null,1,2,3,4,5,6,7,8,9,10,11,12,13,14,15,16,17,18,19,20,21,22,23,24,25,26,27,28,29,30,31,32,33,34,35,36,37,38,39,40,41,42,43,44,45,46,47,48,49,50]
[null,null,null,null,null,null,"Stk","Stk","Stk","Stk","Stk","Stk","Stk","Stk","Stk","Stk","Stk","Stk","Stk","Stk","Stk","Stk","Stk","Stk","Stk","Stk","Stk","Stk","Stk","Stk","Stk","Stk","Stk","Stk","Stk","Stk","Stk","Stk","Stk","Stk","Stk","Stk","Stk","Stk","Stk","Stk","Stk","Stk","Stk","Stk","Stk","Stk","Stk","Stk","Stk","Stk"]
[null,null,null,"Zeta-Total Optiflex-Press",null,null,{"$f":"G39","v":0},{"$f":"H39","v":0},0,0,0,0,0,0,0,0,0,0,0,0,0,0,0,0,0,0,0,0,0,0,0,0,0,0,0,0,0,0,0,0,0,0,0,0,0,0,0,0,0,0,0,0,0,0,0,0]
[null,"84110 84111",null,"Optiflex-Press-Dose 90° ","½ x 16",5.6,null,null,null,null,null,null,null,null,null,null,null,null,null,null,null,null,null,null,null,null,null,null,null,null,null,null,null,null,null,null,null,null,null,null,null,null,null,null,null,null,null,null,null,null,null,null,null,null,null,null,null,{"$f":"$F6*G6","v":0},0,0,0,0,0,0,0,0,0,0,0,0,0,0,0,0,0,0,0,{"$f":"$F6*AA6","v":0},0,0,0,0,0,0,0,0,0,0,0,0,0,0,0,{"$f":"$F6*AQ6","v":0},0,0,0,0,0,0,0,0,0,0,0,0,0]
[null,null,null,null,"½ x 20",3.3,null,null,null,null,null,null,null,null,null,null,null,null,null,null,null,null,null,null,null,null,null,null,null,null,null,null,null,null,null,null,null,null,null,null,null,null,null,null,null,null,null,null,null,null,null,null,null,null,null,null,null,{"$f":"$F7*G7","v":0},{"$f":"$F7*H7","v":0},0,0,0,0,0,0,0,0,0,{"$f":"$F7*R7","v":0},0,0,0,0,0,0,0,0,0,0,0,0,0,0,0,0,0,0,0,0,0,0,0,0,0,0,0,0,0,0,0,0,0,0,0,0,0,0]
[null,84117,"Durchfluss","Optiflex-Press-Doppeldose 90°","½ x 16 x 16",5.5,null,null,null,null,null,null,null,null,null,null,null,null,null,null,null,null,null,null,null,null,null,null,null,null,null,null,null,null,null,null,null,null,null,null,null,null,null,null,null,null,null,null,null,null,null,null,null,null,null,null,null,0,0,0,0,0,0,0,0,0,0,0,0,0,0,0,0,0,0,0,0,0,0,0,0,0,0,0,0,0,0,0,0,0,0,0,0,0,0,0,0,0,0,0,0,0,0,0,0,0,0]
[null,null,null,null,"½ x 20 x 16",3.4,null,null,null,null,null,null,null,null,null,null,null,null,null,null,null,null,null,null,null,null,null,null,null,null,null,null,null,null,null,null,null,null,null,null,null,null,null,null,null,null,null,null,null,null,null,null,null,null,null,null,null,0,0,0,0,0,0,0,0,0,0,0,0,0,0,0,0,0,0,0,0,0,0,0,0,0,0,0,0,0,0,0,0,0,0,0,0,0,0,0,0,0,0,0,0,0,0,0,0,0,0]
[null,null,null,null,"½ x 20 x 20",3.5,null,null,null,null,null,null,null,null,null,null,null,null,null,null,null,null,null,null,null,null,null,null,null,null,null,null,null,null,null,null,null,null,null,null,null,null,null,null,null,null,null,null,null,null,null,null,null,null,null,null,null,0,0,0,0,0,0,0,0,0,0,0,0,0,0,0,0,{"$f":"$F10*W10","v":0},0,0,0,0,0,0,0,0,0,0,0,0,0,0,0,0,0,0,0,0,0,0,0,0,0,0,0,0,0,0,0,0,0]
[null,null,"Ausfluss","Optiflex-Press-Doppeldose 90°","½ x 16 x 16",5.6,null,null,null,null,null,null,null,null,null,null,null,null,null,null,null,null,null,null,null,null,null,null,null,null,null,null,null,null,null,null,null,null,null,null,null,null,null,null,null,null,null,null,null,null,null,null,null,null,null,null,null,0,0,0,0,0,0,0,0,0,0,0,0,0,0,0,0,0,0,0,0,0,0,0,0,0,0,0,0,0,0,0,0,0,0,0,0,0,0,0,0,0,0,0,0,0,0,0,0,0,0]
[null,null,null,null,"½ x 16 x 16",3.3,null,null,null,null,null,null,null,null,null,null,null,null,null,null,null,null,null,null,null,null,null,null,null,null,null,null,null,null,null,null,null,null,null,null,null,null,null,null,null,null,null,null,null,null,null,null,null,null,null,null,null,0,0,0,0,0,0,0,0,0,0,0,0,0,0,0,0,0,0,0,0,0,0,0,0,0,0,0,0,0,0,0,0,0,0,0,0,0,0,0,0,0,0,0,0,0,0,0,0,0,0]
[null,null,null,null,"½ x 20 x 20",3.3,null,null,null,null,null,null,null,null,null,null,null,null,null,null,null,null,null,null,null,null,null,null,null,null,null,null,null,null,null,null,null,null,null,null,null,null,null,null,null,null,null,null,null,null,null,null,null,null,null,null,null,0,0,0,0,0,0,0,0,0,0,0,0,0,0,0,0,0,0,0,0,0,0,0,0,0,0,0,0,0,0,0,0,0,0,0,0,0,0,0,0,0,0,0,0,0,0,0,0,0,0]
[null,84021,null,"Optiflex-Press-Anschluss-winkel","½ x 16-30 mm",5.5,null,null,null,null,null,null,null,null,null,null,null,null,null,null,null,null,null,null,null,null,null,null,null,null,null,null,null,null,null,null,null,null,null,null,null,null,null,null,null,null,null,null,null,null,null,null,null,null,null,null,null,0,0,0,0,0,0,0,0,0,0,0,0,0,0,0,0,0,0,0,0,0,0,0,0,0,0,0,0,0,0,0,0,0,0,0,0,0,0,0,0,0,0,0,0,0,0,0,0,0,0]
[null,null,null,null,"½ x 20-30 mm",5.5,null,null,null,null,null,null,null,null,null,null,null,null,null,null,null,null,null,null,null,null,null,null,null,null,null,null,null,null,null,null,null,null,null,null,null,null,null,null,null,null,null,null,null,null,null,null,null,null,null,null,null,0,0,0,0,0,0,0,0,0,0,0,0,0,0,0,0,0,0,0,0,0,0,0,0,0,0,0,0,0,0,0,0,0,0,0,0,0,0,0,0,0,0,0,0,0,0,0,0,0,0]
[null,null,null,null,"¾ x 20-30 mm",3.4,null,null,null,null,null,null,null,null,null,null,null,null,null,null,null,null,null,null,null,null,null,null,null,null,null,null,null,null,null,null,null,null,null,null,null,null,null,null,null,null,null,null,null,null,null,null,null,null,null,null,null,0,0,0,0,0,0,0,0,0,0,0,0,0,0,0,0,0,0,0,0,0,0,0,0,0,0,0,0,0,0,0,0,0,0,0,0,0,0,0,0,0,0,0,0,0,0,0,0,0,0]
[null,null,null,null,"½ x 16-39 mm",5.6,null,null,null,null,null,null,null,null,null,null,null,null,null,null,null,null,null,null,null,null,null,null,null,null,null,null,null,null,null,null,null,null,null,null,null,null,null,null,null,null,null,null,null,null,null,null,null,null,null,null,null,0,0,0,0,0,0,0,0,0,0,0,0,0,0,0,0,0,0,0,0,0,0,0,0,0,0,0,0,0,0,0,0,0,0,0,0,0,0,0,0,0,0,0,0,0,0,0,0,0,0]
[null,null,null,null,"½ x 20-39 mm",3.6,null,null,null,null,null,null,null,null,null,null,null,null,null,null,null,null,null,null,null,null,null,null,null,null,null,null,null,null,null,null,null,null,null,null,null,null,null,null,null,null,null,null,null,null,null,null,null,null,null,null,null,0,0,0,0,0,0,0,0,0,0,0,0,0,0,0,0,0,0,0,0,0,0,0,0,0,0,0,0,0,0,0,0,0,0,0,0,0,0,0,0,0,0,0,0,0,0,0,0,0,0]
[null,84022,"Durchfluss","Optiflex-Press-Doppel-Anschlusswinkel","½ x 16 x 16-32 mm",7.1,null,null,null,null,null,null,null,null,null,null,null,null,null,null,null,null,null,null,null,null,null,null,null,null,null,null,null,null,null,null,null,null,null,null,null,null,null,null,null,null,null,null,null,null,null,null,null,null,null,null,null,0,0,0,0,0,0,0,0,0,0,0,0,0,0,0,0,0,0,0,0,0,0,0,0,0,0,0,0,0,0,0,0,0,0,0,0,0,0,0,0,0,0,0,0,0,0,0,0,0,0]
[null,null,null,null,"½ x 20 x 20-32 mm",5.4,null,null,null,null,null,null,null,null,null,null,null,null,null,null,null,null,null,null,null,null,null,null,null,null,null,null,null,null,null,null,null,null,null,null,null,null,null,null,null,null,null,null,null,null,null,null,null,null,null,null,null,0,0,0,0,0,0,0,0,0,0,0,0,0,0,0,0,0,0,0,0,0,0,0,0,0,0,0,0,0,0,0,0,0,0,0,0,0,0,0,0,0,0,0,0,0,0,0,0,0,0]
[null,null,"Ausfluss","Optiflex-Press-Doppel-Anschlusswinkel","½ x 16 x 16-32 mm",4.3,null,null,null,null,null,null,null,null,null,null,null,null,null,null,null,null,null,null,null,null,null,null,null,null,null,null,null,null,null,null,null,null,null,null,null,null,null,null,null,null,null,null,null,null,null,null,null,null,null,null,null,0,0,0,0,0,0,0,0,0,0,0,0,0,0,0,0,0,0,0,0,0,0,0,0,0,0,0,0,0,0,0,0,0,0,0,{"$f":"$F21*AP21","v":0},0,0,0,0,0,0,0,0,0,0,0,0,0,0]
[null,null,null,null,"½ x 20 x 20-32 mm",6,null,null,null,null,null,null,null,null,null,null,null,null,null,null,null,null,null,null,null,null,null,null,null,null,null,null,null,null,null,null,null,null,null,null,null,null,null,null,null,null,null,null,null,null,null,null,null,null,null,null,null,0,0,0,0,0,0,0,0,0,0,0,0,0,0,0,0,0,0,0,0,0,0,0,0,0,0,0,0,0,0,0,0,{"$f":"$F22*AM22","v":0},0,0,0,0,0,0,0,0,0,0,0,0,0,0,0,0,0]
[null,84076,null,"Optiflex-Press-Bogen 90°","16 x 16",5.4,null,null,null,null,null,null,null,null,null,null,null,null,null,null,null,null,null,null,null,null,null,null,null,null,null,null,null,null,null,null,null,null,null,null,null,null,null,null,null,null,null,null,null,null,null,null,null,null,null,null,null,0,0,0,0,0,0,0,0,0,0,0,0,0,0,0,0,0,0,0,0,0,0,0,0,0,0,0,0,0,0,0,0,0,0,0,0,0,0,0,0,0,0,0,0,0,0,0,0,0,0]
[null,null,null,null,"20 x 20",3.2,null,null,null,null,null,null,null,null,null,null,null,null,null,null,null,null,null,null,null,null,null,null,null,null,null,null,null,null,null,null,null,null,null,null,null,null,null,null,null,null,null,null,null,null,null,null,null,null,null,null,null,0,0,0,0,0,0,0,0,0,0,0,0,0,0,0,0,0,0,0,0,0,0,0,0,0,0,0,0,0,0,0,0,0,0,0,0,0,0,0,0,0,0,0,0,0,0,0,0,0,0]
[null,null,null,null,"25 x 25",3.7,null,null,null,null,null,null,null,null,null,null,null,null,null,null,null,null,null,null,null,null,null,null,null,null,null,null,null,null,null,null,null,null,null,null,null,null,null,null,null,null,null,null,null,null,null,null,null,null,null,null,null,0,0,0,0,0,0,0,0,0,0,0,0,{"$f":"$F25*S25","v":0},0,0,0,0,0,0,0,0,0,0,0,0,0,0,0,0,0,0,0,0,0,0,0,0,0,0,0,0,0,0,0,0,0,0,0,0,0]
[null,84077,"Durchfluss","Optiflex-Press-T-Stück",16,4.5999999999999996,null,null,null,null,null,null,null,null,null,null,null,null,null,null,null,null,null,null,null,null,null,null,null,null,null,null,null,null,null,null,null,null,null,null,null,null,null,null,null,null,null,null,null,null,null,null,null,null,null,null,null,{"$f":"$F26*G26","v":0},0,0,0,0,0,0,0,0,0,0,0,0,0,0,0,0,0,0,0,0,0,0,0,0,0,0,0,0,0,0,0,0,0,0,0,0,0,0,0,0,0,0,0,0,0,0,0,0,0,"Bei reduzierten T-Stücken wird der Widerstandswert des egalen T-Stückes mit der kleinsten Dimension des reduzierten T-Stückes für den zu berechnenden Fliessweg angesetzt."]
[null,null,null,null,20,2.2999999999999998,null,null,null,null,null,null,null,null,null,null,null,null,null,null,null,null,null,null,null,null,null,null,null,null,null,null,null,null,null,null,null,null,null,null,null,null,null,null,null,null,null,null,null,null,null,null,null,null,null,null,null,0,0,0,0,0,0,0,0,0,0,0,0,0,0,0,0,0,0,0,0,0,0,0,0,0,0,0,0,0,0,0,0,0,0,0,0,0,0,0,0,0,0,0,0,0,0,0,0,0,0]
[null,null,null,null,25,2.8,null,null,null,null,null,null,null,null,null,null,null,null,null,null,null,null,null,null,null,null,null,null,null,null,null,null,null,null,null,null,null,null,null,null,null,null,null,null,null,null,null,null,null,null,null,null,null,null,null,null,null,0,0,0,0,0,0,0,0,0,0,0,0,0,0,0,0,0,0,0,0,0,0,0,0,0,0,0,0,0,0,0,0,0,0,0,0,0,0,0,0,0,0,0,0,0,0,0,0,0,0]
[null,null,"Abzweig","Optiflex-Press-T-Stück",16,7.6,null,null,null,null,null,null,null,null,null,null,null,null,null,null,null,null,null,null,null,null,null,null,null,null,null,null,null,null,null,null,null,null,null,null,null,null,null,null,null,null,null,null,null,null,null,null,null,null,null,null,null,0,0,0,0,0,0,0,0,0,0,0,0,0,0,0,0,0,0,0,0,0,0,0,0,0,0,0,0,0,0,0,0,0,0,0,0,0,0,0,0,0,0,0,0,0,0,0,0,0,0]
[null,null,null,null,20,3.9,null,null,null,null,null,null,null,null,null,null,null,null,null,null,null,null,null,null,null,null,null,null,null,null,null,null,null,null,null,null,null,null,null,null,null,null,null,null,null,null,null,null,null,null,null,null,null,null,null,null,null,0,0,0,0,0,0,0,0,0,0,0,0,0,0,0,0,0,0,0,0,0,0,0,0,0,0,0,0,0,0,0,0,0,0,0,0,0,0,0,0,0,0,0,0,0,0,0,0,0,0]
[null,null,null,null,25,4.9000000000000004,null,null,null,null,null,null,null,null,null,null,null,null,null,null,null,null,null,null,null,null,null,null,null,null,null,null,null,null,null,null,null,null,null,null,null,null,null,null,null,null,null,null,null,null,null,null,null,null,null,null,null,0,0,0,0,0,0,0,0,0,0,0,0,0,0,0,0,0,0,0,0,0,0,0,0,0,0,0,0,0,0,0,0,0,0,0,0,0,0,0,0,0,0,0,0,0,0,0,0,0,0]
[null,84075,null,"Optiflex-Press-Kupplung","16 x 16",2.7,null,null,null,null,null,null,null,null,null,null,null,null,null,null,null,null,null,null,null,null,null,null,null,null,null,null,null,null,null,null,null,null,null,null,null,null,null,null,null,null,null,null,null,null,null,null,null,null,null,null,null,0,0,0,0,0,0,0,0,0,0,0,0,0,0,0,0,0,0,0,0,0,0,0,0,0,0,0,0,0,0,0,0,0,0,0,0,0,0,0,0,0,0,0,0,0,0,0,0,0,0]
[null,null,null,null,"20 x 20",1.8,null,null,null,null,null,null,null,null,null,null,null,null,null,null,null,null,null,null,null,null,null,null,null,null,null,null,null,null,null,null,null,null,null,null,null,null,null,null,null,null,null,null,null,null,null,null,null,null,null,null,null,0,0,0,0,0,0,0,0,0,0,0,0,0,0,0,0,0,0,0,0,0,0,0,0,0,0,0,0,0,0,0,0,0,0,0,0,0,0,0,0,0,0,0,0,0,0,0,0,0,0]
[null,null,null,null,"20 x 16",3.1,null,null,null,null,null,null,null,null,null,null,null,null,null,null,null,null,null,null,null,null,null,null,null,null,null,null,null,null,null,null,null,null,null,null,null,null,null,null,null,null,null,null,null,null,null,null,null,null,null,null,null,0,0,0,0,0,0,0,0,0,0,0,0,0,0,0,0,0,0,0,0,0,0,0,0,0,0,0,0,0,0,0,{"$f":"$F34*AL34","v":0},0,0,0,0,0,0,0,0,0,0,0,0,0,0,0,0,0,0]
[null,null,null,null,"25 x 25",2,null,null,null,null,null,null,null,null,null,null,null,null,null,null,null,null,null,null,null,null,null,null,null,null,null,null,null,null,null,null,null,null,null,null,null,null,null,null,null,null,null,null,null,null,null,null,null,null,null,null,null,0,0,0,0,0,0,0,0,0,0,0,0,0,0,0,0,0,0,0,0,0,0,0,0,0,0,0,0,{"$f":"$F35*AI35","v":0},0,0,0,0,0,0,0,0,0,0,0,0,0,0,0,0,0,0,0,0,0]
[null,null,null,null,"25 x 20",2,null,null,null,null,null,null,null,null,null,null,null,null,null,null,null,null,null,null,null,null,null,null,null,null,null,null,null,null,null,null,null,null,null,null,null,null,null,null,null,null,null,null,null,null,null,null,null,null,null,null,null,0,0,0,0,0,0,0,0,0,0,0,0,0,0,0,0,0,0,0,0,0,0,0,0,0,0,0,0,0,0,0,0,0,0,0,0,0,0,0,0,0,0,0,0,0,0,0,0,0,0]
[null,"86002 / 86003 mit 84008",null,"Optiflex-Verteiler",16,2.2000000000000002,null,null,null,null,null,null,null,null,null,null,null,null,null,null,null,null,null,null,null,null,null,null,null,null,null,null,null,null,null,null,null,null,null,null,null,null,null,null,null,null,null,null,null,null,null,null,null,null,null,null,null,0,0,0,0,0,0,0,0,0,0,0,0,0,0,0,0,0,0,0,0,0,0,0,0,0,0,0,0,0,0,0,0,0,0,0,0,0,0,0,0,0,0,0,0,0,0,0,0,0,0]
[null,null,null,null,20,1.9,null,null,null,null,null,null,null,null,null,null,null,null,null,null,null,null,null,null,null,null,null,null,null,null,null,null,null,null,null,null,null,null,null,null,null,null,null,null,null,null,null,null,null,null,null,null,null,null,null,null,null,0,0,0,0,0,0,0,0,0,0,0,0,0,0,0,0,0,0,0,0,0,0,0,0,0,0,0,0,0,0,0,0,0,0,0,0,0,0,0,0,0,0,0,0,0,0,0,0,0,{"$f":"$F38*BD38","v":0}]
[null,"Total z",null,null,null,null,{"$f":"BF39","v":0},{"$f":"BG39","v":0},0,0,0,0,0,0,0,0,0,0,0,0,0,0,0,0,0,0,0,0,0,0,0,0,0,0,0,0,0,0,0,0,0,0,0,0,0,0,0,0,0,0,0,0,0,0,0,0,null,{"$f":"SUM(BF6:BF38)","v":0},{"$f":"SUM(BG6:BG38)","v":0},{"$f":"SUM(BH6:BH38)","v":0},{"$f":"SUM(BI6:BI38)","v":0},{"$f":"SUM(BJ6:BJ38)","v":0},{"$f":"SUM(BK6:BK38)","v":0},{"$f":"SUM(BL6:BL38)","v":0},{"$f":"SUM(BM6:BM38)","v":0},{"$f":"SUM(BN6:BN38)","v":0},{"$f":"SUM(BO6:BO38)","v":0},{"$f":"SUM(BP6:BP38)","v":0},{"$f":"SUM(BQ6:BQ38)","v":0},{"$f":"SUM(BR6:BR38)","v":0},{"$f":"SUM(BS6:BS38)","v":0},{"$f":"SUM(BT6:BT38)","v":0},{"$f":"SUM(BU6:BU38)","v":0},{"$f":"SUM(BV6:BV38)","v":0},{"$f":"SUM(BW6:BW38)","v":0},{"$f":"SUM(BX6:BX38)","v":0},{"$f":"SUM(BY6:BY38)","v":0},{"$f":"SUM(BZ6:BZ38)","v":0},{"$f":"SUM(CA6:CA38)","v":0},{"$f":"SUM(CB6:CB38)","v":0},{"$f":"SUM(CC6:CC38)","v":0},{"$f":"SUM(CD6:CD38)","v":0},{"$f":"SUM(CE6:CE38)","v":0},{"$f":"SUM(CF6:CF38)","v":0},{"$f":"SUM(CG6:CG38)","v":0},{"$f":"SUM(CH6:CH38)","v":0},{"$f":"SUM(CI6:CI38)","v":0},{"$f":"SUM(CJ6:CJ38)","v":0},{"$f":"SUM(CK6:CK38)","v":0},{"$f":"SUM(CL6:CL38)","v":0},{"$f":"SUM(CM6:CM38)","v":0},{"$f":"SUM(CN6:CN38)","v":0},{"$f":"SUM(CO6:CO38)","v":0},{"$f":"SUM(CP6:CP38)","v":0},{"$f":"SUM(CQ6:CQ38)","v":0},{"$f":"SUM(CR6:CR38)","v":0},{"$f":"SUM(CS6:CS38)","v":0},{"$f":"SUM(CT6:CT38)","v":0},{"$f":"SUM(CU6:CU38)","v":0},{"$f":"SUM(CV6:CV38)","v":0},{"$f":"SUM(CW6:CW38)","v":0},{"$f":"SUM(CX6:CX38)","v":0},{"$f":"SUM(CY6:CY38)","v":0},{"$f":"SUM(CZ6:CZ38)","v":0},{"$f":"SUM(DA6:DA38)","v":0},{"$f":"SUM(DB6:DB38)","v":0},{"$f":"SUM(DC6:DC38)","v":0}]
[]
[]
[null,{"$f":"Druckverlust!B24","v":"11.2017 V1.01. ©  R. Nussbaum SA"}]
[null,{"$f":"Druckverlust!B25","v":"L'utilisateur est seul responsable de l'exactitude"}]

{"sheet":"Optiarmatur","index":5,"n_rows":39,"n_cols":107,"rows_kept":39,"cut":false,"hidden":false,"merged":[[5,1,11,1],[5,2,11,2],[5,3,11,3],[34,1,34,5],[12,1,21,1],[12,2,21,2],[12,3,21,3],[22,1,28,1],[22,2,28,2],[22,3,28,3],[29,1,31,1],[29,2,31,2],[29,3,31,3],[1,5,3,5],[1,4,3,4],[1,3,3,3],[1,2,3,2],[1,1,3,1]]}
[]
[null,"Nr.","Symbol","Bezeichnung","d","z","TS","TS","TS","TS","TS","TS","TS","TS","TS","TS","TS","TS","TS","TS","TS","TS","TS","TS","TS","TS","TS","TS","TS","TS","TS","TS","TS","TS","TS","TS","TS","TS","TS","TS","TS","TS","TS","TS","TS","TS","TS","TS","TS","TS","TS","TS","TS","TS","TS","TS"]
[null,null,null,null,null,null,1,2,3,4,5,6,7,8,9,10,11,12,13,14,15,16,17,18,19,20,21,22,23,24,25,26,27,28,29,30,31,32,33,34,35,36,37,38,39,40,41,42,43,44,45,46,47,48,49,50]
[null,null,null,null,null,null,"Stk","Stk","Stk","Stk","Stk","Stk","Stk","Stk","Stk","Stk","Stk","Stk","Stk","Stk","Stk","Stk","Stk","Stk","Stk","Stk","Stk","Stk","Stk","Stk","Stk","Stk","Stk","Stk","Stk","Stk","Stk","Stk","Stk","Stk","Stk","Stk","Stk","Stk","Stk","Stk","Stk","Stk","Stk","Stk","Stk","Stk","Stk","Stk","Stk","Stk"]
[null,null,null,"Zeta-Total Optiarmatur",null,null,{"$f":"G35","v":0},0,0,0,0,0,0,0,0,0,0,0,0,0,0,0,0,0,0,0,{"$f":"AA35","v":0},0,0,0,0,0,0,0,0,0,0,0,0,0,0,0,0,0,0,0,0,0,0,0,0,0,0,0,0,0]
[null,"22100 22102",null,"Schrägsitz-ventil",0.5,2,null,null,null,null,null,null,null,null,null,null,null,null,null,null,null,null,null,null,null,null,null,null,null,null,null,null,null,null,null,null,null,null,null,null,null,null,null,null,null,null,null,null,null,null,null,null,null,null,null,null,null,{"$f":"$F6*G6","v":0},0,0,0,0,0,0,0,0,0,0,0,0,0,0,0,0,0,0,0,{"$f":"$F6*AA6","v":0},0,0,0,0,0,0,0,0,0,0,0,0,0,0,0,{"$f":"$F6*AQ6","v":0},0,0,0,0,0,0,0,0,0,0,0,0,0]
[null,null,null,null,0.75,1.7,null,null,null,null,null,null,null,null,null,null,null,null,null,null,null,null,null,null,null,null,null,null,null,null,null,null,null,null,null,null,null,null,null,null,null,null,null,null,null,null,null,null,null,null,null,null,null,null,null,null,null,{"$f":"$F7*G7","v":0},{"$f":"$F7*H7","v":0},0,0,0,0,0,0,0,0,0,{"$f":"$F7*R7","v":0},0,0,0,0,0,0,0,0,0,0,0,0,0,0,0,0,0,0,0,0,0,0,0,0,0,0,0,0,0,0,0,0,0,0,0,0,0,0]
[null,null,null,null,1,1.4,null,null,null,null,null,null,null,null,null,null,null,null,null,null,null,null,null,null,null,null,null,null,null,null,null,null,null,null,null,null,null,null,null,null,null,null,null,null,null,null,null,null,null,null,null,null,null,null,null,null,null,0,0,0,0,0,0,0,0,0,0,0,0,0,0,0,0,0,0,0,0,0,0,0,0,0,0,0,0,0,0,0,0,0,0,0,0,0,0,0,0,0,0,0,0,0,0,0,0,0,0]
[null,null,null,null,1.25,1.2,null,null,null,null,null,null,null,null,null,null,null,null,null,null,null,null,null,null,null,null,null,null,null,null,null,null,null,null,null,null,null,null,null,null,null,null,null,null,null,null,null,null,null,null,null,null,null,null,null,null,null,0,0,0,0,0,0,0,0,0,0,0,0,0,0,0,0,0,0,0,0,0,0,0,0,0,0,0,0,0,0,0,0,0,0,0,0,0,0,0,0,0,0,0,0,0,0,0,0,0,0]
[null,null,null,null,1.5,1.6,null,null,null,null,null,null,null,null,null,null,null,null,null,null,null,null,null,null,null,null,null,null,null,null,null,null,null,null,null,null,null,null,null,null,null,null,null,null,null,null,null,null,null,null,null,null,null,null,null,null,null,0,0,0,0,0,0,0,0,0,0,0,0,0,0,0,0,{"$f":"$F10*W10","v":0},0,0,0,0,0,0,0,0,0,0,0,0,0,0,0,0,0,0,0,0,0,0,0,0,0,0,0,0,0,0,0,0,0]
[null,null,null,null,2,1.5,null,null,null,null,null,null,null,null,null,null,null,null,null,null,null,null,null,null,null,null,null,null,null,null,null,null,null,null,null,null,null,null,null,null,null,null,null,null,null,null,null,null,null,null,null,null,null,null,null,null,null,0,0,0,0,0,0,0,0,0,0,0,0,0,0,0,0,0,0,0,0,0,0,0,0,0,0,0,0,0,0,0,0,0,0,0,0,0,0,0,0,0,0,0,0,0,0,0,0,0,0]
[null,null,null,null,2.5,1.5,null,null,null,null,null,null,null,null,null,null,null,null,null,null,null,null,null,null,null,null,null,null,null,null,null,null,null,null,null,null,null,null,null,null,null,null,null,null,null,null,null,null,null,null,null,null,null,null,null,null,null,0,0,0,0,0,0,0,0,0,0,0,0,0,0,0,0,0,0,0,0,0,0,0,0,0,0,0,0,0,0,0,0,0,0,0,0,0,0,0,0,0,0,0,0,0,0,0,0,0,0]
[null,22150,null,"Batterieventil","1 x 25",1.2,null,null,null,null,null,null,null,null,null,null,null,null,null,null,null,null,null,null,null,null,null,null,null,null,null,null,null,null,null,null,null,null,null,null,null,null,null,null,null,null,null,null,null,null,null,null,null,null,null,null,null,0,0,0,0,0,0,0,0,0,0,0,0,0,0,0,0,0,0,0,0,0,0,0,0,0,0,0,0,0,0,0,0,0,0,0,0,0,0,0,0,0,0,0,0,0,0,0,0,0,0]
[null,null,null,null,"1 1/4 x 25",1.8,null,null,null,null,null,null,null,null,null,null,null,null,null,null,null,null,null,null,null,null,null,null,null,null,null,null,null,null,null,null,null,null,null,null,null,null,null,null,null,null,null,null,null,null,null,null,null,null,null,null,null,0,0,0,0,0,0,0,0,0,0,0,0,0,0,0,0,0,0,0,0,0,0,0,0,0,0,0,0,0,0,0,0,0,0,0,0,0,0,0,0,0,0,0,0,0,0,0,0,0,0]
[null,null,null,null,"1 1/4 x 32",0.9,null,null,null,null,null,null,null,null,null,null,null,null,null,null,null,null,null,null,null,null,null,null,null,null,null,null,null,null,null,null,null,null,null,null,null,null,null,null,null,null,null,null,null,null,null,null,null,null,null,null,null,0,0,0,0,0,0,0,0,0,0,0,0,0,0,0,0,0,0,0,0,0,0,0,0,0,0,0,0,0,0,0,0,0,0,0,0,0,0,0,0,0,0,0,0,0,0,0,0,0,0]
[null,null,null,null,"1 1/2 x 32",1.3,null,null,null,null,null,null,null,null,null,null,null,null,null,null,null,null,null,null,null,null,null,null,null,null,null,null,null,null,null,null,null,null,null,null,null,null,null,null,null,null,null,null,null,null,null,null,null,null,null,null,null,0,0,0,0,0,0,0,0,0,0,0,0,0,0,0,0,0,0,0,0,0,0,0,0,0,0,0,0,0,0,0,0,0,0,0,0,0,0,0,0,0,0,0,0,0,0,0,0,0,0]
[null,null,null,null,"1 1/2 x 40",1.4,null,null,null,null,null,null,null,null,null,null,null,null,null,null,null,null,null,null,null,null,null,null,null,null,null,null,null,null,null,null,null,null,null,null,null,null,null,null,null,null,null,null,null,null,null,null,null,null,null,null,null,0,0,0,0,0,0,0,0,0,0,0,0,0,0,0,0,0,0,0,0,0,0,0,0,0,0,0,0,0,0,0,0,0,0,0,0,0,0,0,0,0,0,0,0,0,0,0,0,0,0]
[null,null,null,null,"2 x 32",1.5,null,null,null,null,null,null,null,null,null,null,null,null,null,null,null,null,null,null,null,null,null,null,null,null,null,null,null,null,null,null,null,null,null,null,null,null,null,null,null,null,null,null,null,null,null,null,null,null,null,null,null,0,0,0,0,0,0,0,0,0,0,0,0,0,0,0,0,0,0,0,0,0,0,0,0,0,0,0,0,0,0,0,0,0,0,0,0,0,0,0,0,0,0,0,0,0,0,0,0,0,0]
[null,null,null,null,"2 x 50",1.5,null,null,null,null,null,null,null,null,null,null,null,null,null,null,null,null,null,null,null,null,null,null,null,null,null,null,null,null,null,null,null,null,null,null,null,null,null,null,null,null,null,null,null,null,null,null,null,null,null,null,null,0,0,0,0,0,0,0,0,0,0,0,0,0,0,0,0,0,0,0,0,0,0,0,0,0,0,0,0,0,0,0,0,0,0,0,0,0,0,0,0,0,0,0,0,0,0,0,0,0,0]
[null,null,null,null,"2 1//2 x 32",1.5,null,null,null,null,null,null,null,null,null,null,null,null,null,null,null,null,null,null,null,null,null,null,null,null,null,null,null,null,null,null,null,null,null,null,null,null,null,null,null,null,null,null,null,null,null,null,null,null,null,null,null,0,0,0,0,0,0,0,0,0,0,0,0,0,0,0,0,0,0,0,0,0,0,0,0,0,0,0,0,0,0,0,0,0,0,0,0,0,0,0,0,0,0,0,0,0,0,0,0,0,0]
[null,null,null,null,"2 1/2 x 50",1.9,null,null,null,null,null,null,null,null,null,null,null,null,null,null,null,null,null,null,null,null,null,null,null,null,null,null,null,null,null,null,null,null,null,null,null,null,null,null,null,null,null,null,null,null,null,null,null,null,null,null,null,0,0,0,0,0,0,0,0,0,0,0,0,0,0,0,0,0,0,0,0,0,0,0,0,0,0,0,0,0,0,0,0,0,0,0,{"$f":"$F21*AP21","v":0},0,0,0,0,0,0,0,0,0,0,0,0,0,0]
[null,null,null,null,"2 1/2 x 65",1.8,null,null,null,null,null,null,null,null,null,null,null,null,null,null,null,null,null,null,null,null,null,null,null,null,null,null,null,null,null,null,null,null,null,null,null,null,null,null,null,null,null,null,null,null,null,null,null,null,null,null,null,0,0,0,0,0,0,0,0,0,0,0,0,0,0,0,0,0,0,0,0,0,0,0,0,0,0,0,0,0,0,0,0,{"$f":"$F22*AM22","v":0},0,0,0,0,0,0,0,0,0,0,0,0,0,0,0,0,0]
[null,23100,null,"Gradsitzventil",0.5,5.7,null,null,null,null,null,null,null,null,null,null,null,null,null,null,null,null,null,null,null,null,null,null,null,null,null,null,null,null,null,null,null,null,null,null,null,null,null,null,null,null,null,null,null,null,null,null,null,null,null,null,null,0,0,0,0,0,0,0,0,0,0,0,0,0,0,0,0,0,0,0,0,0,0,0,0,0,0,0,0,0,0,0,0,0,0,0,0,0,0,0,0,0,0,0,0,0,0,0,0,0,0]
[null,null,null,null,0.75,7.4,null,null,null,null,null,null,null,null,null,null,null,null,null,null,null,null,null,null,null,null,null,null,null,null,null,null,null,null,null,null,null,null,null,null,null,null,null,null,null,null,null,null,null,null,null,null,null,null,null,null,null,0,0,0,0,0,0,0,0,0,0,0,0,0,0,0,0,0,0,0,0,0,0,0,0,0,0,0,0,0,0,0,0,0,0,0,0,0,0,0,0,0,0,0,0,0,0,0,0,0,0]
[null,null,null,null,1,7,null,null,null,null,null,null,null,null,null,null,null,null,null,null,null,null,null,null,null,null,null,null,null,null,null,null,null,null,null,null,null,null,null,null,null,null,null,null,null,null,null,null,null,null,null,null,null,null,null,null,null,0,0,0,0,0,0,0,0,0,0,0,0,{"$f":"$F25*S25","v":0},0,0,0,0,0,0,0,0,0,0,0,0,0,0,0,0,0,0,0,0,0,0,0,0,0,0,0,0,0,0,0,0,0,0,0,0,0]
[null,null,null,null,1.25,6.5,null,null,null,null,null,null,null,null,null,null,null,null,null,null,null,null,null,null,null,null,null,null,null,null,null,null,null,null,null,null,null,null,null,null,null,null,null,null,null,null,null,null,null,null,null,null,null,null,null,null,null,{"$f":"$F26*G26","v":0},0,0,0,0,0,0,0,0,0,0,0,0,0,0,0,0,0,0,0,0,0,0,0,0,0,0,0,0,0,0,0,0,0,0,0,0,0,0,0,0,0,0,0,0,0,0,0,0,0]
[null,null,null,null,1.5,8.5,null,null,null,null,null,null,null,null,null,null,null,null,null,null,null,null,null,null,null,null,null,null,null,null,null,null,null,null,null,null,null,null,null,null,null,null,null,null,null,null,null,null,null,null,null,null,null,null,null,null,null,0,0,0,0,0,0,0,0,0,0,0,0,0,0,0,0,0,0,0,0,0,0,0,0,0,0,0,0,0,0,0,0,0,0,0,0,0,0,0,0,0,0,0,0,0,0,0,0,0,0]
[null,null,null,null,2,8,null,null,null,null,null,null,null,null,null,null,null,null,null,null,null,null,null,null,null,null,null,null,null,null,null,null,null,null,null,null,null,null,null,null,null,null,null,null,null,null,null,null,null,null,null,null,null,null,null,null,null,0,0,0,0,0,0,0,0,0,0,0,0,0,0,0,0,0,0,0,0,0,0,0,0,0,0,0,0,0,0,0,0,0,0,0,0,0,0,0,0,0,0,0,0,0,0,0,0,0,0]
[null,null,null,null,2.5,9.1999999999999993,null,null,null,null,null,null,null,null,null,null,null,null,null,null,null,null,null,null,null,null,null,null,null,null,null,null,null,null,null,null,null,null,null,null,null,null,null,null,null,null,null,null,null,null,null,null,null,null,null,null,null,0,0,0,0,0,0,0,0,0,0,0,0,0,0,0,0,0,0,0,0,0,0,0,0,0,0,0,0,0,0,0,0,0,0,0,0,0,0,0,0,0,0,0,0,0,0,0,0,0,0]
[null,23130,null,"Unterputz-Gradsitzventil",0.5,3.3,null,null,null,null,null,null,null,null,null,null,null,null,null,null,null,null,null,null,null,null,null,null,null,null,null,null,null,null,null,null,null,null,null,null,null,null,null,null,null,null,null,null,null,null,null,null,null,null,null,null,null,0,0,0,0,0,0,0,0,0,0,0,0,0,0,0,0,0,0,0,0,0,0,0,0,0,0,0,0,0,0,0,0,0,0,0,0,0,0,0,0,0,0,0,0,0,0,0,0,0,0]
[null,null,null,null,0.75,6.9,null,null,null,null,null,null,null,null,null,null,null,null,null,null,null,null,null,null,null,null,null,null,null,null,null,null,null,null,null,null,null,null,null,null,null,null,null,null,null,null,null,null,null,null,null,null,null,null,null,null,null,0,0,0,0,0,0,0,0,0,0,0,0,0,0,0,0,0,0,0,0,0,0,0,0,0,0,0,0,0,0,0,0,0,0,0,0,0,0,0,0,0,0,0,0,0,0,0,0,0,0]
[null,null,null,null,1,12.3,null,null,null,null,null,null,null,null,null,null,null,null,null,null,null,null,null,null,null,null,null,null,null,null,null,null,null,null,null,null,null,null,null,null,null,null,null,null,null,null,null,null,null,null,null,null,null,null,null,null,null,0,0,0,0,0,0,0,0,0,0,0,0,0,0,0,0,0,0,0,0,0,0,0,0,0,0,0,0,0,0,0,0,0,0,0,0,0,0,0,0,0,0,0,0,0,0,0,0,0,0]
[null,67105,null,"Rohbauset-UP-Ventil-Garnitur",0.75,19.899999999999999,null,null,null,null,null,null,null,null,null,null,null,null,null,null,null,null,null,null,null,null,null,null,null,null,null,null,null,null,null,null,null,null,null,null,null,null,null,null,null,null,null,null,null,null,null,null,null,null,null,null,null,0,0,0,0,0,0,0,0,0,0,0,0,0,0,0,0,0,0,0,0,0,0,0,0,0,0,0,0,0,0,0,0,0,0,0,0,0,0,0,0,0,0,0,0,0,0,0,0,0,0]
[null,67106,null,"Rohbauset-UP-Ventil-Garnitur",0.75,7.2,null,null,null,null,null,null,null,null,null,null,null,null,null,null,null,null,null,null,null,null,null,null,null,null,null,null,null,null,null,null,null,null,null,null,null,null,null,null,null,null,null,null,null,null,null,null,null,null,null,null,null,0,0,0,0,0,0,0,0,0,0,0,0,0,0,0,0,0,0,0,0,0,0,0,0,0,0,0,0,0,0,0,{"$f":"$F34*AL34","v":0},0,0,0,0,0,0,0,0,0,0,0,0,0,0,0,0,0,0]
[null,"Total z",null,null,null,null,{"$f":"BF35","v":0},{"$f":"BG35","v":0},0,0,0,0,0,0,0,0,0,0,0,0,0,0,0,0,0,0,0,0,0,0,0,0,0,0,0,0,0,0,0,0,0,0,0,0,0,0,0,0,0,0,0,0,0,0,0,0,null,{"$f":"SUM(BF6:BF34)","v":0},{"$f":"SUM(BG6:BG34)","v":0},0,0,0,0,0,0,0,0,0,0,0,0,0,0,0,0,0,0,0,0,0,0,0,0,0,0,0,0,0,0,0,0,0,0,0,0,0,0,0,0,0,0,0,0,0,0,0,0]
[]
[]
[null,{"$f":" Druckverlust!B24","v":"11.2017 V1.01. ©  R. Nussbaum SA"}]
[null,{"$f":"Druckverlust!B25","v":"L'utilisateur est seul responsable de l'exactitude"}]

{"sheet":"Dimensionen","index":6,"n_rows":21,"n_cols":7,"rows_kept":21,"cut":false,"hidden":true,"merged":[]}
[null,"Nummer","Durchmesser","Innendurchmesser","Rohrrauhigkeit","Bezeichnung","Volumen pro Meter [l/m]"]
[]
["Optipress",1.0149999999999999," 15x1.0",13,1.5E-3,"Optipress-Rohr",{"$f":"(D3/2)^2*3.1415927/1000","v":0.13273229157499999}]
[null,1.018,"18x1.0",16,1.5E-3,"Optipress-Rohr",{"$f":"(D4/2)^2*3.1415927/1000","v":0.20106193279999998}]
[null,1.022," 22x1.2",19.600000000000001,1.5E-3,"Optipress-Rohr",0.30171856290800009]
[null,1.028," 28x1.2",25.6,1.5E-3,"Optipress-Rohr",0.5147185479680001]
[null,1.0349999999999999," 35x1.5",32,1.5E-3,"Optipress-Rohr",0.80424773119999993]
[null,1.042," 42x1.5",39,1.5E-3,"Optipress-Rohr",1.1945906241749999]
[null,1.054," 54x1.5",51,1.5E-3,"Optipress-Rohr",2.0428206531750002]
[null,1.0640000000000001,"64x2.0",60,1.5E-3,"Optipress-Rohr",2.8274334300000001]
[null,1.0760000000000001,"76.1x2.0",72.099999999999994,1.5E-3,"Optipress-Rohr",4.0828217269017495]
[null,1.0880000000000001,"88.9x2.0",84.9,1.5E-3,"Optipress-Rohr",5.6611578993817515]
[null,1.1080000000000001,"108x2.0",104,1.5E-3,"Optipress-Rohr",8.4948666607999996]
["Optiflex","2.1LU"," 16x3.8",8.4,7.0000000000000001E-3,"Optiflex-Rohr",5.5417695227999997E-2]
[null,2.016," 16x2.2",11.6,7.0000000000000001E-3,"Optiflex-Rohr",0.105683178428]
[null,2.02," 20x2.8",14.4,7.0000000000000001E-3,"Optiflex-Rohr",0.16286016556800001]
[null,2.0249999999999999," 25x2.7",19.600000000000001,7.0000000000000001E-3,"Optiflex-Rohr",0.30171856290800009]
[null,2.032,"32x3.2",25.6,7.0000000000000001E-3,"Optiflex-Rohr",0.5147185479680001]
[null,2.04,"40x3.5",33,7.0000000000000001E-3,"Optiflex-Rohr",0.85529861257499995]
[null,2.0499999999999998,"50x4.0",42,7.0000000000000001E-3,"Optiflex-Rohr",1.3854423807]
[null,2.0630000000000002,"63x4.5",54,7.0000000000000001E-3,"Optiflex-Rohr",2.2902210783000001]

{"sheet":"Medien","index":7,"n_rows":12,"n_cols":3,"rows_kept":12,"cut":false,"hidden":true,"merged":[]}
["Wasser"]
["Temperatur","Dichte","Viskosität"]
["[°C]","[kg/m3]","[m2/s]"]
[10,999.7,1.3069999999999999E-6]
[20,998.2,1.0038E-6]
[30,995.67,8.0100000000000004E-7]
[40,992.24,6.5799999999999999E-7]
[50,988.07,5.5400000000000001E-7]
[60,983.24,4.75E-7]
[70,977.81,4.1300000000000001E-7]
[80,971.83,3.65E-7]
[90,965.31,3.2599999999999998E-7]