{"text_format":"1","workbook":"xlsx","n_sheets":7,"sheets":["Perte de charge","Optipress","Optiflex-Profix","Optiflex-Flowpress","Optiarmatur","Dimensionen","Medien"],"not_rendered":{"charts":0,"images":44,"macros":1,"external_links":0,"defined_names":7,"comments":0,"pivot_tables":0},"unopened":[],"bounds":{"document_bytes":16777216,"sheet_cells":100000,"rows_first":2000,"rows_last":500,"rows_between":2000,"halvings":0,"cell_chars":16384,"cell_head_chars":4096},"cells_cut":0,"cells_raw":0,"read":"whole","date_system":"1900"}

{"sheet":"Perte de charge","index":0,"n_rows":67,"n_cols":44,"rows_kept":67,"cut":false,"hidden":false,"merged":[[7,16,7,19],[3,23,3,27],[61,23,66,23],[61,24,66,24],[3,3,3,12],[3,19,3,21],[7,6,7,8],[61,9,61,12],[5,13,5,15],[66,1,66,4],[5,1,5,4],[60,1,60,4],[7,14,7,15]]}
[null,null,"Calcul de la perte de charge"]
[null,null,"Directives SSIGE pour les installations d'eau de boisson W3 (édition 2013)"]
[]
[null,null,"Projet",null,null,null,null,null,null,null,null,null,null,null,null,"Temp. eau",10," [°C]","Visa",null,null,null,null,"Calcul temps de soutirage (option)",null,null,null,null,null,null,null,null,"Dichte","Viskosität"]
[]
[null,null,null,null,null,null,null,null,null,null,null,null,null,"Ouvrir l'onglet  Ú",null,null,null,null,null,"Densité de l'eau",{"$f":"IF(Q4=\"\",\"\",VLOOKUP(Q4,Medien!$A$4:$C$12,2))","v":999.7},"[kg/m3]",null,"z    N° groupe d'appareil",null,null,null,null,null,null,null,null,{"$f":"U6","v":999.7},{"$f":"U7","v":1.3069999999999999E-6}]
[null,null,"u",null,null,null,null,"v",null,null,null,null,"Check !","w","x",null,null,null,null,"Viscosité cinématique",{"$f":"IF(Q4=\"\",\"\",VLOOKUP(Q4,Medien!$A$4:$C$12,3))","v":1.3069999999999999E-6},"[m2/s]"]
[null,"N°","N°","Matériau","Diam.","Innen-","Débit additionné",null,null,null,"Débit de pointe",null,"Vitesse","Longueur","Valeurs Zeta",null,"Perte de charge",null,null,null,"Pmin RP",{"$f":"V67","v":100},null,"y    LU appareil concerné",null,null,"Temps de",null,null,null,null,"Durch-","K-Wert","Reynolds-","Lambda-","Strömungsart",null,null,"Summe 1","Summe 2","Summe 3","Summe 4","Summe 5","Summe 6"]
[null,"SP","dim.","tuyau","conduite","Volumen","LU max.","QT","LU","QD","constant","total","d'écoul.","SP","S onglet","S suppl.","Tuyau","Tuyau","RI","constante","SP","Total",null,null,null,null,"soutirage",null,null,null,null,"messer",null,"zahl","wert",null,null,null,{"$f":"SUM(AM11:AM60)","v":0},{"$f":"SUM(AN11:AN60)","v":0},0,0,0,0]
[null,"[-]","[-]","[-]","[mm]","[l/m]","(3 ou 5)","[l/s]","[-]","[l/s]","[l/s]","[l/s]","[m/s]","[m]","[-]","[-]","[kPa/m]","[kPa]","[kPa]","[kPa]","[kPa]","[kPa]",null,"Commentaire",null,null,"[s]",null,null,null,null,"[m]","[m]","[-]","[-]","[-]"]
[null,1,null,{"$f":"IF(C11=\"\",\"\",VLOOKUP($C11,Dimensionen!$B$3:$F$21,5))","v":""},{"$f":"IF(D11=\"\",\"\",VLOOKUP($C11,Dimensionen!$B$3:$F$21,2))","v":""},{"$f":"IF(E11=\"\",\"\",VLOOKUP($C11,Dimensionen!$B$3:$G$21,6))","v":""},{"$f":"IF(C11<>0,3,\"\")","v":""},null,{"$f":"IF(H11=0,\"\",H11*10)","v":""},{"$f":"IF(AND(H11>0.5,H11<15.01,G11=5),0.598*POWER(H11,0.257),IF(AND(H11>0.3,G11=3),0.459*POWER(H11,0.353),IF(AND(H11>15,G11=5),0.459*POWER(H11,0.353),H11)))","v":0},null,{"$f":"J11+K11","v":0},{"$f":"IF(L11=0,0,$L11*0.004/$AF11^2/PI())","v":0},null,{"$f":"IF(C11=\"\",\"\",'Optiflex-Profix'!G$5+Optipress!G$5+Optiarmatur!G$5+'Optiflex-Flowpress'!G$5)","v":""},null,{"$f":"IF(L11=0,\"\",($AI11/$AF11*$AG$6*$M11^2/200)/10)","v":""},{"$f":"IF(L11=0,\"\",Q11*$N11)","v":""},{"$f":"IF(L11=0,\"\",((($O11+$P11)*$AG$6/200*$M11^2)/10))","v":""},null,{"$f":"SUM(R11:T11)","v":0},{"$f":"IF(C11=\"\",\"\",IF(U11=0,0,AE11))","v":""},1,null,null,0,{"$f":"IF(Z11=0,\"\",F11*N11/(Z11/10)*2)","v":""},0,null,null,{"$f":"W11*U11","v":0},{"$f":"IF(C11=\"\",\"\",VLOOKUP($C11,Dimensionen!$B$3:$D$21,3)/1000)","v":""},{"$f":"IF(C11=\"\",\"\",VLOOKUP(C11,Dimensionen!$B$3:$E$21,4)/1000)","v":""},{"$f":"IF(L11=0,0,Reynoldszahl($AF11, $M11, $AH$6))","v":0},{"$f":"IF(L11=0,0,Lambdawertberechnung($AH11, $AG11, $AF11))","v":0},{"$f":"IF(L11=0,0,Strömungsart($AH11,$AG11,$AF11))","v":0},null,null,{"$f":"IF($AA11=\"\",0,$AA11)*IF($AB11=\"\",\"\",VLOOKUP($AB11,$AL$61:$AR$67,2))","v":0},{"$f":"IF($AA11=\"\",0,$AA11)*IF($AB11=\"\",\"\",VLOOKUP($AB11,$AL$61:$AR$67,3))","v":0},{"$f":"IF($AA11=\"\",0,$AA11)*IF($AB11=\"\",\"\",VLOOKUP($AB11,$AL$61:$AR$67,4))","v":0},{"$f":"IF($AA11=\"\",0,$AA11)*IF($AB11=\"\",\"\",VLOOKUP($AB11,$AL$61:$AR$67,5))","v":0},{"$f":"IF($AA11=\"\",0,$AA11)*IF($AB11=\"\",\"\",VLOOKUP($AB11,$AL$61:$AR$67,6))","v":0},{"$f":"IF($AA11=\"\",0,$AA11)*IF($AB11=\"\",\"\",VLOOKUP($AB11,$AL$61:$AR$67,7))","v":0}]
[null,2,null,{"$f":"IF(C12=\"\",\"\",VLOOKUP($C12,Dimensionen!$B$3:$F$21,5))","v":""},{"$f":"IF(D12=\"\",\"\",VLOOKUP($C12,Dimensionen!$B$3:$F$21,2))","v":""},{"$f":"IF(E12=\"\",\"\",VLOOKUP($C12,Dimensionen!$B$3:$G$21,6))","v":""},"",null,{"$f":"IF(H12=0,\"\",H12*10)","v":""},0,null,{"$f":"J12+K12","v":0},{"$f":"IF(L12=0,0,$L12*0.004/$AF12^2/PI())","v":0},null,{"$f":"IF(C12=\"\",\"\",'Optiflex-Profix'!H$5+Optipress!H$5+Optiarmatur!H$5+'Optiflex-Flowpress'!H$5)","v":""},null,{"$f":"IF(L12=0,\"\",($AI12/$AF12*$AG$6*$M12^2/200)/10)","v":""},{"$f":"IF(L12=0,\"\",Q12*$N12)","v":""},{"$f":"IF(L12=0,\"\",((($O12+$P12)*$AG$6/200*$M12^2)/10))","v":""},null,{"$f":"SUM(R12:T12)","v":0},{"$f":"IF(C12=\"\",\"\",IF(U12=0,0,AE12))","v":""},1,null,null,0,{"$f":"IF(Z12=0,\"\",F12*N12/(Z12/10)*2)","v":""},0,null,null,0,{"$f":"IF(C12=\"\",\"\",VLOOKUP($C12,Dimensionen!$B$3:$D$21,3)/1000)","v":""},{"$f":"IF(C12=\"\",\"\",VLOOKUP(C12,Dimensionen!$B$3:$E$21,4)/1000)","v":""},{"$f":"IF(L12=0,0,Reynoldszahl($AF12, $M12, $AH$6))","v":0},{"$f":"IF(L12=0,0,Lambdawertberechnung($AH12, $AG12, $AF12))","v":0},{"$f":"IF(L12=0,0,Strömungsart($AH12,$AG12,$AF12))","v":0},null,null,{"$f":"IF($AA12=\"\",0,$AA12)*IF($AB12=\"\",\"\",VLOOKUP($AB12,$AL$61:$AR$67,2))","v":0},{"$f":"IF($AA12=\"\",0,$AA12)*IF($AB12=\"\",\"\",VLOOKUP($AB12,$AL$61:$AR$67,3))","v":0},{"$f":"IF($AA12=\"\",0,$AA12)*IF($AB12=\"\",\"\",VLOOKUP($AB12,$AL$61:$AR$67,4))","v":0},{"$f":"IF($AA12=\"\",0,$AA12)*IF($AB12=\"\",\"\",VLOOKUP($AB12,$AL$61:$AR$67,5))","v":0},{"$f":"IF($AA12=\"\",0,$AA12)*IF($AB12=\"\",\"\",VLOOKUP($AB12,$AL$61:$AR$67,6))","v":0},{"$f":"IF($AA12=\"\",0,$AA12)*IF($AB12=\"\",\"\",VLOOKUP($AB12,$AL$61:$AR$67,7))","v":0}]
[null,3,null,{"$f":"IF(C13=\"\",\"\",VLOOKUP($C13,Dimensionen!$B$3:$F$21,5))","v":""},{"$f":"IF(D13=\"\",\"\",VLOOKUP($C13,Dimensionen!$B$3:$F$21,2))","v":""},{"$f":"IF(E13=\"\",\"\",VLOOKUP($C13,Dimensionen!$B$3:$G$21,6))","v":""},"",null,"",0,null,0,0,null,{"$f":"IF(C13=\"\",\"\",'Optiflex-Profix'!I$5+Optipress!I$5+Optiarmatur!I$5+'Optiflex-Flowpress'!I$5)","v":""},null,"","","",null,{"$f":"SUM(R13:T13)","v":0},"",1,null,null,0,"",0,null,null,0,{"$f":"IF(C13=\"\",\"\",VLOOKUP($C13,Dimensionen!$B$3:$D$21,3)/1000)","v":""},{"$f":"IF(C13=\"\",\"\",VLOOKUP(C13,Dimensionen!$B$3:$E$21,4)/1000)","v":""},{"$f":"IF(L13=0,0,Reynoldszahl($AF13, $M13, $AH$6))","v":0},{"$f":"IF(L13=0,0,Lambdawertberechnung($AH13, $AG13, $AF13))","v":0},{"$f":"IF(L13=0,0,Strömungsart($AH13,$AG13,$AF13))","v":0},null,null,{"$f":"IF($AA13=\"\",0,$AA13)*IF($AB13=\"\",\"\",VLOOKUP($AB13,$AL$61:$AR$67,2))","v":0},{"$f":"IF($AA13=\"\",0,$AA13)*IF($AB13=\"\",\"\",VLOOKUP($AB13,$AL$61:$AR$67,3))","v":0},{"$f":"IF($AA13=\"\",0,$AA13)*IF($AB13=\"\",\"\",VLOOKUP($AB13,$AL$61:$AR$67,4))","v":0},{"$f":"IF($AA13=\"\",0,$AA13)*IF($AB13=\"\",\"\",VLOOKUP($AB13,$AL$61:$AR$67,5))","v":0},{"$f":"IF($AA13=\"\",0,$AA13)*IF($AB13=\"\",\"\",VLOOKUP($AB13,$AL$61:$AR$67,6))","v":0},{"$f":"IF($AA13=\"\",0,$AA13)*IF($AB13=\"\",\"\",VLOOKUP($AB13,$AL$61:$AR$67,7))","v":0}]
[null,4,null,{"$f":"IF(C14=\"\",\"\",VLOOKUP($C14,Dimensionen!$B$3:$F$21,5))","v":""},{"$f":"IF(D14=\"\",\"\",VLOOKUP($C14,Dimensionen!$B$3:$F$21,2))","v":""},{"$f":"IF(E14=\"\",\"\",VLOOKUP($C14,Dimensionen!$B$3:$G$21,6))","v":""},"",null,"",0,null,0,0,null,{"$f":"IF(C14=\"\",\"\",'Optiflex-Profix'!J$5+Optipress!J$5+Optiarmatur!J$5+'Optiflex-Flowpress'!J$5)","v":""},null,"","","",null,{"$f":"SUM(R14:T14)","v":0},"",1,null,null,0,"",0,null,null,0,{"$f":"IF(C14=\"\",\"\",VLOOKUP($C14,Dimensionen!$B$3:$D$21,3)/1000)","v":""},{"$f":"IF(C14=\"\",\"\",VLOOKUP(C14,Dimensionen!$B$3:$E$21,4)/1000)","v":""},{"$f":"IF(L14=0,0,Reynoldszahl($AF14, $M14, $AH$6))","v":0},{"$f":"IF(L14=0,0,Lambdawertberechnung($AH14, $AG14, $AF14))","v":0},{"$f":"IF(L14=0,0,Strömungsart($AH14,$AG14,$AF14))","v":0},null,null,{"$f":"IF($AA14=\"\",0,$AA14)*IF($AB14=\"\",\"\",VLOOKUP($AB14,$AL$61:$AR$67,2))","v":0},{"$f":"IF($AA14=\"\",0,$AA14)*IF($AB14=\"\",\"\",VLOOKUP($AB14,$AL$61:$AR$67,3))","v":0},{"$f":"IF($AA14=\"\",0,$AA14)*IF($AB14=\"\",\"\",VLOOKUP($AB14,$AL$61:$AR$67,4))","v":0},{"$f":"IF($AA14=\"\",0,$AA14)*IF($AB14=\"\",\"\",VLOOKUP($AB14,$AL$61:$AR$67,5))","v":0},{"$f":"IF($AA14=\"\",0,$AA14)*IF($AB14=\"\",\"\",VLOOKUP($AB14,$AL$61:$AR$67,6))","v":0},{"$f":"IF($AA14=\"\",0,$AA14)*IF($AB14=\"\",\"\",VLOOKUP($AB14,$AL$61:$AR$67,7))","v":0}]
[null,5,null,{"$f":"IF(C15=\"\",\"\",VLOOKUP($C15,Dimensionen!$B$3:$F$21,5))","v":""},{"$f":"IF(D15=\"\",\"\",VLOOKUP($C15,Dimensionen!$B$3:$F$21,2))","v":""},{"$f":"IF(E15=\"\",\"\",VLOOKUP($C15,Dimensionen!$B$3:$G$21,6))","v":""},"",null,"",0,null,0,0,null,{"$f":"IF(C15=\"\",\"\",'Optiflex-Profix'!K$5+Optipress!K$5+Optiarmatur!K$5+'Optiflex-Flowpress'!K$5)","v":""},null,"","","",null,0,"",1,null,null,0,"",0,null,null,0,{"$f":"IF(C15=\"\",\"\",VLOOKUP($C15,Dimensionen!$B$3:$D$21,3)/1000)","v":""},{"$f":"IF(C15=\"\",\"\",VLOOKUP(C15,Dimensionen!$B$3:$E$21,4)/1000)","v":""},{"$f":"IF(L15=0,0,Reynoldszahl($AF15, $M15, $AH$6))","v":0},{"$f":"IF(L15=0,0,Lambdawertberechnung($AH15, $AG15, $AF15))","v":0},{"$f":"IF(L15=0,0,Strömungsart($AH15,$AG15,$AF15))","v":0},null,null,{"$f":"IF($AA15=\"\",0,$AA15)*IF($AB15=\"\",\"\",VLOOKUP($AB15,$AL$61:$AR$67,2))","v":0},{"$f":"IF($AA15=\"\",0,$AA15)*IF($AB15=\"\",\"\",VLOOKUP($AB15,$AL$61:$AR$67,3))","v":0},{"$f":"IF($AA15=\"\",0,$AA15)*IF($AB15=\"\",\"\",VLOOKUP($AB15,$AL$61:$AR$67,4))","v":0},{"$f":"IF($AA15=\"\",0,$AA15)*IF($AB15=\"\",\"\",VLOOKUP($AB15,$AL$61:$AR$67,5))","v":0},{"$f":"IF($AA15=\"\",0,$AA15)*IF($AB15=\"\",\"\",VLOOKUP($AB15,$AL$61:$AR$67,6))","v":0},{"$f":"IF($AA15=\"\",0,$AA15)*IF($AB15=\"\",\"\",VLOOKUP($AB15,$AL$61:$AR$67,7))","v":0}]
[null,6,null,{"$f":"IF(C16=\"\",\"\",VLOOKUP($C16,Dimensionen!$B$3:$F$21,5))","v":""},{"$f":"IF(D16=\"\",\"\",VLOOKUP($C16,Dimensionen!$B$3:$F$21,2))","v":""},{"$f":"IF(E16=\"\",\"\",VLOOKUP($C16,Dimensionen!$B$3:$G$21,6))","v":""},"",null,"",0,null,0,0,null,{"$f":"IF(C16=\"\",\"\",'Optiflex-Profix'!L$5+Optipress!L$5+Optiarmatur!L$5+'Optiflex-Flowpress'!L$5)","v":""},null,"","","",null,0,"",1,null,null,0,"",0,null,null,0,{"$f":"IF(C16=\"\",\"\",VLOOKUP($C16,Dimensionen!$B$3:$D$21,3)/1000)","v":""},{"$f":"IF(C16=\"\",\"\",VLOOKUP(C16,Dimensionen!$B$3:$E$21,4)/1000)","v":""},{"$f":"IF(L16=0,0,Reynoldszahl($AF16, $M16, $AH$6))","v":0},{"$f":"IF(L16=0,0,Lambdawertberechnung($AH16, $AG16, $AF16))","v":0},{"$f":"IF(L16=0,0,Strömungsart($AH16,$AG16,$AF16))","v":0},null,null,{"$f":"IF($AA16=\"\",0,$AA16)*IF($AB16=\"\",\"\",VLOOKUP($AB16,$AL$61:$AR$67,2))","v":0},{"$f":"IF($AA16=\"\",0,$AA16)*IF($AB16=\"\",\"\",VLOOKUP($AB16,$AL$61:$AR$67,3))","v":0},{"$f":"IF($AA16=\"\",0,$AA16)*IF($AB16=\"\",\"\",VLOOKUP($AB16,$AL$61:$AR$67,4))","v":0},{"$f":"IF($AA16=\"\",0,$AA16)*IF($AB16=\"\",\"\",VLOOKUP($AB16,$AL$61:$AR$67,5))","v":0},{"$f":"IF($AA16=\"\",0,$AA16)*IF($AB16=\"\",\"\",VLOOKUP($AB16,$AL$61:$AR$67,6))","v":0},{"$f":"IF($AA16=\"\",0,$AA16)*IF($AB16=\"\",\"\",VLOOKUP($AB16,$AL$61:$AR$67,7))","v":0}]
[null,7,null,{"$f":"IF(C17=\"\",\"\",VLOOKUP($C17,Dimensionen!$B$3:$F$21,5))","v":""},{"$f":"IF(D17=\"\",\"\",VLOOKUP($C17,Dimensionen!$B$3:$F$21,2))","v":""},{"$f":"IF(E17=\"\",\"\",VLOOKUP($C17,Dimensionen!$B$3:$G$21,6))","v":""},"",null,"",0,null,0,0,null,{"$f":"IF(C17=\"\",\"\",'Optiflex-Profix'!M$5+Optipress!M$5+Optiarmatur!M$5+'Optiflex-Flowpress'!M$5)","v":""},null,"","","",null,0,"",1,null,null,0,"",0,null,null,0,{"$f":"IF(C17=\"\",\"\",VLOOKUP($C17,Dimensionen!$B$3:$D$21,3)/1000)","v":""},{"$f":"IF(C17=\"\",\"\",VLOOKUP(C17,Dimensionen!$B$3:$E$21,4)/1000)","v":""},{"$f":"IF(L17=0,0,Reynoldszahl($AF17, $M17, $AH$6))","v":0},{"$f":"IF(L17=0,0,Lambdawertberechnung($AH17, $AG17, $AF17))","v":0},{"$f":"IF(L17=0,0,Strömungsart($AH17,$AG17,$AF17))","v":0},null,null,0,0,0,0,0,0]
[null,8,null,{"$f":"IF(C18=\"\",\"\",VLOOKUP($C18,Dimensionen!$B$3:$F$21,5))","v":""},{"$f":"IF(D18=\"\",\"\",VLOOKUP($C18,Dimensionen!$B$3:$F$21,2))","v":""},{"$f":"IF(E18=\"\",\"\",VLOOKUP($C18,Dimensionen!$B$3:$G$21,6))","v":""},"",null,"",0,null,0,0,null,{"$f":"IF(C18=\"\",\"\",'Optiflex-Profix'!N$5+Optipress!N$5+Optiarmatur!N$5+'Optiflex-Flowpress'!N$5)","v":""},null,"","","",null,0,"",1,null,null,0,"",0,null,null,0,{"$f":"IF(C18=\"\",\"\",VLOOKUP($C18,Dimensionen!$B$3:$D$21,3)/1000)","v":""},{"$f":"IF(C18=\"\",\"\",VLOOKUP(C18,Dimensionen!$B$3:$E$21,4)/1000)","v":""},{"$f":"IF(L18=0,0,Reynoldszahl($AF18, $M18, $AH$6))","v":0},{"$f":"IF(L18=0,0,Lambdawertberechnung($AH18, $AG18, $AF18))","v":0},{"$f":"IF(L18=0,0,Strömungsart($AH18,$AG18,$AF18))","v":0},null,null,0,0,0,0,0,0]
[null,9,null,{"$f":"IF(C19=\"\",\"\",VLOOKUP($C19,Dimensionen!$B$3:$F$21,5))","v":""},{"$f":"IF(D19=\"\",\"\",VLOOKUP($C19,Dimensionen!$B$3:$F$21,2))","v":""},{"$f":"IF(E19=\"\",\"\",VLOOKUP($C19,Dimensionen!$B$3:$G$21,6))","v":""},"",null,"",0,null,0,0,null,{"$f":"IF(C19=\"\",\"\",'Optiflex-Profix'!O$5+Optipress!O$5+Optiarmatur!O$5+'Optiflex-Flowpress'!O$5)","v":""},null,"","","",null,0,"",1,null,null,0,"",0,null,null,0,{"$f":"IF(C19=\"\",\"\",VLOOKUP($C19,Dimensionen!$B$3:$D$21,3)/1000)","v":""},{"$f":"IF(C19=\"\",\"\",VLOOKUP(C19,Dimensionen!$B$3:$E$21,4)/1000)","v":""},{"$f":"IF(L19=0,0,Reynoldszahl($AF19, $M19, $AH$6))","v":0},{"$f":"IF(L19=0,0,Lambdawertberechnung($AH19, $AG19, $AF19))","v":0},{"$f":"IF(L19=0,0,Strömungsart($AH19,$AG19,$AF19))","v":0},null,null,0,0,0,0,0,0]
[null,10,null,{"$f":"IF(C20=\"\",\"\",VLOOKUP($C20,Dimensionen!$B$3:$F$21,5))","v":""},{"$f":"IF(D20=\"\",\"\",VLOOKUP($C20,Dimensionen!$B$3:$F$21,2))","v":""},{"$f":"IF(E20=\"\",\"\",VLOOKUP($C20,Dimensionen!$B$3:$G$21,6))","v":""},"",null,"",0,null,0,0,null,{"$f":"IF(C20=\"\",\"\",'Optiflex-Profix'!P$5+Optipress!P$5+Optiarmatur!P$5+'Optiflex-Flowpress'!P$5)","v":""},null,"","","",null,0,"",1,null,null,0,"",0,null,null,0,{"$f":"IF(C20=\"\",\"\",VLOOKUP($C20,Dimensionen!$B$3:$D$21,3)/1000)","v":""},{"$f":"IF(C20=\"\",\"\",VLOOKUP(C20,Dimensionen!$B$3:$E$21,4)/1000)","v":""},{"$f":"IF(L20=0,0,Reynoldszahl($AF20, $M20, $AH$6))","v":0},{"$f":"IF(L20=0,0,Lambdawertberechnung($AH20, $AG20, $AF20))","v":0},{"$f":"IF(L20=0,0,Strömungsart($AH20,$AG20,$AF20))","v":0},null,null,0,0,0,0,0,0]
[null,11,null,{"$f":"IF(C21=\"\",\"\",VLOOKUP($C21,Dimensionen!$B$3:$F$21,5))","v":""},{"$f":"IF(D21=\"\",\"\",VLOOKUP($C21,Dimensionen!$B$3:$F$21,2))","v":""},{"$f":"IF(E21=\"\",\"\",VLOOKUP($C21,Dimensionen!$B$3:$G$21,6))","v":""},"",null,"",0,null,0,0,null,{"$f":"IF(C21=\"\",\"\",'Optiflex-Profix'!Q$5+Optipress!Q$5+Optiarmatur!Q$5+'Optiflex-Flowpress'!Q$5)","v":""},null,"","","",null,0,"",1,null,null,0,"",0,null,null,0,{"$f":"IF(C21=\"\",\"\",VLOOKUP($C21,Dimensionen!$B$3:$D$21,3)/1000)","v":""},{"$f":"IF(C21=\"\",\"\",VLOOKUP(C21,Dimensionen!$B$3:$E$21,4)/1000)","v":""},{"$f":"IF(L21=0,0,Reynoldszahl($AF21, $M21, $AH$6))","v":0},{"$f":"IF(L21=0,0,Lambdawertberechnung($AH21, $AG21, $AF21))","v":0},{"$f":"IF(L21=0,0,Strömungsart($AH21,$AG21,$AF21))","v":0},null,null,0,0,0,0,0,0]
[null,12,null,{"$f":"IF(C22=\"\",\"\",VLOOKUP($C22,Dimensionen!$B$3:$F$21,5))","v":""},{"$f":"IF(D22=\"\",\"\",VLOOKUP($C22,Dimensionen!$B$3:$F$21,2))","v":""},{"$f":"IF(E22=\"\",\"\",VLOOKUP($C22,Dimensionen!$B$3:$G$21,6))","v":""},"",null,"",0,null,0,0,null,{"$f":"IF(C22=\"\",\"\",'Optiflex-Profix'!R$5+Optipress!R$5+Optiarmatur!R$5+'Optiflex-Flowpress'!R$5)","v":""},null,"","","",null,0,"",1,null,null,0,"",0,null,null,0,{"$f":"IF(C22=\"\",\"\",VLOOKUP($C22,Dimensionen!$B$3:$D$21,3)/1000)","v":""},{"$f":"IF(C22=\"\",\"\",VLOOKUP(C22,Dimensionen!$B$3:$E$21,4)/1000)","v":""},{"$f":"IF(L22=0,0,Reynoldszahl($AF22, $M22, $AH$6))","v":0},{"$f":"IF(L22=0,0,Lambdawertberechnung($AH22, $AG22, $AF22))","v":0},{"$f":"IF(L22=0,0,Strömungsart($AH22,$AG22,$AF22))","v":0},null,null,0,0,0,0,0,0]
[null,13,null,{"$f":"IF(C23=\"\",\"\",VLOOKUP($C23,Dimensionen!$B$3:$F$21,5))","v":""},{"$f":"IF(D23=\"\",\"\",VLOOKUP($C23,Dimensionen!$B$3:$F$21,2))","v":""},{"$f":"IF(E23=\"\",\"\",VLOOKUP($C23,Dimensionen!$B$3:$G$21,6))","v":""},"",null,"",0,null,0,0,null,{"$f":"IF(C23=\"\",\"\",'Optiflex-Profix'!S$5+Optipress!S$5+Optiarmatur!S$5+'Optiflex-Flowpress'!S$5)","v":""},null,"","","",null,0,"",1,null,null,0,"",0,null,null,0,{"$f":"IF(C23=\"\",\"\",VLOOKUP($C23,Dimensionen!$B$3:$D$21,3)/1000)","v":""},{"$f":"IF(C23=\"\",\"\",VLOOKUP(C23,Dimensionen!$B$3:$E$21,4)/1000)","v":""},{"$f":"IF(L23=0,0,Reynoldszahl($AF23, $M23, $AH$6))","v":0},{"$f":"IF(L23=0,0,Lambdawertberechnung($AH23, $AG23, $AF23))","v":0},{"$f":"IF(L23=0,0,Strömungsart($AH23,$AG23,$AF23))","v":0},null,null,0,0,0,0,0,0]
[null,14,null,{"$f":"IF(C24=\"\",\"\",VLOOKUP($C24,Dimensionen!$B$3:$F$21,5))","v":""},{"$f":"IF(D24=\"\",\"\",VLOOKUP($C24,Dimensionen!$B$3:$F$21,2))","v":""},{"$f":"IF(E24=\"\",\"\",VLOOKUP($C24,Dimensionen!$B$3:$G$21,6))","v":""},"",null,"",0,null,0,0,null,{"$f":"IF(C24=\"\",\"\",'Optiflex-Profix'!T$5+Optipress!T$5+Optiarmatur!T$5+'Optiflex-Flowpress'!T$5)","v":""},null,"","","",null,0,"",1,null,null,0,"",0,null,null,0,{"$f":"IF(C24=\"\",\"\",VLOOKUP($C24,Dimensionen!$B$3:$D$21,3)/1000)","v":""},{"$f":"IF(C24=\"\",\"\",VLOOKUP(C24,Dimensionen!$B$3:$E$21,4)/1000)","v":""},{"$f":"IF(L24=0,0,Reynoldszahl($AF24, $M24, $AH$6))","v":0},{"$f":"IF(L24=0,0,Lambdawertberechnung($AH24, $AG24, $AF24))","v":0},{"$f":"IF(L24=0,0,Strömungsart($AH24,$AG24,$AF24))","v":0},null,null,0,0,0,0,0,0]
[null,15,null,{"$f":"IF(C25=\"\",\"\",VLOOKUP($C25,Dimensionen!$B$3:$F$21,5))","v":""},{"$f":"IF(D25=\"\",\"\",VLOOKUP($C25,Dimensionen!$B$3:$F$21,2))","v":""},{"$f":"IF(E25=\"\",\"\",VLOOKUP($C25,Dimensionen!$B$3:$G$21,6))","v":""},"",null,"",0,null,0,0,null,{"$f":"IF(C25=\"\",\"\",'Optiflex-Profix'!U$5+Optipress!U$5+Optiarmatur!U$5+'Optiflex-Flowpress'!U$5)","v":""},null,"","","",null,0,"",1,null,null,0,"",0,null,null,0,{"$f":"IF(C25=\"\",\"\",VLOOKUP($C25,Dimensionen!$B$3:$D$21,3)/1000)","v":""},{"$f":"IF(C25=\"\",\"\",VLOOKUP(C25,Dimensionen!$B$3:$E$21,4)/1000)","v":""},{"$f":"IF(L25=0,0,Reynoldszahl($AF25, $M25, $AH$6))","v":0},{"$f":"IF(L25=0,0,Lambdawertberechnung($AH25, $AG25, $AF25))","v":0},{"$f":"IF(L25=0,0,Strömungsart($AH25,$AG25,$AF25))","v":0},null,null,0,0,0,0,0,0]
[null,16,null,{"$f":"IF(C26=\"\",\"\",VLOOKUP($C26,Dimensionen!$B$3:$F$21,5))","v":""},{"$f":"IF(D26=\"\",\"\",VLOOKUP($C26,Dimensionen!$B$3:$F$21,2))","v":""},{"$f":"IF(E26=\"\",\"\",VLOOKUP($C26,Dimensionen!$B$3:$G$21,6))","v":""},"",null,"",0,null,0,0,null,{"$f":"IF(C26=\"\",\"\",'Optiflex-Profix'!V$5+Optipress!V$5+Optiarmatur!V$5+'Optiflex-Flowpress'!V$5)","v":""},null,"","","",null,0,"",1,null,null,0,"",0,null,null,0,{"$f":"IF(C26=\"\",\"\",VLOOKUP($C26,Dimensionen!$B$3:$D$21,3)/1000)","v":""},{"$f":"IF(C26=\"\",\"\",VLOOKUP(C26,Dimensionen!$B$3:$E$21,4)/1000)","v":""},{"$f":"IF(L26=0,0,Reynoldszahl($AF26, $M26, $AH$6))","v":0},{"$f":"IF(L26=0,0,Lambdawertberechnung($AH26, $AG26, $AF26))","v":0},{"$f":"IF(L26=0,0,Strömungsart($AH26,$AG26,$AF26))","v":0},null,null,0,0,0,0,0,0]
[null,17,null,{"$f":"IF(C27=\"\",\"\",VLOOKUP($C27,Dimensionen!$B$3:$F$21,5))","v":""},{"$f":"IF(D27=\"\",\"\",VLOOKUP($C27,Dimensionen!$B$3:$F$21,2))","v":""},{"$f":"IF(E27=\"\",\"\",VLOOKUP($C27,Dimensionen!$B$3:$G$21,6))","v":""},"",null,"",0,null,0,0,null,{"$f":"IF(C27=\"\",\"\",'Optiflex-Profix'!W$5+Optipress!W$5+Optiarmatur!W$5+'Optiflex-Flowpress'!W$5)","v":""},null,"","","",null,0,"",1,null,null,0,"",0,null,null,0,{"$f":"IF(C27=\"\",\"\",VLOOKUP($C27,Dimensionen!$B$3:$D$21,3)/1000)","v":""},{"$f":"IF(C27=\"\",\"\",VLOOKUP(C27,Dimensionen!$B$3:$E$21,4)/1000)","v":""},{"$f":"IF(L27=0,0,Reynoldszahl($AF27, $M27, $AH$6))","v":0},{"$f":"IF(L27=0,0,Lambdawertberechnung($AH27, $AG27, $AF27))","v":0},{"$f":"IF(L27=0,0,Strömungsart($AH27,$AG27,$AF27))","v":0},null,null,0,0,0,0,0,0]
[null,18,null,{"$f":"IF(C28=\"\",\"\",VLOOKUP($C28,Dimensionen!$B$3:$F$21,5))","v":""},{"$f":"IF(D28=\"\",\"\",VLOOKUP($C28,Dimensionen!$B$3:$F$21,2))","v":""},{"$f":"IF(E28=\"\",\"\",VLOOKUP($C28,Dimensionen!$B$3:$G$21,6))","v":""},"",null,"",0,null,0,0,null,{"$f":"IF(C28=\"\",\"\",'Optiflex-Profix'!X$5+Optipress!X$5+Optiarmatur!X$5+'Optiflex-Flowpress'!X$5)","v":""},null,"","","",null,0,"",1,null,null,0,"",0,null,null,0,{"$f":"IF(C28=\"\",\"\",VLOOKUP($C28,Dimensionen!$B$3:$D$21,3)/1000)","v":""},{"$f":"IF(C28=\"\",\"\",VLOOKUP(C28,Dimensionen!$B$3:$E$21,4)/1000)","v":""},{"$f":"IF(L28=0,0,Reynoldszahl($AF28, $M28, $AH$6))","v":0},{"$f":"IF(L28=0,0,Lambdawertberechnung($AH28, $AG28, $AF28))","v":0},{"$f":"IF(L28=0,0,Strömungsart($AH28,$AG28,$AF28))","v":0},null,null,0,0,0,0,0,0]
[null,19,null,{"$f":"IF(C29=\"\",\"\",VLOOKUP($C29,Dimensionen!$B$3:$F$21,5))","v":""},{"$f":"IF(D29=\"\",\"\",VLOOKUP($C29,Dimensionen!$B$3:$F$21,2))","v":""},{"$f":"IF(E29=\"\",\"\",VLOOKUP($C29,Dimensionen!$B$3:$G$21,6))","v":""},"",null,"",0,null,0,0,null,{"$f":"IF(C29=\"\",\"\",'Optiflex-Profix'!Y$5+Optipress!Y$5+Optiarmatur!Y$5+'Optiflex-Flowpress'!Y$5)","v":""},null,"","","",null,0,"",1,null,null,0,"",0,null,null,0,{"$f":"IF(C29=\"\",\"\",VLOOKUP($C29,Dimensionen!$B$3:$D$21,3)/1000)","v":""},{"$f":"IF(C29=\"\",\"\",VLOOKUP(C29,Dimensionen!$B$3:$E$21,4)/1000)","v":""},{"$f":"IF(L29=0,0,Reynoldszahl($AF29, $M29, $AH$6))","v":0},{"$f":"IF(L29=0,0,Lambdawertberechnung($AH29, $AG29, $AF29))","v":0},{"$f":"IF(L29=0,0,Strömungsart($AH29,$AG29,$AF29))","v":0},null,null,0,0,0,0,0,0]
[null,20,null,{"$f":"IF(C30=\"\",\"\",VLOOKUP($C30,Dimensionen!$B$3:$F$21,5))","v":""},{"$f":"IF(D30=\"\",\"\",VLOOKUP($C30,Dimensionen!$B$3:$F$21,2))","v":""},{"$f":"IF(E30=\"\",\"\",VLOOKUP($C30,Dimensionen!$B$3:$G$21,6))","v":""},"",null,{"$f":"IF(H30=0,\"\",H30*10)","v":""},0,null,{"$f":"J30+K30","v":0},0,null,{"$f":"IF(C30=\"\",\"\",'Optiflex-Profix'!Z$5+Optipress!Z$5+Optiarmatur!Z$5+'Optiflex-Flowpress'!Z$5)","v":""},null,"","","",null,0,"",1,null,null,0,"",0,null,null,0,{"$f":"IF(C30=\"\",\"\",VLOOKUP($C30,Dimensionen!$B$3:$D$21,3)/1000)","v":""},{"$f":"IF(C30=\"\",\"\",VLOOKUP(C30,Dimensionen!$B$3:$E$21,4)/1000)","v":""},{"$f":"IF(L30=0,0,Reynoldszahl($AF30, $M30, $AH$6))","v":0},{"$f":"IF(L30=0,0,Lambdawertberechnung($AH30, $AG30, $AF30))","v":0},{"$f":"IF(L30=0,0,Strömungsart($AH30,$AG30,$AF30))","v":0},null,null,0,0,0,0,0,0]
[null,21,null,{"$f":"IF(C31=\"\",\"\",VLOOKUP($C31,Dimensionen!$B$3:$F$21,5))","v":""},{"$f":"IF(D31=\"\",\"\",VLOOKUP($C31,Dimensionen!$B$3:$F$21,2))","v":""},{"$f":"IF(E31=\"\",\"\",VLOOKUP($C31,Dimensionen!$B$3:$G$21,6))","v":""},"",null,{"$f":"IF(H31=0,\"\",H31*10)","v":""},{"$f":"IF(AND(H31>0.5,H31<15.01,G31=5),0.598*POWER(H31,0.257),IF(AND(H31>0.3,G31=3),0.459*POWER(H31,0.353),IF(AND(H31>15,G31=5),0.459*POWER(H31,0.353),H31)))","v":0},null,{"$f":"J31+K31","v":0},0,null,{"$f":"IF(C31=\"\",\"\",'Optiflex-Profix'!AA$5+Optipress!AA$5+Optiarmatur!AA$5+'Optiflex-Flowpress'!AA$5)","v":""},null,"","","",null,0,"",1,null,null,0,"",0,null,null,0,{"$f":"IF(C31=\"\",\"\",VLOOKUP($C31,Dimensionen!$B$3:$D$21,3)/1000)","v":""},{"$f":"IF(C31=\"\",\"\",VLOOKUP(C31,Dimensionen!$B$3:$E$21,4)/1000)","v":""},{"$f":"IF(L31=0,0,Reynoldszahl($AF31, $M31, $AH$6))","v":0},{"$f":"IF(L31=0,0,Lambdawertberechnung($AH31, $AG31, $AF31))","v":0},{"$f":"IF(L31=0,0,Strömungsart($AH31,$AG31,$AF31))","v":0},null,null,0,0,0,0,0,0]
[null,22,null,{"$f":"IF(C32=\"\",\"\",VLOOKUP($C32,Dimensionen!$B$3:$F$21,5))","v":""},{"$f":"IF(D32=\"\",\"\",VLOOKUP($C32,Dimensionen!$B$3:$F$21,2))","v":""},{"$f":"IF(E32=\"\",\"\",VLOOKUP($C32,Dimensionen!$B$3:$G$21,6))","v":""},"",null,"",0,null,0,0,null,{"$f":"IF(C32=\"\",\"\",'Optiflex-Profix'!AB$5+Optipress!AB$5+Optiarmatur!AB$5+'Optiflex-Flowpress'!AB$5)","v":""},null,"","","",null,0,"",1,null,null,0,"",0,null,null,0,{"$f":"IF(C32=\"\",\"\",VLOOKUP($C32,Dimensionen!$B$3:$D$21,3)/1000)","v":""},{"$f":"IF(C32=\"\",\"\",VLOOKUP(C32,Dimensionen!$B$3:$E$21,4)/1000)","v":""},{"$f":"IF(L32=0,0,Reynoldszahl($AF32, $M32, $AH$6))","v":0},{"$f":"IF(L32=0,0,Lambdawertberechnung($AH32, $AG32, $AF32))","v":0},{"$f":"IF(L32=0,0,Strömungsart($AH32,$AG32,$AF32))","v":0},null,null,0,0,0,0,0,0]
[null,23,null,{"$f":"IF(C33=\"\",\"\",VLOOKUP($C33,Dimensionen!$B$3:$F$21,5))","v":""},{"$f":"IF(D33=\"\",\"\",VLOOKUP($C33,Dimensionen!$B$3:$F$21,2))","v":""},{"$f":"IF(E33=\"\",\"\",VLOOKUP($C33,Dimensionen!$B$3:$G$21,6))","v":""},"",null,"",0,null,0,0,null,{"$f":"IF(C33=\"\",\"\",'Optiflex-Profix'!AC$5+Optipress!AC$5+Optiarmatur!AC$5+'Optiflex-Flowpress'!AC$5)","v":""},null,"","","",null,0,"",1,null,null,0,"",0,null,null,0,{"$f":"IF(C33=\"\",\"\",VLOOKUP($C33,Dimensionen!$B$3:$D$21,3)/1000)","v":""},{"$f":"IF(C33=\"\",\"\",VLOOKUP(C33,Dimensionen!$B$3:$E$21,4)/1000)","v":""},{"$f":"IF(L33=0,0,Reynoldszahl($AF33, $M33, $AH$6))","v":0},{"$f":"IF(L33=0,0,Lambdawertberechnung($AH33, $AG33, $AF33))","v":0},{"$f":"IF(L33=0,0,Strömungsart($AH33,$AG33,$AF33))","v":0},null,null,0,0,0,0,0,0]
[null,24,null,{"$f":"IF(C34=\"\",\"\",VLOOKUP($C34,Dimensionen!$B$3:$F$21,5))","v":""},{"$f":"IF(D34=\"\",\"\",VLOOKUP($C34,Dimensionen!$B$3:$F$21,2))","v":""},{"$f":"IF(E34=\"\",\"\",VLOOKUP($C34,Dimensionen!$B$3:$G$21,6))","v":""},"",null,"",0,null,0,0,null,{"$f":"IF(C34=\"\",\"\",'Optiflex-Profix'!AD$5+Optipress!AD$5+Optiarmatur!AD$5+'Optiflex-Flowpress'!AD$5)","v":""},null,"","","",null,0,"",1,null,null,0,"",0,null,null,0,{"$f":"IF(C34=\"\",\"\",VLOOKUP($C34,Dimensionen!$B$3:$D$21,3)/1000)","v":""},{"$f":"IF(C34=\"\",\"\",VLOOKUP(C34,Dimensionen!$B$3:$E$21,4)/1000)","v":""},{"$f":"IF(L34=0,0,Reynoldszahl($AF34, $M34, $AH$6))","v":0},{"$f":"IF(L34=0,0,Lambdawertberechnung($AH34, $AG34, $AF34))","v":0},{"$f":"IF(L34=0,0,Strömungsart($AH34,$AG34,$AF34))","v":0},null,null,0,0,0,0,0,0]
[null,25,null,{"$f":"IF(C35=\"\",\"\",VLOOKUP($C35,Dimensionen!$B$3:$F$21,5))","v":""},{"$f":"IF(D35=\"\",\"\",VLOOKUP($C35,Dimensionen!$B$3:$F$21,2))","v":""},{"$f":"IF(E35=\"\",\"\",VLOOKUP($C35,Dimensionen!$B$3:$G$21,6))","v":""},"",null,"",0,null,0,0,null,{"$f":"IF(C35=\"\",\"\",'Optiflex-Profix'!AE$5+Optipress!AE$5+Optiarmatur!AE$5+'Optiflex-Flowpress'!AE$5)","v":""},null,"","","",null,0,"",1,null,null,0,"",0,null,null,0,{"$f":"IF(C35=\"\",\"\",VLOOKUP($C35,Dimensionen!$B$3:$D$21,3)/1000)","v":""},{"$f":"IF(C35=\"\",\"\",VLOOKUP(C35,Dimensionen!$B$3:$E$21,4)/1000)","v":""},{"$f":"IF(L35=0,0,Reynoldszahl($AF35, $M35, $AH$6))","v":0},{"$f":"IF(L35=0,0,Lambdawertberechnung($AH35, $AG35, $AF35))","v":0},{"$f":"IF(L35=0,0,Strömungsart($AH35,$AG35,$AF35))","v":0},null,null,0,0,0,0,0,0]
[null,26,null,{"$f":"IF(C36=\"\",\"\",VLOOKUP($C36,Dimensionen!$B$3:$F$21,5))","v":""},{"$f":"IF(D36=\"\",\"\",VLOOKUP($C36,Dimensionen!$B$3:$F$21,2))","v":""},{"$f":"IF(E36=\"\",\"\",VLOOKUP($C36,Dimensionen!$B$3:$G$21,6))","v":""},"",null,"",0,null,0,0,null,{"$f":"IF(C36=\"\",\"\",'Optiflex-Profix'!AF$5+Optipress!AF$5+Optiarmatur!AF$5+'Optiflex-Flowpress'!AF$5)","v":""},null,"","","",null,0,"",1,null,null,0,"",0,null,null,0,{"$f":"IF(C36=\"\",\"\",VLOOKUP($C36,Dimensionen!$B$3:$D$21,3)/1000)","v":""},{"$f":"IF(C36=\"\",\"\",VLOOKUP(C36,Dimensionen!$B$3:$E$21,4)/1000)","v":""},{"$f":"IF(L36=0,0,Reynoldszahl($AF36, $M36, $AH$6))","v":0},{"$f":"IF(L36=0,0,Lambdawertberechnung($AH36, $AG36, $AF36))","v":0},{"$f":"IF(L36=0,0,Strömungsart($AH36,$AG36,$AF36))","v":0},null,null,0,0,0,0,0,0]
[null,27,null,{"$f":"IF(C37=\"\",\"\",VLOOKUP($C37,Dimensionen!$B$3:$F$21,5))","v":""},{"$f":"IF(D37=\"\",\"\",VLOOKUP($C37,Dimensionen!$B$3:$F$21,2))","v":""},{"$f":"IF(E37=\"\",\"\",VLOOKUP($C37,Dimensionen!$B$3:$G$21,6))","v":""},"",null,"",0,null,0,0,null,{"$f":"IF(C37=\"\",\"\",'Optiflex-Profix'!AG$5+Optipress!AG$5+Optiarmatur!AG$5+'Optiflex-Flowpress'!AG$5)","v":""},null,"","","",null,0,"",1,null,null,0,"",0,null,null,0,{"$f":"IF(C37=\"\",\"\",VLOOKUP($C37,Dimensionen!$B$3:$D$21,3)/1000)","v":""},{"$f":"IF(C37=\"\",\"\",VLOOKUP(C37,Dimensionen!$B$3:$E$21,4)/1000)","v":""},{"$f":"IF(L37=0,0,Reynoldszahl($AF37, $M37, $AH$6))","v":0},{"$f":"IF(L37=0,0,Lambdawertberechnung($AH37, $AG37, $AF37))","v":0},{"$f":"IF(L37=0,0,Strömungsart($AH37,$AG37,$AF37))","v":0},null,null,0,0,0,0,0,0]
[null,28,null,{"$f":"IF(C38=\"\",\"\",VLOOKUP($C38,Dimensionen!$B$3:$F$21,5))","v":""},{"$f":"IF(D38=\"\",\"\",VLOOKUP($C38,Dimensionen!$B$3:$F$21,2))","v":""},{"$f":"IF(E38=\"\",\"\",VLOOKUP($C38,Dimensionen!$B$3:$G$21,6))","v":""},"",null,"",0,null,0,0,null,{"$f":"IF(C38=\"\",\"\",'Optiflex-Profix'!AH$5+Optipress!AH$5+Optiarmatur!AH$5+'Optiflex-Flowpress'!AH$5)","v":""},null,"","","",null,0,"",1,null,null,0,"",0,null,null,0,{"$f":"IF(C38=\"\",\"\",VLOOKUP($C38,Dimensionen!$B$3:$D$21,3)/1000)","v":""},{"$f":"IF(C38=\"\",\"\",VLOOKUP(C38,Dimensionen!$B$3:$E$21,4)/1000)","v":""},{"$f":"IF(L38=0,0,Reynoldszahl($AF38, $M38, $AH$6))","v":0},{"$f":"IF(L38=0,0,Lambdawertberechnung($AH38, $AG38, $AF38))","v":0},{"$f":"IF(L38=0,0,Strömungsart($AH38,$AG38,$AF38))","v":0},null,null,0,0,0,0,0,0]
[null,29,null,{"$f":"IF(C39=\"\",\"\",VLOOKUP($C39,Dimensionen!$B$3:$F$21,5))","v":""},{"$f":"IF(D39=\"\",\"\",VLOOKUP($C39,Dimensionen!$B$3:$F$21,2))","v":""},{"$f":"IF(E39=\"\",\"\",VLOOKUP($C39,Dimensionen!$B$3:$G$21,6))","v":""},"",null,"",0,null,0,0,null,{"$f":"IF(C39=\"\",\"\",'Optiflex-Profix'!AI$5+Optipress!AI$5+Optiarmatur!AI$5+'Optiflex-Flowpress'!AI$5)","v":""},null,"","","",null,0,"",1,null,null,0,"",0,null,null,0,{"$f":"IF(C39=\"\",\"\",VLOOKUP($C39,Dimensionen!$B$3:$D$21,3)/1000)","v":""},{"$f":"IF(C39=\"\",\"\",VLOOKUP(C39,Dimensionen!$B$3:$E$21,4)/1000)","v":""},{"$f":"IF(L39=0,0,Reynoldszahl($AF39, $M39, $AH$6))","v":0},{"$f":"IF(L39=0,0,Lambdawertberechnung($AH39, $AG39, $AF39))","v":0},{"$f":"IF(L39=0,0,Strömungsart($AH39,$AG39,$AF39))","v":0},null,null,0,0,0,0,0,0]
[null,30,null,{"$f":"IF(C40=\"\",\"\",VLOOKUP($C40,Dimensionen!$B$3:$F$21,5))","v":""},{"$f":"IF(D40=\"\",\"\",VLOOKUP($C40,Dimensionen!$B$3:$F$21,2))","v":""},{"$f":"IF(E40=\"\",\"\",VLOOKUP($C40,Dimensionen!$B$3:$G$21,6))","v":""},"",null,"",0,null,0,0,null,{"$f":"IF(C40=\"\",\"\",'Optiflex-Profix'!AJ$5+Optipress!AJ$5+Optiarmatur!AJ$5+'Optiflex-Flowpress'!AJ$5)","v":""},null,"","","",null,0,"",1,null,null,0,"",0,null,null,0,{"$f":"IF(C40=\"\",\"\",VLOOKUP($C40,Dimensionen!$B$3:$D$21,3)/1000)","v":""},{"$f":"IF(C40=\"\",\"\",VLOOKUP(C40,Dimensionen!$B$3:$E$21,4)/1000)","v":""},{"$f":"IF(L40=0,0,Reynoldszahl($AF40, $M40, $AH$6))","v":0},{"$f":"IF(L40=0,0,Lambdawertberechnung($AH40, $AG40, $AF40))","v":0},{"$f":"IF(L40=0,0,Strömungsart($AH40,$AG40,$AF40))","v":0},null,null,0,0,0,0,0,0]
[null,31,null,{"$f":"IF(C41=\"\",\"\",VLOOKUP($C41,Dimensionen!$B$3:$F$21,5))","v":""},{"$f":"IF(D41=\"\",\"\",VLOOKUP($C41,Dimensionen!$B$3:$F$21,2))","v":""},{"$f":"IF(E41=\"\",\"\",VLOOKUP($C41,Dimensionen!$B$3:$G$21,6))","v":""},"",null,"",0,null,0,0,null,{"$f":"IF(C41=\"\",\"\",'Optiflex-Profix'!AK$5+Optipress!AK$5+Optiarmatur!AK$5+'Optiflex-Flowpress'!AK$5)","v":""},null,"","","",null,0,"",1,null,null,0,"",0,null,null,0,{"$f":"IF(C41=\"\",\"\",VLOOKUP($C41,Dimensionen!$B$3:$D$21,3)/1000)","v":""},{"$f":"IF(C41=\"\",\"\",VLOOKUP(C41,Dimensionen!$B$3:$E$21,4)/1000)","v":""},{"$f":"IF(L41=0,0,Reynoldszahl($AF41, $M41, $AH$6))","v":0},{"$f":"IF(L41=0,0,Lambdawertberechnung($AH41, $AG41, $AF41))","v":0},{"$f":"IF(L41=0,0,Strömungsart($AH41,$AG41,$AF41))","v":0},null,null,0,0,0,0,0,0]
[null,32,null,{"$f":"IF(C42=\"\",\"\",VLOOKUP($C42,Dimensionen!$B$3:$F$21,5))","v":""},{"$f":"IF(D42=\"\",\"\",VLOOKUP($C42,Dimensionen!$B$3:$F$21,2))","v":""},{"$f":"IF(E42=\"\",\"\",VLOOKUP($C42,Dimensionen!$B$3:$G$21,6))","v":""},"",null,"",0,null,0,0,null,{"$f":"IF(C42=\"\",\"\",'Optiflex-Profix'!AL$5+Optipress!AL$5+Optiarmatur!AL$5+'Optiflex-Flowpress'!AL$5)","v":""},null,"","","",null,0,"",1,null,null,0,"",0,null,null,0,{"$f":"IF(C42=\"\",\"\",VLOOKUP($C42,Dimensionen!$B$3:$D$21,3)/1000)","v":""},{"$f":"IF(C42=\"\",\"\",VLOOKUP(C42,Dimensionen!$B$3:$E$21,4)/1000)","v":""},{"$f":"IF(L42=0,0,Reynoldszahl($AF42, $M42, $AH$6))","v":0},{"$f":"IF(L42=0,0,Lambdawertberechnung($AH42, $AG42, $AF42))","v":0},{"$f":"IF(L42=0,0,Strömungsart($AH42,$AG42,$AF42))","v":0},null,null,0,0,0,0,0,0]
[null,33,null,{"$f":"IF(C43=\"\",\"\",VLOOKUP($C43,Dimensionen!$B$3:$F$21,5))","v":""},{"$f":"IF(D43=\"\",\"\",VLOOKUP($C43,Dimensionen!$B$3:$F$21,2))","v":""},{"$f":"IF(E43=\"\",\"\",VLOOKUP($C43,Dimensionen!$B$3:$G$21,6))","v":""},"",null,"",0,null,0,0,null,{"$f":"IF(C43=\"\",\"\",'Optiflex-Profix'!AM$5+Optipress!AM$5+Optiarmatur!AM$5+'Optiflex-Flowpress'!AM$5)","v":""},null,"","","",null,0,"",1,null,null,0,"",0,null,null,0,{"$f":"IF(C43=\"\",\"\",VLOOKUP($C43,Dimensionen!$B$3:$D$21,3)/1000)","v":""},{"$f":"IF(C43=\"\",\"\",VLOOKUP(C43,Dimensionen!$B$3:$E$21,4)/1000)","v":""},{"$f":"IF(L43=0,0,Reynoldszahl($AF43, $M43, $AH$6))","v":0},{"$f":"IF(L43=0,0,Lambdawertberechnung($AH43, $AG43, $AF43))","v":0},{"$f":"IF(L43=0,0,Strömungsart($AH43,$AG43,$AF43))","v":0},null,null,0,0,0,0,0,0]
[null,34,null,{"$f":"IF(C44=\"\",\"\",VLOOKUP($C44,Dimensionen!$B$3:$F$21,5))","v":""},{"$f":"IF(D44=\"\",\"\",VLOOKUP($C44,Dimensionen!$B$3:$F$21,2))","v":""},{"$f":"IF(E44=\"\",\"\",VLOOKUP($C44,Dimensionen!$B$3:$G$21,6))","v":""},"",null,"",0,null,0,0,null,{"$f":"IF(C44=\"\",\"\",'Optiflex-Profix'!AN$5+Optipress!AN$5+Optiarmatur!AN$5+'Optiflex-Flowpress'!AN$5)","v":""},null,"","","",null,0,"",1,null,null,0,"",0,null,null,0,{"$f":"IF(C44=\"\",\"\",VLOOKUP($C44,Dimensionen!$B$3:$D$21,3)/1000)","v":""},{"$f":"IF(C44=\"\",\"\",VLOOKUP(C44,Dimensionen!$B$3:$E$21,4)/1000)","v":""},{"$f":"IF(L44=0,0,Reynoldszahl($AF44, $M44, $AH$6))","v":0},{"$f":"IF(L44=0,0,Lambdawertberechnung($AH44, $AG44, $AF44))","v":0},{"$f":"IF(L44=0,0,Strömungsart($AH44,$AG44,$AF44))","v":0},null,null,0,0,0,0,0,0]
[null,35,null,{"$f":"IF(C45=\"\",\"\",VLOOKUP($C45,Dimensionen!$B$3:$F$21,5))","v":""},{"$f":"IF(D45=\"\",\"\",VLOOKUP($C45,Dimensionen!$B$3:$F$21,2))","v":""},{"$f":"IF(E45=\"\",\"\",VLOOKUP($C45,Dimensionen!$B$3:$G$21,6))","v":""},"",null,"",0,null,0,0,null,{"$f":"IF(C45=\"\",\"\",'Optiflex-Profix'!AO$5+Optipress!AO$5+Optiarmatur!AO$5+'Optiflex-Flowpress'!AO$5)","v":""},null,"","","",null,0,"",1,null,null,0,"",0,null,null,0,{"$f":"IF(C45=\"\",\"\",VLOOKUP($C45,Dimensionen!$B$3:$D$21,3)/1000)","v":""},{"$f":"IF(C45=\"\",\"\",VLOOKUP(C45,Dimensionen!$B$3:$E$21,4)/1000)","v":""},{"$f":"IF(L45=0,0,Reynoldszahl($AF45, $M45, $AH$6))","v":0},{"$f":"IF(L45=0,0,Lambdawertberechnung($AH45, $AG45, $AF45))","v":0},{"$f":"IF(L45=0,0,Strömungsart($AH45,$AG45,$AF45))","v":0},null,null,0,0,0,0,0,0]
[null,36,null,{"$f":"IF(C46=\"\",\"\",VLOOKUP($C46,Dimensionen!$B$3:$F$21,5))","v":""},{"$f":"IF(D46=\"\",\"\",VLOOKUP($C46,Dimensionen!$B$3:$F$21,2))","v":""},{"$f":"IF(E46=\"\",\"\",VLOOKUP($C46,Dimensionen!$B$3:$G$21,6))","v":""},"",null,"",0,null,0,0,null,{"$f":"IF(C46=\"\",\"\",'Optiflex-Profix'!AP$5+Optipress!AP$5+Optiarmatur!AP$5+'Optiflex-Flowpress'!AP$5)","v":""},null,"","","",null,0,"",1,null,null,0,"",0,null,null,0,{"$f":"IF(C46=\"\",\"\",VLOOKUP($C46,Dimensionen!$B$3:$D$21,3)/1000)","v":""},{"$f":"IF(C46=\"\",\"\",VLOOKUP(C46,Dimensionen!$B$3:$E$21,4)/1000)","v":""},{"$f":"IF(L46=0,0,Reynoldszahl($AF46, $M46, $AH$6))","v":0},{"$f":"IF(L46=0,0,Lambdawertberechnung($AH46, $AG46, $AF46))","v":0},{"$f":"IF(L46=0,0,Strömungsart($AH46,$AG46,$AF46))","v":0},null,null,0,0,0,0,0,0]
[null,37,null,{"$f":"IF(C47=\"\",\"\",VLOOKUP($C47,Dimensionen!$B$3:$F$21,5))","v":""},{"$f":"IF(D47=\"\",\"\",VLOOKUP($C47,Dimensionen!$B$3:$F$21,2))","v":""},{"$f":"IF(E47=\"\",\"\",VLOOKUP($C47,Dimensionen!$B$3:$G$21,6))","v":""},"",null,"",0,null,0,0,null,{"$f":"IF(C47=\"\",\"\",'Optiflex-Profix'!AQ$5+Optipress!AQ$5+Optiarmatur!AQ$5+'Optiflex-Flowpress'!AQ$5)","v":""},null,"","","",null,0,"",1,null,null,0,"",0,null,null,0,{"$f":"IF(C47=\"\",\"\",VLOOKUP($C47,Dimensionen!$B$3:$D$21,3)/1000)","v":""},{"$f":"IF(C47=\"\",\"\",VLOOKUP(C47,Dimensionen!$B$3:$E$21,4)/1000)","v":""},{"$f":"IF(L47=0,0,Reynoldszahl($AF47, $M47, $AH$6))","v":0},{"$f":"IF(L47=0,0,Lambdawertberechnung($AH47, $AG47, $AF47))","v":0},{"$f":"IF(L47=0,0,Strömungsart($AH47,$AG47,$AF47))","v":0},null,null,0,0,0,0,0,0]
[null,38,null,{"$f":"IF(C48=\"\",\"\",VLOOKUP($C48,Dimensionen!$B$3:$F$21,5))","v":""},{"$f":"IF(D48=\"\",\"\",VLOOKUP($C48,Dimensionen!$B$3:$F$21,2))","v":""},{"$f":"IF(E48=\"\",\"\",VLOOKUP($C48,Dimensionen!$B$3:$G$21,6))","v":""},"",null,"",0,null,0,0,null,{"$f":"IF(C48=\"\",\"\",'Optiflex-Profix'!AR$5+Optipress!AR$5+Optiarmatur!AR$5+'Optiflex-Flowpress'!AR$5)","v":""},null,"","","",null,0,"",1,null,null,0,"",0,null,null,0,{"$f":"IF(C48=\"\",\"\",VLOOKUP($C48,Dimensionen!$B$3:$D$21,3)/1000)","v":""},{"$f":"IF(C48=\"\",\"\",VLOOKUP(C48,Dimensionen!$B$3:$E$21,4)/1000)","v":""},{"$f":"IF(L48=0,0,Reynoldszahl($AF48, $M48, $AH$6))","v":0},{"$f":"IF(L48=0,0,Lambdawertberechnung($AH48, $AG48, $AF48))","v":0},{"$f":"IF(L48=0,0,Strömungsart($AH48,$AG48,$AF48))","v":0},null,null,0,0,0,0,0,0]
[null,39,null,{"$f":"IF(C49=\"\",\"\",VLOOKUP($C49,Dimensionen!$B$3:$F$21,5))","v":""},{"$f":"IF(D49=\"\",\"\",VLOOKUP($C49,Dimensionen!$B$3:$F$21,2))","v":""},{"$f":"IF(E49=\"\",\"\",VLOOKUP($C49,Dimensionen!$B$3:$G$21,6))","v":""},"",null,"",0,null,0,0,null,{"$f":"IF(C49=\"\",\"\",'Optiflex-Profix'!AS$5+Optipress!AS$5+Optiarmatur!AS$5+'Optiflex-Flowpress'!AS$5)","v":""},null,"","","",null,0,"",1,null,null,0,"",0,null,null,0,{"$f":"IF(C49=\"\",\"\",VLOOKUP($C49,Dimensionen!$B$3:$D$21,3)/1000)","v":""},{"$f":"IF(C49=\"\",\"\",VLOOKUP(C49,Dimensionen!$B$3:$E$21,4)/1000)","v":""},{"$f":"IF(L49=0,0,Reynoldszahl($AF49, $M49, $AH$6))","v":0},{"$f":"IF(L49=0,0,Lambdawertberechnung($AH49, $AG49, $AF49))","v":0},{"$f":"IF(L49=0,0,Strömungsart($AH49,$AG49,$AF49))","v":0},null,null,0,0,0,0,0,0]
[null,40,null,{"$f":"IF(C50=\"\",\"\",VLOOKUP($C50,Dimensionen!$B$3:$F$21,5))","v":""},{"$f":"IF(D50=\"\",\"\",VLOOKUP($C50,Dimensionen!$B$3:$F$21,2))","v":""},{"$f":"IF(E50=\"\",\"\",VLOOKUP($C50,Dimensionen!$B$3:$G$21,6))","v":""},"",null,"",0,null,0,0,null,{"$f":"IF(C50=\"\",\"\",'Optiflex-Profix'!AT$5+Optipress!AT$5+Optiarmatur!AT$5+'Optiflex-Flowpress'!AT$5)","v":""},null,"","","",null,0,"",1," ",null,0,"",0,null,null,0,{"$f":"IF(C50=\"\",\"\",VLOOKUP($C50,Dimensionen!$B$3:$D$21,3)/1000)","v":""},{"$f":"IF(C50=\"\",\"\",VLOOKUP(C50,Dimensionen!$B$3:$E$21,4)/1000)","v":""},{"$f":"IF(L50=0,0,Reynoldszahl($AF50, $M50, $AH$6))","v":0},{"$f":"IF(L50=0,0,Lambdawertberechnung($AH50, $AG50, $AF50))","v":0},{"$f":"IF(L50=0,0,Strömungsart($AH50,$AG50,$AF50))","v":0},null,null,0,0,0,0,0,0]
[null,41,null,{"$f":"IF(C51=\"\",\"\",VLOOKUP($C51,Dimensionen!$B$3:$F$21,5))","v":""},{"$f":"IF(D51=\"\",\"\",VLOOKUP($C51,Dimensionen!$B$3:$F$21,2))","v":""},{"$f":"IF(E51=\"\",\"\",VLOOKUP($C51,Dimensionen!$B$3:$G$21,6))","v":""},"",null,"",0,null,0,0,null,{"$f":"IF(C51=\"\",\"\",'Optiflex-Profix'!AU$5+Optipress!AU$5+Optiarmatur!AU$5+'Optiflex-Flowpress'!AU$5)","v":""},null,"","","",null,0,"",1,null,null,0,"",0,null,null,0,{"$f":"IF(C51=\"\",\"\",VLOOKUP($C51,Dimensionen!$B$3:$D$21,3)/1000)","v":""},{"$f":"IF(C51=\"\",\"\",VLOOKUP(C51,Dimensionen!$B$3:$E$21,4)/1000)","v":""},{"$f":"IF(L51=0,0,Reynoldszahl($AF51, $M51, $AH$6))","v":0},{"$f":"IF(L51=0,0,Lambdawertberechnung($AH51, $AG51, $AF51))","v":0},{"$f":"IF(L51=0,0,Strömungsart($AH51,$AG51,$AF51))","v":0},null,null,0,0,0,0,0,0]
[null,42,null,{"$f":"IF(C52=\"\",\"\",VLOOKUP($C52,Dimensionen!$B$3:$F$21,5))","v":""},{"$f":"IF(D52=\"\",\"\",VLOOKUP($C52,Dimensionen!$B$3:$F$21,2))","v":""},{"$f":"IF(E52=\"\",\"\",VLOOKUP($C52,Dimensionen!$B$3:$G$21,6))","v":""},"",null,"",0,null,0,0,null,{"$f":"IF(C52=\"\",\"\",'Optiflex-Profix'!AV$5+Optipress!AV$5+Optiarmatur!AV$5+'Optiflex-Flowpress'!AV$5)","v":""},null,"","","",null,0,"",1,null,null,0,"",0,null,null,0,{"$f":"IF(C52=\"\",\"\",VLOOKUP($C52,Dimensionen!$B$3:$D$21,3)/1000)","v":""},{"$f":"IF(C52=\"\",\"\",VLOOKUP(C52,Dimensionen!$B$3:$E$21,4)/1000)","v":""},{"$f":"IF(L52=0,0,Reynoldszahl($AF52, $M52, $AH$6))","v":0},{"$f":"IF(L52=0,0,Lambdawertberechnung($AH52, $AG52, $AF52))","v":0},{"$f":"IF(L52=0,0,Strömungsart($AH52,$AG52,$AF52))","v":0},null,null,0,0,0,0,0,0]
[null,43,null,{"$f":"IF(C53=\"\",\"\",VLOOKUP($C53,Dimensionen!$B$3:$F$21,5))","v":""},{"$f":"IF(D53=\"\",\"\",VLOOKUP($C53,Dimensionen!$B$3:$F$21,2))","v":""},{"$f":"IF(E53=\"\",\"\",VLOOKUP($C53,Dimensionen!$B$3:$G$21,6))","v":""},"",null,"",0,null,0,0,null,{"$f":"IF(C53=\"\",\"\",'Optiflex-Profix'!AW$5+Optipress!AW$5+Optiarmatur!AW$5+'Optiflex-Flowpress'!AW$5)","v":""},null,"","","",null,0,"",1,null,null,0,"",0,null,null,0,{"$f":"IF(C53=\"\",\"\",VLOOKUP($C53,Dimensionen!$B$3:$D$21,3)/1000)","v":""},{"$f":"IF(C53=\"\",\"\",VLOOKUP(C53,Dimensionen!$B$3:$E$21,4)/1000)","v":""},{"$f":"IF(L53=0,0,Reynoldszahl($AF53, $M53, $AH$6))","v":0},{"$f":"IF(L53=0,0,Lambdawertberechnung($AH53, $AG53, $AF53))","v":0},{"$f":"IF(L53=0,0,Strömungsart($AH53,$AG53,$AF53))","v":0},null,null,0,0,0,0,0,0]
[null,44,null,{"$f":"IF(C54=\"\",\"\",VLOOKUP($C54,Dimensionen!$B$3:$F$21,5))","v":""},{"$f":"IF(D54=\"\",\"\",VLOOKUP($C54,Dimensionen!$B$3:$F$21,2))","v":""},{"$f":"IF(E54=\"\",\"\",VLOOKUP($C54,Dimensionen!$B$3:$G$21,6))","v":""},"",null,"",0,null,0,0,null,{"$f":"IF(C54=\"\",\"\",'Optiflex-Profix'!AX$5+Optipress!AX$5+Optiarmatur!AX$5+'Optiflex-Flowpress'!AX$5)","v":""},null,"","","",null,0,"",1,null,null,0,"",0,null,null,0,{"$f":"IF(C54=\"\",\"\",VLOOKUP($C54,Dimensionen!$B$3:$D$21,3)/1000)","v":""},{"$f":"IF(C54=\"\",\"\",VLOOKUP(C54,Dimensionen!$B$3:$E$21,4)/1000)","v":""},{"$f":"IF(L54=0,0,Reynoldszahl($AF54, $M54, $AH$6))","v":0},{"$f":"IF(L54=0,0,Lambdawertberechnung($AH54, $AG54, $AF54))","v":0},{"$f":"IF(L54=0,0,Strömungsart($AH54,$AG54,$AF54))","v":0},null,null,0,0,0,0,0,0]
[null,45,null,{"$f":"IF(C55=\"\",\"\",VLOOKUP($C55,Dimensionen!$B$3:$F$21,5))","v":""},{"$f":"IF(D55=\"\",\"\",VLOOKUP($C55,Dimensionen!$B$3:$F$21,2))","v":""},{"$f":"IF(E55=\"\",\"\",VLOOKUP($C55,Dimensionen!$B$3:$G$21,6))","v":""},"",null,"",0,null,0,0,null,{"$f":"IF(C55=\"\",\"\",'Optiflex-Profix'!AY$5+Optipress!AY$5+Optiarmatur!AY$5+'Optiflex-Flowpress'!AY$5)","v":""},null,"","","",null,0,"",1,null,null,0,"",0,null,null,0,{"$f":"IF(C55=\"\",\"\",VLOOKUP($C55,Dimensionen!$B$3:$D$21,3)/1000)","v":""},{"$f":"IF(C55=\"\",\"\",VLOOKUP(C55,Dimensionen!$B$3:$E$21,4)/1000)","v":""},{"$f":"IF(L55=0,0,Reynoldszahl($AF55, $M55, $AH$6))","v":0},{"$f":"IF(L55=0,0,Lambdawertberechnung($AH55, $AG55, $AF55))","v":0},{"$f":"IF(L55=0,0,Strömungsart($AH55,$AG55,$AF55))","v":0},null,null,0,0,0,0,0,0]
[null,46,null,{"$f":"IF(C56=\"\",\"\",VLOOKUP($C56,Dimensionen!$B$3:$F$21,5))","v":""},{"$f":"IF(D56=\"\",\"\",VLOOKUP($C56,Dimensionen!$B$3:$F$21,2))","v":""},{"$f":"IF(E56=\"\",\"\",VLOOKUP($C56,Dimensionen!$B$3:$G$21,6))","v":""},"",null,"",0,null,0,0,null,{"$f":"IF(C56=\"\",\"\",'Optiflex-Profix'!AZ$5+Optipress!AZ$5+Optiarmatur!AZ$5+'Optiflex-Flowpress'!AZ$5)","v":""},null,"","","",null,0,"",1,null,null,0,"",0,null,null,0,{"$f":"IF(C56=\"\",\"\",VLOOKUP($C56,Dimensionen!$B$3:$D$21,3)/1000)","v":""},{"$f":"IF(C56=\"\",\"\",VLOOKUP(C56,Dimensionen!$B$3:$E$21,4)/1000)","v":""},{"$f":"IF(L56=0,0,Reynoldszahl($AF56, $M56, $AH$6))","v":0},{"$f":"IF(L56=0,0,Lambdawertberechnung($AH56, $AG56, $AF56))","v":0},{"$f":"IF(L56=0,0,Strömungsart($AH56,$AG56,$AF56))","v":0},null,null,0,0,0,0,0,0]
[null,47,null,{"$f":"IF(C57=\"\",\"\",VLOOKUP($C57,Dimensionen!$B$3:$F$21,5))","v":""},{"$f":"IF(D57=\"\",\"\",VLOOKUP($C57,Dimensionen!$B$3:$F$21,2))","v":""},{"$f":"IF(E57=\"\",\"\",VLOOKUP($C57,Dimensionen!$B$3:$G$21,6))","v":""},"",null,"",0,null,0,0,null,{"$f":"IF(C57=\"\",\"\",'Optiflex-Profix'!BA$5+Optipress!BA$5+Optiarmatur!BA$5+'Optiflex-Flowpress'!BA$5)","v":""},null,"","","",null,0,"",1,null,null,0,"",0,null,null,0,{"$f":"IF(C57=\"\",\"\",VLOOKUP($C57,Dimensionen!$B$3:$D$21,3)/1000)","v":""},{"$f":"IF(C57=\"\",\"\",VLOOKUP(C57,Dimensionen!$B$3:$E$21,4)/1000)","v":""},{"$f":"IF(L57=0,0,Reynoldszahl($AF57, $M57, $AH$6))","v":0},{"$f":"IF(L57=0,0,Lambdawertberechnung($AH57, $AG57, $AF57))","v":0},{"$f":"IF(L57=0,0,Strömungsart($AH57,$AG57,$AF57))","v":0},null,null,0,0,0,0,0,0]
[null,48,null,{"$f":"IF(C58=\"\",\"\",VLOOKUP($C58,Dimensionen!$B$3:$F$21,5))","v":""},{"$f":"IF(D58=\"\",\"\",VLOOKUP($C58,Dimensionen!$B$3:$F$21,2))","v":""},{"$f":"IF(E58=\"\",\"\",VLOOKUP($C58,Dimensionen!$B$3:$G$21,6))","v":""},"",null,"",0,null,0,0,null,{"$f":"IF(C58=\"\",\"\",'Optiflex-Profix'!BB$5+Optipress!BB$5+Optiarmatur!BB$5+'Optiflex-Flowpress'!BB$5)","v":""},null,"","","",null,0,"",1,null,null,0,"",0,null,null,0,{"$f":"IF(C58=\"\",\"\",VLOOKUP($C58,Dimensionen!$B$3:$D$21,3)/1000)","v":""},{"$f":"IF(C58=\"\",\"\",VLOOKUP(C58,Dimensionen!$B$3:$E$21,4)/1000)","v":""},{"$f":"IF(L58=0,0,Reynoldszahl($AF58, $M58, $AH$6))","v":0},{"$f":"IF(L58=0,0,Lambdawertberechnung($AH58, $AG58, $AF58))","v":0},{"$f":"IF(L58=0,0,Strömungsart($AH58,$AG58,$AF58))","v":0},null,null,0,0,0,0,0,0]
[null,49,null,{"$f":"IF(C59=\"\",\"\",VLOOKUP($C59,Dimensionen!$B$3:$F$21,5))","v":""},{"$f":"IF(D59=\"\",\"\",VLOOKUP($C59,Dimensionen!$B$3:$F$21,2))","v":""},{"$f":"IF(E59=\"\",\"\",VLOOKUP($C59,Dimensionen!$B$3:$G$21,6))","v":""},"",null,"",0,null,0,0,null,{"$f":"IF(C59=\"\",\"\",'Optiflex-Profix'!BC$5+Optipress!BC$5+Optiarmatur!BC$5+'Optiflex-Flowpress'!BC$5)","v":""},null,"","","",null,0,"",1,null,null,0,"",0,null,null,0,{"$f":"IF(C59=\"\",\"\",VLOOKUP($C59,Dimensionen!$B$3:$D$21,3)/1000)","v":""},{"$f":"IF(C59=\"\",\"\",VLOOKUP(C59,Dimensionen!$B$3:$E$21,4)/1000)","v":""},{"$f":"IF(L59=0,0,Reynoldszahl($AF59, $M59, $AH$6))","v":0},{"$f":"IF(L59=0,0,Lambdawertberechnung($AH59, $AG59, $AF59))","v":0},{"$f":"IF(L59=0,0,Strömungsart($AH59,$AG59,$AF59))","v":0},null,null,0,0,0,0,0,0]
[null,50,null,{"$f":"IF(C60=\"\",\"\",VLOOKUP($C60,Dimensionen!$B$3:$F$21,5))","v":""},{"$f":"IF(D60=\"\",\"\",VLOOKUP($C60,Dimensionen!$B$3:$F$21,2))","v":""},{"$f":"IF(E60=\"\",\"\",VLOOKUP($C60,Dimensionen!$B$3:$G$21,6))","v":""},"",null,"",0,null,0,0,null,{"$f":"IF(C60=\"\",\"\",'Optiflex-Profix'!BD$5+Optipress!BD$5+Optiarmatur!BD$5+'Optiflex-Flowpress'!BD$5)","v":""},null,"","","",null,0,"",1,null,null,0,"",0,null,null,0,{"$f":"IF(C60=\"\",\"\",VLOOKUP($C60,Dimensionen!$B$3:$D$21,3)/1000)","v":""},{"$f":"IF(C60=\"\",\"\",VLOOKUP(C60,Dimensionen!$B$3:$E$21,4)/1000)","v":""},{"$f":"IF(L60=0,0,Reynoldszahl($AF60, $M60, $AH$6))","v":0},{"$f":"IF(L60=0,0,Lambdawertberechnung($AH60, $AG60, $AF60))","v":0},{"$f":"IF(L60=0,0,Strömungsart($AH60,$AG60,$AF60))","v":0},null,null,0,0,0,0,0,0]
[null,"Suppression: uniquement avec touche Delete!",null,null,null,null,null,null,null,null,null,null,null,null,null,null,null,null,null,"Perte de charge totale DpL","kPa",{"$f":"SUM(AE11:AE60)","v":0},null,null,null,null,null,null,null,null,null,null,null,null,null,null,null,0,0,0,0,0,0,0]
[null,null,null,null,null,null,null,null,null,"Vitesse d'écoulement max. admissible",null,null,null,null,"DpL avec facteur W3",null,null,null,null,0.85,"kPa",{"$f":"V61*T62","v":0},null,"Temps de soutirage selon SIA 385, \nfacteur 2 intégré dans le calcul\nsans ciruclation 15 s, \navec criculation 10 s.\nCondition de température:\n60 °C sortie chauffe-eau, 55 °C au distributeur, 50 °C à l'appareil","Groupe d'appareil",1,{"$f":"AM9","v":0},"[s]",null,null,null,null,null,null,null,null,null,1,1,0,0,0,0,0]
[null,null,null,null,null,null,null,null,null,null,null,"Conduite de soutirage","4 m/s",null,"+ év. appareils installés suppl. DpApp",null,null,null,null,null,"kPa",null,null,null,null,2,{"$f":"AN9","v":0},"[s]",null,null,null,null,null,null,null,null,null,2,0,1,0,0,0,0]
[null,null,null,null,null,null,null,null,null,null,null,"Distribution sur les étages","3 m/s",null,"+ différence de hauteur h2",null,null,null,null,"m   pRh2","kPa",{"$f":"S64*9.81","v":0},null,null,null,3,{"$f":"AO9","v":0},"[s]",null,null,null,null,null,null,null,null,null,3,0,0,1,0,0,0]
[null,null,null,null,null,null,null,null,null,null,null,"Conduite de distribution","2 m/s",null,"+ pression au courant min. au point de soutirage pminFl",null,null,null,null,null,"kPa",100,null,null,null,4,{"$f":"AP9","v":0},"[s]",null,null,null,null,null,null,null,null,null,4,0,0,0,1,0,0]
[null,"03.2022 V7.00. ©  R. Nussbaum SA",null,null,null,null,null,null,null,null,null,null,null,null,"+ perte de charge détendeur DpDM",null,null,null,null,null,"kPa",null,null,null,null,5,{"$f":"AQ9","v":0},"[s]",null,null,null,null,null,null,null,null,null,5,0,0,0,0,1,0]
[null,"L'utilisateur est seul responsable de l'exactitude.",null,null,null,null,null,null,null,null,null,null,null,null,"Besoin en pression min. après détendeur ",null,null,null,null,null,"kPa",{"$f":"SUM(V62:V66)","v":100},null,null,null,6,{"$f":"AR9","v":0},"[s]",null,null,null,null,null,null,null,null,null,6,0,0,0,0,0,1]

{"sheet":"Optipress","index":1,"n_rows":93,"n_cols":108,"rows_kept":93,"cut":false,"hidden":false,"merged":[[27,107,37,107],[84,1,87,1],[84,2,87,2],[84,3,87,3],[70,1,76,1],[70,2,76,2],[70,3,76,3],[77,1,83,1],[77,2,83,2],[77,3,83,3],[27,1,48,1],[27,2,37,2],[27,3,37,3],[38,2,48,2],[38,3,48,3],[1,4,3,4],[1,5,3,5],[16,1,26,1],[16,2,26,2],[16,3,26,3],[5,1,15,1],[5,2,15,2],[5,3,15,3],[1,1,3,1],[1,2,3,2],[1,3,3,3],[88,1,88,5],[49,1,59,1],[49,2,59,2],[49,3,59,3],[60,1,64,1],[60,2,64,2],[60,3,64,3],[65,1,67,1],[65,2,67,2],[65,3,67,3]]}
[]
[null,"N°","Symbole","Désignation","d","z","SP","SP","SP","SP","SP","SP","SP","SP","SP","SP","SP","SP","SP","SP","SP","SP","SP","SP","SP","SP","SP","SP","SP","SP","SP","SP","SP","SP","SP","SP","SP","SP","SP","SP","SP","SP","SP","SP","SP","SP","SP","SP","SP","SP","SP","SP","SP","SP","SP","SP"]
[null,null,null,null,null,null,1,2,3,4,5,6,7,8,9,10,11,12,13,14,15,16,17,18,19,20,21,22,23,24,25,26,27,28,29,30,31,32,33,34,35,36,37,38,39,40,41,42,43,44,45,46,47,48,49,50]
[null,null,null,null,null,null,"u.","u.","u.","u.","u.","u.","u.","u.","u.","u.","u.","u.","u.","u.","u.","u.","u.","u.","u.","u.","u.","u.","u.","u.","u.","u.","u.","u.","u.","u.","u.","u.","u.","u.","u.","u.","u.","u.","u.","u.","u.","u.","u.","u.","u.","u.","u.","u.","u.","u."]
[null,null,null,"Zeta-Totale Optipress",null,null,{"$f":"G89","v":0},{"$f":"H89","v":0},0,0,0,0,0,0,0,0,0,0,0,0,0,0,0,0,0,{"$f":"Z89","v":0},{"$f":"AA89","v":0},0,0,0,0,0,0,0,0,0,0,0,0,0,0,0,0,0,0,0,0,0,0,0,0,0,0,0,0,0]
[null,80000,null,"Optipress-Aquaplus-Coude 90°",15,0.8,null,null,null,null,null,null,null,null,null,null,null,null,null,null,null,null,null,null,null,null,null,null,null,null,null,null,null,null,null,null,null,null,null,null,null,null,null,null,null,null,null,null,null,null,null,null,null,null,null,null,null,{"$f":"$F6*G6","v":0},{"$f":"$F6*H6","v":0},{"$f":"$F6*I6","v":0},{"$f":"$F6*J6","v":0},{"$f":"$F6*K6","v":0},{"$f":"$F6*L6","v":0},{"$f":"$F6*M6","v":0},{"$f":"$F6*N6","v":0},{"$f":"$F6*O6","v":0},{"$f":"$F6*P6","v":0},{"$f":"$F6*Q6","v":0},{"$f":"$F6*R6","v":0},{"$f":"$F6*S6","v":0},{"$f":"$F6*T6","v":0},{"$f":"$F6*U6","v":0},{"$f":"$F6*V6","v":0},{"$f":"$F6*W6","v":0},{"$f":"$F6*X6","v":0},{"$f":"$F6*Y6","v":0},{"$f":"$F6*Z6","v":0},{"$f":"$F6*AA6","v":0},{"$f":"$F6*AB6","v":0},{"$f":"$F6*AC6","v":0},{"$f":"$F6*AD6","v":0},{"$f":"$F6*AE6","v":0},{"$f":"$F6*AF6","v":0},{"$f":"$F6*AG6","v":0},{"$f":"$F6*AH6","v":0},{"$f":"$F6*AI6","v":0},{"$f":"$F6*AJ6","v":0},{"$f":"$F6*AK6","v":0},{"$f":"$F6*AL6","v":0},{"$f":"$F6*AM6","v":0},{"$f":"$F6*AN6","v":0},{"$f":"$F6*AO6","v":0},{"$f":"$F6*AP6","v":0},{"$f":"$F6*AQ6","v":0},{"$f":"$F6*AR6","v":0},{"$f":"$F6*AS6","v":0},{"$f":"$F6*AT6","v":0},{"$f":"$F6*AU6","v":0},{"$f":"$F6*AV6","v":0},{"$f":"$F6*AW6","v":0},{"$f":"$F6*AX6","v":0},{"$f":"$F6*AY6","v":0},{"$f":"$F6*AZ6","v":0},{"$f":"$F6*BA6","v":0},{"$f":"$F6*BB6","v":0},{"$f":"$F6*BC6","v":0},{"$f":"$F6*BD6","v":0}]
[null,null,null,null,18,0.5,null,null,null,null,null,null,null,null,null,null,null,null,null,null,null,null,null,null,null,null,null,null,null,null,null,null,null,null,null,null,null,null,null,null,null,null,null,null,null,null,null,null,null,null,null,null,null,null,null,null,null,0,0,0,0,0,0,0,0,0,0,0,0,0,0,0,0,0,0,0,0,0,0,0,0,0,0,0,0,0,0,0,0,0,0,0,0,0,0,0,0,0,0,0,0,0,0,0,0,0,0]
[null,null,null,null,22,0.3,null,null,null,null,null,null,null,null,null,null,null,null,null,null,null,null,null,null,null,null,null,null,null,null,null,null,null,null,null,null,null,null,null,null,null,null,null,null,null,null,null,null,null,null,null,null,null,null,null,null,null,0,0,0,0,0,0,0,0,0,0,0,0,0,0,0,0,0,0,0,0,0,0,0,0,0,0,0,0,0,0,0,0,0,0,0,0,0,0,0,0,0,0,0,0,0,0,0,0,0,0]
[null,null,null,null,28,0.4,null,null,null,null,null,null,null,null,null,null,null,null,null,null,null,null,null,null,null,null,null,null,null,null,null,null,null,null,null,null,null,null,null,null,null,null,null,null,null,null,null,null,null,null,null,null,null,null,null,null,null,0,0,0,0,0,0,0,0,0,0,0,0,0,0,0,0,0,0,0,0,0,0,0,0,0,0,0,0,0,0,0,0,0,0,0,0,0,0,0,0,0,0,0,0,0,0,0,0,0,0]
[null,null,null,null,35,0.2,null,null,null,null,null,null,null,null,null,null,null,null,null,null,null,null,null,null,null,null,null,null,null,null,null,null,null,null,null,null,null,null,null,null,null,null,null,null,null,null,null,null,null,null,null,null,null,null,null,null,null,0,0,0,0,0,0,0,0,0,0,0,0,0,0,0,0,0,0,0,0,0,0,0,0,0,0,0,0,0,0,0,0,0,0,0,0,0,0,0,0,0,0,0,0,0,0,0,0,0,0]
[null,null,null,null,42,0.3,null,null,null,null,null,null,null,null,null,null,null,null,null,null,null,null,null,null,null,null,null,null,null,null,null,null,null,null,null,null,null,null,null,null,null,null,null,null,null,null,null,null,null,null,null,null,null,null,null,null,null,0,0,0,0,0,0,0,0,0,0,0,0,0,0,0,0,0,0,0,0,0,0,0,0,0,0,0,0,0,0,0,0,0,0,0,0,0,0,0,0,0,0,0,0,0,0,0,0,0,0]
[null,null,null,null,54,0.3,null,null,null,null,null,null,null,null,null,null,null,null,null,null,null,null,null,null,null,null,null,null,null,null,null,null,null,null,null,null,null,null,null,null,null,null,null,null,null,null,null,null,null,null,null,null,null,null,null,null,null,0,0,0,0,0,0,0,0,0,0,0,0,0,0,0,0,0,0,0,0,0,0,0,0,0,0,0,0,0,0,0,0,0,0,0,0,0,0,0,0,0,0,0,0,0,0,0,0,0,0]
[null,null,null,null,64,0.3,null,null,null,null,null,null,null,null,null,null,null,null,null,null,null,null,null,null,null,null,null,null,null,null,null,null,null,null,null,null,null,null,null,null,null,null,null,null,null,null,null,null,null,null,null,null,null,null,null,null,null,0,0,0,0,0,0,0,0,0,0,0,0,0,0,0,0,0,0,0,0,0,0,0,0,0,0,0,0,0,0,0,0,0,0,0,0,0,0,0,0,0,0,0,0,0,0,0,0,0,0]
[null,null,null,null,76.099999999999994,0.2,null,null,null,null,null,null,null,null,null,null,null,null,null,null,null,null,null,null,null,null,null,null,null,null,null,null,null,null,null,null,null,null,null,null,null,null,null,null,null,null,null,null,null,null,null,null,null,null,null,null,null,0,0,0,0,0,0,0,0,0,0,0,0,0,0,0,0,0,0,0,0,0,0,0,0,0,0,0,0,0,0,0,0,0,0,0,0,0,0,0,0,0,0,0,0,0,0,0,0,0,0]
[null,null,null,null,88.9,0.2,null,null,null,null,null,null,null,null,null,null,null,null,null,null,null,null,null,null,null,null,null,null,null,null,null,null,null,null,null,null,null,null,null,null,null,null,null,null,null,null,null,null,null,null,null,null,null,null,null,null,null,0,0,0,0,0,0,0,0,0,0,0,0,0,0,0,0,0,0,0,0,0,0,0,0,0,0,0,0,0,0,0,0,0,0,0,0,0,0,0,0,0,0,0,0,0,0,0,0,0,0]
[null,null,null,null,108,0.2,null,null,null,null,null,null,null,null,null,null,null,null,null,null,null,null,null,null,null,null,null,null,null,null,null,null,null,null,null,null,null,null,null,null,null,null,null,null,null,null,null,null,null,null,null,null,null,null,null,null,null,0,0,0,0,0,0,0,0,0,0,0,0,0,0,0,0,0,0,0,0,0,0,0,0,0,0,0,0,0,0,0,0,0,0,0,0,0,0,0,0,0,0,0,0,0,0,0,0,0,0]
[null,80004,null,"Optipress-Aquaplus-Coude 45°",15,0.5,null,null,null,null,null,null,null,null,null,null,null,null,null,null,null,null,null,null,null,null,null,null,null,null,null,null,null,null,null,null,null,null,null,null,null,null,null,null,null,null,null,null,null,null,null,null,null,null,null,null,null,0,0,0,0,0,0,0,0,0,0,0,0,0,0,0,0,0,0,0,0,0,0,0,0,0,0,0,0,0,0,0,0,0,0,0,0,0,0,0,0,0,0,0,0,0,0,0,0,0,0]
[null,null,null,null,18,0.3,null,null,null,null,null,null,null,null,null,null,null,null,null,null,null,null,null,null,null,null,null,null,null,null,null,null,null,null,null,null,null,null,null,null,null,null,null,null,null,null,null,null,null,null,null,null,null,null,null,null,null,0,0,0,0,0,0,0,0,0,0,0,0,0,0,0,0,0,0,0,0,0,0,0,0,0,0,0,0,0,0,0,0,0,0,0,0,0,0,0,0,0,0,0,0,0,0,0,0,0,0]
[null,null,null,null,22,0.7,null,null,null,null,null,null,null,null,null,null,null,null,null,null,null,null,null,null,null,null,null,null,null,null,null,null,null,null,null,null,null,null,null,null,null,null,null,null,null,null,null,null,null,null,null,null,null,null,null,null,null,0,0,0,0,0,0,0,0,0,0,0,0,0,0,0,0,0,0,0,0,0,0,0,0,0,0,0,0,0,0,0,0,0,0,0,0,0,0,0,0,0,0,0,0,0,0,0,0,0,0]
[null,null,null,null,28,0.4,null,null,null,null,null,null,null,null,null,null,null,null,null,null,null,null,null,null,null,null,null,null,null,null,null,null,null,null,null,null,null,null,null,null,null,null,null,null,null,null,null,null,null,null,null,null,null,null,null,null,null,0,0,0,0,0,0,0,0,0,0,0,0,0,0,0,0,0,0,0,0,0,0,0,0,0,0,0,0,0,0,0,0,0,0,0,0,0,0,0,0,0,0,0,0,0,0,0,0,0,0]
[null,null,null,null,35,0.3,null,null,null,null,null,null,null,null,null,null,null,null,null,null,null,null,null,null,null,null,null,null,null,null,null,null,null,null,null,null,null,null,null,null,null,null,null,null,null,null,null,null,null,null,null,null,null,null,null,null,null,0,0,0,0,0,0,0,0,0,0,0,0,0,0,0,0,0,0,0,0,0,0,0,0,0,0,0,0,0,0,0,0,0,0,0,0,0,0,0,0,0,0,0,0,0,0,0,0,0,0]
[null,null,null,null,42,0.2,null,null,null,null,null,null,null,null,null,null,null,null,null,null,null,null,null,null,null,null,null,null,null,null,null,null,null,null,null,null,null,null,null,null,null,null,null,null,null,null,null,null,null,null,null,null,null,null,null,null,null,0,0,0,0,0,0,0,0,0,0,0,0,0,0,0,0,0,0,0,0,0,0,0,0,0,0,0,0,0,0,0,0,0,0,0,0,0,0,0,0,0,0,0,0,0,0,0,0,0,0]
[null,null,null,null,54,0.2,null,null,null,null,null,null,null,null,null,null,null,null,null,null,null,null,null,null,null,null,null,null,null,null,null,null,null,null,null,null,null,null,null,null,null,null,null,null,null,null,null,null,null,null,null,null,null,null,null,null,null,0,0,0,0,0,0,0,0,0,0,0,0,0,0,0,0,0,0,0,0,0,0,0,0,0,0,0,0,0,0,0,0,0,0,0,0,0,0,0,0,0,0,0,0,0,0,0,0,0,0]
[null,null,null,null,64,0.2,null,null,null,null,null,null,null,null,null,null,null,null,null,null,null,null,null,null,null,null,null,null,null,null,null,null,null,null,null,null,null,null,null,null,null,null,null,null,null,null,null,null,null,null,null,null,null,null,null,null,null,0,0,0,0,0,0,0,0,0,0,0,0,0,0,0,0,0,0,0,0,0,0,0,0,0,0,0,0,0,0,0,0,0,0,0,0,0,0,0,0,0,0,0,0,0,0,0,0,0,0]
[null,null,null,null,76.099999999999994,0.2,null,null,null,null,null,null,null,null,null,null,null,null,null,null,null,null,null,null,null,null,null,null,null,null,null,null,null,null,null,null,null,null,null,null,null,null,null,null,null,null,null,null,null,null,null,null,null,null,null,null,null,0,0,0,0,0,0,0,0,0,0,0,0,0,0,0,0,0,0,0,0,0,0,0,0,0,0,0,0,0,0,0,0,0,0,0,0,0,0,0,0,0,0,0,0,0,0,0,0,0,0]
[null,null,null,null,88.9,0.2,null,null,null,null,null,null,null,null,null,null,null,null,null,null,null,null,null,null,null,null,null,null,null,null,null,null,null,null,null,null,null,null,null,null,null,null,null,null,null,null,null,null,null,null,null,null,null,null,null,null,null,0,0,0,0,0,0,0,0,0,0,0,0,0,0,0,0,0,0,0,0,0,0,0,0,0,0,0,0,0,0,0,0,0,0,0,0,0,0,0,0,0,0,0,0,0,0,0,0,0,0]
[null,null,null,null,108,0.1,null,null,null,null,null,null,null,null,null,null,null,null,null,null,null,null,null,null,null,null,null,null,null,null,null,null,null,null,null,null,null,null,null,null,null,null,null,null,null,null,null,null,null,null,null,null,null,null,null,null,null,0,0,0,0,0,0,0,0,0,0,0,0,0,0,0,0,0,0,0,0,0,0,0,0,0,0,0,0,0,0,0,0,0,0,0,0,0,0,0,0,0,0,0,0,0,0,0,0,0,0]
[null,80010,"Passage \ndroit","Optipress-Aquaplus-          Té",15,0.3,null,null,null,null,null,null,null,null,null,null,null,null,null,null,null,null,null,null,null,null,null,null,null,null,null,null,null,null,null,null,null,null,null,null,null,null,null,null,null,null,null,null,null,null,null,null,null,null,null,null,null,0,0,0,0,0,0,0,0,0,0,0,0,0,0,0,0,0,0,0,0,0,0,0,0,0,0,0,0,0,0,0,0,0,0,0,0,0,0,0,0,0,0,0,0,0,0,0,0,0,0,"Avec des pièces en T réduites, la valeur de résis-tance de la pièce en T égale est utilisée avec la plus petite dimen-sion de la pièce en T réduite pour le chemin d'écoulement à calculer."]
[null,null,null,null,18,0.3,null,null,null,null,null,null,null,null,null,null,null,null,null,null,null,null,null,null,null,null,null,null,null,null,null,null,null,null,null,null,null,null,null,null,null,null,null,null,null,null,null,null,null,null,null,null,null,null,null,null,null,0,0,0,0,0,0,0,0,0,0,0,0,0,0,0,0,0,0,0,0,0,0,0,0,0,0,0,0,0,0,0,0,0,0,0,0,0,0,0,0,0,0,0,0,0,0,0,0,0,0]
[null,null,null,null,22,0.2,null,null,null,null,null,null,null,null,null,null,null,null,null,null,null,null,null,null,null,null,null,null,null,null,null,null,null,null,null,null,null,null,null,null,null,null,null,null,null,null,null,null,null,null,null,null,null,null,null,null,null,0,0,0,0,0,0,0,0,0,0,0,0,0,0,0,0,0,0,0,0,0,0,0,0,0,0,0,0,0,0,0,0,0,0,0,0,0,0,0,0,0,0,0,0,0,0,0,0,0,0]
[null,null,null,null,28,0.1,null,null,null,null,null,null,null,null,null,null,null,null,null,null,null,null,null,null,null,null,null,null,null,null,null,null,null,null,null,null,null,null,null,null,null,null,null,null,null,null,null,null,null,null,null,null,null,null,null,null,null,0,0,0,0,0,0,0,0,0,0,0,0,0,0,0,0,0,0,0,0,0,0,0,0,0,0,0,0,0,0,0,0,0,0,0,0,0,0,0,0,0,0,0,0,0,0,0,0,0,0]
[null,null,null,null,35,0.1,null,null,null,null,null,null,null,null,null,null,null,null,null,null,null,null,null,null,null,null,null,null,null,null,null,null,null,null,null,null,null,null,null,null,null,null,null,null,null,null,null,null,null,null,null,null,null,null,null,null,null,0,0,0,0,0,0,0,0,0,0,0,0,0,0,0,0,0,0,0,0,0,0,0,0,0,0,0,0,0,0,0,0,0,0,0,0,0,0,0,0,0,0,0,0,0,0,0,0,0,0]
[null,null,null,null,42,0.1,null,null,null,null,null,null,null,null,null,null,null,null,null,null,null,null,null,null,null,null,null,null,null,null,null,null,null,null,null,null,null,null,null,null,null,null,null,null,null,null,null,null,null,null,null,null,null,null,null,null,null,0,0,0,0,0,0,0,0,0,0,0,0,0,0,0,0,0,0,0,0,0,0,0,0,0,0,0,0,0,0,0,0,0,0,0,0,0,0,0,0,0,0,0,0,0,0,0,0,0,0]
[null,null,null,null,54,0.1,null,null,null,null,null,null,null,null,null,null,null,null,null,null,null,null,null,null,null,null,null,null,null,null,null,null,null,null,null,null,null,null,null,null,null,null,null,null,null,null,null,null,null,null,null,null,null,null,null,null,null,0,0,0,0,0,0,0,0,0,0,0,0,0,0,0,0,0,0,0,0,0,0,0,0,0,0,0,0,0,0,0,0,0,0,0,0,0,0,0,0,0,0,0,0,0,0,0,0,0,0]
[null,null,null,null,64,0.1,null,null,null,null,null,null,null,null,null,null,null,null,null,null,null,null,null,null,null,null,null,null,null,null,null,null,null,null,null,null,null,null,null,null,null,null,null,null,null,null,null,null,null,null,null,null,null,null,null,null,null,0,0,0,0,0,0,0,0,0,0,0,0,0,0,0,0,0,0,0,0,0,0,0,0,0,0,0,0,0,0,0,0,0,0,0,0,0,0,0,0,0,0,0,0,0,0,0,0,0,0]
[null,null,null,null,76.099999999999994,0.1,null,null,null,null,null,null,null,null,null,null,null,null,null,null,null,null,null,null,null,null,null,null,null,null,null,null,null,null,null,null,null,null,null,null,null,null,null,null,null,null,null,null,null,null,null,null,null,null,null,null,null,0,0,0,0,0,0,0,0,0,0,0,0,0,0,0,0,0,0,0,0,0,0,0,0,0,0,0,0,0,0,0,0,0,0,0,0,0,0,0,0,0,0,0,0,0,0,0,0,0,0]
[null,null,null,null,88.9,0.1,null,null,null,null,null,null,null,null,null,null,null,null,null,null,null,null,null,null,null,null,null,null,null,null,null,null,null,null,null,null,null,null,null,null,null,null,null,null,null,null,null,null,null,null,null,null,null,null,null,null,null,0,0,0,0,0,0,0,0,0,0,0,0,0,0,0,0,0,0,0,0,0,0,0,0,0,0,0,0,0,0,0,0,0,0,0,0,0,0,0,0,0,0,0,0,0,0,0,0,0,0]
[null,null,null,null,108,0.1,null,null,null,null,null,null,null,null,null,null,null,null,null,null,null,null,null,null,null,null,null,null,null,null,null,null,null,null,null,null,null,null,null,null,null,null,null,null,null,null,null,null,null,null,null,null,null,null,null,null,null,{"$f":"$F38*G38","v":0},0,0,0,0,0,0,0,0,0,0,0,0,0,0,0,0,0,0,0,0,0,0,0,0,0,0,0,0,0,0,0,0,0,0,0,0,0,0,0,0,0,0,0,0,0,0,0,0,0]
[null,null,"Passage \néquerre","Optipress-Aquaplus-          Té",15,1.3,null,null,null,null,null,null,null,null,null,null,null,null,null,null,null,null,null,null,null,null,null,null,null,null,null,null,null,null,null,null,null,null,null,null,null,null,null,null,null,null,null,null,null,null,null,null,null,null,null,null,null,0,0,0,0,0,0,0,0,0,0,0,0,0,0,0,0,0,0,0,0,0,0,0,0,0,0,0,0,0,0,0,0,0,0,0,0,0,0,0,0,0,0,0,0,0,0,0,0,0,0]
[null,null,null,null,18,1.2,null,null,null,null,null,null,null,null,null,null,null,null,null,null,null,null,null,null,null,null,null,null,null,null,null,null,null,null,null,null,null,null,null,null,null,null,null,null,null,null,null,null,null,null,null,null,null,null,null,null,null,0,0,0,0,0,0,0,0,0,0,0,0,0,0,0,0,0,0,0,0,0,0,0,0,0,0,0,0,0,0,0,0,0,0,0,0,0,0,0,0,0,0,0,0,0,0,0,0,0,0]
[null,null,null,null,22,1.1000000000000001,null,null,null,null,null,null,null,null,null,null,null,null,null,null,null,null,null,null,null,null,null,null,null,null,null,null,null,null,null,null,null,null,null,null,null,null,null,null,null,null,null,null,null,null,null,null,null,null,null,null,null,0,0,0,0,0,0,0,0,0,0,0,0,0,0,0,0,0,0,0,0,0,0,0,0,0,0,0,0,0,0,0,0,0,0,0,0,0,0,0,0,0,0,0,0,0,0,0,0,0,0]
[null,null,null,null,28,1.1000000000000001,null,null,null,null,null,null,null,null,null,null,null,null,null,null,null,null,null,null,null,null,null,null,null,null,null,null,null,null,null,null,null,null,null,null,null,null,null,null,null,null,null,null,null,null,null,null,null,null,null,null,null,0,0,0,0,0,0,0,0,0,0,0,0,0,0,0,0,0,0,0,0,0,0,0,0,0,0,0,0,0,0,0,0,0,0,0,0,0,0,0,0,0,0,0,0,0,0,0,0,0,0]
[null,null,null,null,35,0.9,null,null,null,null,null,null,null,null,null,null,null,null,null,null,null,null,null,null,null,null,null,null,null,null,null,null,null,null,null,null,null,null,null,null,null,null,null,null,null,null,null,null,null,null,null,null,null,null,null,null,null,0,0,0,0,0,0,0,0,0,0,0,0,0,0,0,0,0,0,0,0,0,0,0,0,0,0,0,0,0,0,0,0,0,0,0,0,0,0,0,0,0,0,0,0,0,0,0,0,0,0]
[null,null,null,null,42,0.9,null,null,null,null,null,null,null,null,null,null,null,null,null,null,null,null,null,null,null,null,null,null,null,null,null,null,null,null,null,null,null,null,null,null,null,null,null,null,null,null,null,null,null,null,null,null,null,null,null,null,null,0,0,0,0,0,0,0,0,0,0,0,0,0,0,0,0,0,0,0,0,0,0,0,0,0,0,0,0,0,0,0,0,0,0,0,0,0,0,0,0,0,0,0,0,0,0,0,0,0,0]
[null,null,null,null,54,0.9,null,null,null,null,null,null,null,null,null,null,null,null,null,null,null,null,null,null,null,null,null,null,null,null,null,null,null,null,null,null,null,null,null,null,null,null,null,null,null,null,null,null,null,null,null,null,null,null,null,null,null,0,0,0,0,0,0,0,0,0,0,0,0,0,0,0,0,0,0,0,0,0,0,0,0,0,0,0,0,0,0,0,0,0,0,0,0,0,0,0,0,0,0,0,0,0,0,0,0,0,0]
[null,null,null,null,64,0.8,null,null,null,null,null,null,null,null,null,null,null,null,null,null,null,null,null,null,null,null,null,null,null,null,null,null,null,null,null,null,null,null,null,null,null,null,null,null,null,null,null,null,null,null,null,null,null,null,null,null,null,0,0,0,0,0,0,0,0,0,0,0,0,0,0,0,0,0,0,0,0,0,0,0,0,0,0,0,0,0,0,0,0,0,0,0,0,0,0,0,0,0,0,0,0,0,0,0,0,0,0]
[null,null,null,null,76.099999999999994,0.8,null,null,null,null,null,null,null,null,null,null,null,null,null,null,null,null,null,null,null,null,null,null,null,null,null,null,null,null,null,null,null,null,null,null,null,null,null,null,null,null,null,null,null,null,null,null,null,null,null,null,null,0,0,0,0,0,0,0,0,0,0,0,0,0,0,0,0,0,0,0,0,0,0,0,0,0,0,0,0,0,0,0,0,0,0,0,0,0,0,0,0,0,0,0,0,0,0,0,0,0,0]
[null,null,null,null,88.9,0.7,null,null,null,null,null,null,null,null,null,null,null,null,null,null,null,null,null,null,null,null,null,null,null,null,null,null,null,null,null,null,null,null,null,null,null,null,null,null,null,null,null,null,null,null,null,null,null,null,null,null,null,0,0,0,0,0,0,0,0,0,0,0,0,0,0,0,0,0,0,0,0,0,0,0,0,0,0,0,0,0,0,0,0,0,0,0,0,0,0,0,0,0,0,0,0,0,0,0,0,0,0]
[null,null,null,null,108,0.6,null,null,null,null,null,null,null,null,null,null,null,null,null,null,null,null,null,null,null,null,null,null,null,null,null,null,null,null,null,null,null,null,null,null,null,null,null,null,null,null,null,null,null,null,null,null,null,null,null,null,null,0,0,0,0,0,0,0,0,0,0,0,0,0,0,0,0,0,0,0,0,0,0,0,0,0,0,0,0,0,0,0,0,0,0,0,0,0,0,0,0,0,0,0,0,0,0,0,0,0,0]
[null,80020,null,"Optipress-Aquaplus-Manchon",15,0.4,null,null,null,null,null,null,null,null,null,null,null,null,null,null,null,null,null,null,null,null,null,null,null,null,null,null,null,null,null,null,null,null,null,null,null,null,null,null,null,null,null,null,null,null,null,null,null,null,null,null,null,0,0,0,0,0,0,0,0,0,0,0,0,0,0,0,0,0,0,0,0,0,0,0,0,0,0,0,0,0,0,0,0,0,0,0,0,0,0,0,0,0,0,0,0,0,0,0,0,0,0]
[null,null,null,null,18,0.2,null,null,null,null,null,null,null,null,null,null,null,null,null,null,null,null,null,null,null,null,null,null,null,null,null,null,null,null,null,null,null,null,null,null,null,null,null,null,null,null,null,null,null,null,null,null,null,null,null,null,null,0,0,0,0,0,0,0,0,0,0,0,0,0,0,0,0,0,0,0,0,0,0,0,0,0,0,0,0,0,0,0,0,0,0,0,0,0,0,0,0,0,0,0,0,0,0,0,0,0,0]
[null,null,null,null,22,0.2,null,null,null,null,null,null,null,null,null,null,null,null,null,null,null,null,null,null,null,null,null,null,null,null,null,null,null,null,null,null,null,null,null,null,null,null,null,null,null,null,null,null,null,null,null,null,null,null,null,null,null,0,0,0,0,0,0,0,0,0,0,0,0,0,0,0,0,0,0,0,0,0,0,0,0,0,0,0,0,0,0,0,0,0,0,0,0,0,0,0,0,0,0,0,0,0,0,0,0,0,0]
[null,null,null,null,28,0.2,null,null,null,null,null,null,null,null,null,null,null,null,null,null,null,null,null,null,null,null,null,null,null,null,null,null,null,null,null,null,null,null,null,null,null,null,null,null,null,null,null,null,null,null,null,null,null,null,null,null,null,0,0,0,0,0,0,0,0,0,0,0,0,0,0,0,0,0,0,0,0,0,0,0,0,0,0,0,0,0,0,0,0,0,0,0,0,0,0,0,0,0,0,0,0,0,0,0,0,0,0]
[null,null,null,null,35,0.2,null,null,null,null,null,null,null,null,null,null,null,null,null,null,null,null,null,null,null,null,null,null,null,null,null,null,null,null,null,null,null,null,null,null,null,null,null,null,null,null,null,null,null,null,null,null,null,null,null,null,null,0,0,0,0,0,0,0,0,0,0,0,0,0,0,0,0,0,0,0,0,0,0,0,0,0,0,0,0,0,0,0,0,0,0,0,0,0,0,0,0,0,0,0,0,0,0,0,0,0,0]
[null,null,null,null,42,0.1,null,null,null,null,null,null,null,null,null,null,null,null,null,null,null,null,null,null,null,null,null,null,null,null,null,null,null,null,null,null,null,null,null,null,null,null,null,null,null,null,null,null,null,null,null,null,null,null,null,null,null,0,0,0,0,0,0,0,0,0,0,0,0,0,0,0,0,0,0,0,0,0,0,0,0,0,0,0,0,0,0,0,0,0,0,0,0,0,0,0,0,0,0,0,0,0,0,0,0,0,0]
[null,null,null,null,54,0.1,null,null,null,null,null,null,null,null,null,null,null,null,null,null,null,null,null,null,null,null,null,null,null,null,null,null,null,null,null,null,null,null,null,null,null,null,null,null,null,null,null,null,null,null,null,null,null,null,null,null,null,0,0,0,0,0,0,0,0,0,0,0,0,0,0,0,0,0,0,0,0,0,0,0,0,0,0,0,0,0,0,0,0,0,0,0,0,0,0,0,0,0,0,0,0,0,0,0,0,0,0]
[null,null,null,null,64,0.1,null,null,null,null,null,null,null,null,null,null,null,null,null,null,null,null,null,null,null,null,null,null,null,null,null,null,null,null,null,null,null,null,null,null,null,null,null,null,null,null,null,null,null,null,null,null,null,null,null,null,null,0,0,0,0,0,0,0,0,0,0,0,0,0,0,0,0,0,0,0,0,0,0,0,0,0,0,0,0,0,0,0,0,0,0,0,0,0,0,0,0,0,0,0,0,0,0,0,0,0,0]
[null,null,null,null,76.099999999999994,0.1,null,null,null,null,null,null,null,null,null,null,null,null,null,null,null,null,null,null,null,null,null,null,null,null,null,null,null,null,null,null,null,null,null,null,null,null,null,null,null,null,null,null,null,null,null,null,null,null,null,null,null,0,0,0,0,0,0,0,0,0,0,0,0,0,0,0,0,0,0,0,0,0,0,0,0,0,0,0,0,0,0,0,0,0,0,0,0,0,0,0,0,0,0,0,0,0,0,0,0,0,0]
[null,null,null,null,88.9,0.1,null,null,null,null,null,null,null,null,null,null,null,null,null,null,null,null,null,null,null,null,null,null,null,null,null,null,null,null,null,null,null,null,null,null,null,null,null,null,null,null,null,null,null,null,null,null,null,null,null,null,null,0,0,0,0,0,0,0,0,0,0,0,0,0,0,0,0,0,0,0,0,0,0,0,0,0,0,0,0,0,0,0,0,0,0,0,0,0,0,0,0,0,0,0,0,0,0,0,0,0,0]
[null,null,null,null,108,0.1,null,null,null,null,null,null,null,null,null,null,null,null,null,null,null,null,null,null,null,null,null,null,null,null,null,null,null,null,null,null,null,null,null,null,null,null,null,null,null,null,null,null,null,null,null,null,null,null,null,null,null,0,0,0,0,0,0,0,0,0,0,0,0,0,0,0,0,0,0,0,0,0,0,0,0,0,0,0,0,0,0,0,0,0,0,0,0,0,0,0,0,0,0,0,0,0,0,0,0,0,0]
[null,80050,null,"Optipress-Aquaplus-Equerre de raccordement","15 x ½",1.6,null,null,null,null,null,null,null,null,null,null,null,null,null,null,null,null,null,null,null,null,null,null,null,null,null,null,null,null,null,null,null,null,null,null,null,null,null,null,null,null,null,null,null,null,null,null,null,null,null,null,null,0,0,0,0,0,0,0,0,0,0,0,0,0,0,0,0,0,0,0,0,0,0,0,0,0,0,0,0,0,0,0,0,0,0,0,0,0,0,0,0,0,0,0,0,0,0,0,0,0,0]
[null,null,null,null,"18 x ½",2,null,null,null,null,null,null,null,null,null,null,null,null,null,null,null,null,null,null,null,null,null,null,null,null,null,null,null,null,null,null,null,null,null,null,null,null,null,null,null,null,null,null,null,null,null,null,null,null,null,null,null,0,0,0,0,0,0,0,0,0,0,0,0,0,0,0,0,0,0,0,0,0,0,0,0,0,0,0,0,0,0,0,0,0,0,0,0,0,0,0,0,0,0,0,0,0,0,0,0,0,0]
[null,null,null,null,"22 x ½",1.6,null,null,null,null,null,null,null,null,null,null,null,null,null,null,null,null,null,null,null,null,null,null,null,null,null,null,null,null,null,null,null,null,null,null,null,null,null,null,null,null,null,null,null,null,null,null,null,null,null,null,null,0,0,0,0,0,0,0,0,0,0,0,0,0,0,0,0,0,0,0,0,0,0,0,0,0,0,0,0,0,0,0,0,0,0,0,0,0,0,0,0,0,0,0,0,0,0,0,0,0,0]
[null,null,null,null,"22 x ¾",1.6,null,null,null,null,null,null,null,null,null,null,null,null,null,null,null,null,null,null,null,null,null,null,null,null,null,null,null,null,null,null,null,null,null,null,null,null,null,null,null,null,null,null,null,null,null,null,null,null,null,null,null,0,0,0,0,0,0,0,0,0,0,0,0,0,0,0,0,0,0,0,0,0,0,0,0,0,0,0,0,0,0,0,0,0,0,0,0,0,0,0,0,0,0,0,0,0,0,0,0,0,0]
[null,null,null,null,"28 x 1",1.3,null,null,null,null,null,null,null,null,null,null,null,null,null,null,null,null,null,null,null,null,null,null,null,null,null,null,null,null,null,null,null,null,null,null,null,null,null,null,null,null,null,null,null,null,null,null,null,null,null,null,null,0,0,0,0,0,0,0,0,0,0,0,0,0,0,0,0,0,0,0,0,0,0,0,0,0,0,0,0,0,0,0,0,0,0,0,0,0,0,0,0,0,0,0,0,0,0,0,0,0,0]
[null,92020,null,"Raccord à écrou mobile",15,0.4,null,null,null,null,null,null,null,null,null,null,null,null,null,null,null,null,null,null,null,null,null,null,null,null,null,null,null,null,null,null,null,null,null,null,null,null,null,null,null,null,null,null,null,null,null,null,null,null,null,null,null,{"$f":"$F66*G66","v":0},{"$f":"$F66*H66","v":0},{"$f":"$F66*I66","v":0},{"$f":"$F66*J66","v":0},{"$f":"$F66*K66","v":0},{"$f":"$F66*L66","v":0},{"$f":"$F66*M66","v":0},{"$f":"$F66*N66","v":0},{"$f":"$F66*O66","v":0},{"$f":"$F66*P66","v":0},{"$f":"$F66*Q66","v":0},{"$f":"$F66*R66","v":0},{"$f":"$F66*S66","v":0},{"$f":"$F66*T66","v":0},{"$f":"$F66*U66","v":0},{"$f":"$F66*V66","v":0},{"$f":"$F66*W66","v":0},{"$f":"$F66*X66","v":0},{"$f":"$F66*Y66","v":0},{"$f":"$F66*Z66","v":0},{"$f":"$F66*AA66","v":0},{"$f":"$F66*AB66","v":0},{"$f":"$F66*AC66","v":0},{"$f":"$F66*AD66","v":0},{"$f":"$F66*AE66","v":0},{"$f":"$F66*AF66","v":0},{"$f":"$F66*AG66","v":0},{"$f":"$F66*AH66","v":0},{"$f":"$F66*AI66","v":0},{"$f":"$F66*AJ66","v":0},{"$f":"$F66*AK66","v":0},{"$f":"$F66*AL66","v":0},{"$f":"$F66*AM66","v":0},{"$f":"$F66*AN66","v":0},{"$f":"$F66*AO66","v":0},{"$f":"$F66*AP66","v":0},{"$f":"$F66*AQ66","v":0},{"$f":"$F66*AR66","v":0},{"$f":"$F66*AS66","v":0},{"$f":"$F66*AT66","v":0},{"$f":"$F66*AU66","v":0},{"$f":"$F66*AV66","v":0},{"$f":"$F66*AW66","v":0},{"$f":"$F66*AX66","v":0},{"$f":"$F66*AY66","v":0},{"$f":"$F66*AZ66","v":0},{"$f":"$F66*BA66","v":0},{"$f":"$F66*BB66","v":0},{"$f":"$F66*BC66","v":0},{"$f":"$F66*BD66","v":0}]
[null,null,null,null,"18...42",0.2,null,null,null,null,null,null,null,null,null,null,null,null,null,null,null,null,null,null,null,null,null,null,null,null,null,null,null,null,null,null,null,null,null,null,null,null,null,null,null,null,null,null,null,null,null,null,null,null,null,null,null,0,0,0,0,0,0,0,0,0,0,0,0,0,0,0,0,0,0,0,0,0,0,0,0,0,0,0,0,0,0,0,0,0,0,0,0,0,0,0,0,0,0,0,0,0,0,0,0,0,0]
[null,null,null,null,"42...54",0.1,null,null,null,null,null,null,null,null,null,null,null,null,null,null,null,null,null,null,null,null,null,null,null,null,null,null,null,null,null,null,null,null,null,null,null,null,null,null,null,null,null,null,null,null,null,null,null,null,null,null,null,0,0,0,0,0,0,0,0,0,0,0,0,0,0,0,0,0,0,0,0,0,0,0,0,0,0,0,0,0,0,0,0,0,0,0,0,0,0,0,0,0,0,0,0,0,0,0,0,0,0]
[null,86112,null,"Pièce intermédiaire pour accouplement rapide",22,0.2,null,null,null,null,null,null,null,null,null,null,null,null,null,null,null,null,null,null,null,null,null,null,null,null,null,null,null,null,null,null,null,null,null,null,null,null,null,null,null,null,null,null,null,null,null,null,null,null,null,null,null,0,0,0,0,0,0,0,0,0,0,0,0,0,0,0,0,0,0,0,0,0,0,0,0,0,0,0,0,0,0,0,0,0,0,0,0,0,0,0,0,0,0,0,0,0,0,0,0,0,0]
[null,86113,null,"Accouplement rapide avec écrou",22,0.2,null,null,null,null,null,null,null,null,null,null,null,null,null,null,null,null,null,null,null,null,null,null,null,null,null,null,null,null,null,null,null,null,null,null,null,null,null,null,null,null,null,null,null,null,null,null,null,null,null,null,null,0,0,0,0,0,0,0,0,0,0,0,0,0,0,0,0,0,0,0,0,0,0,0,0,0,0,0,0,0,0,0,0,0,0,0,0,0,0,0,0,0,0,0,0,0,0,0,0,0,0]
[null,"82200 80180",null,"Optipress-Aquaplus-Robinet oblique",15,2.2999999999999998,null,null,null,null,null,null,null,null,null,null,null,null,null,null,null,null,null,null,null,null,null,null,null,null,null,null,null,null,null,null,null,null,null,null,null,null,null,null,null,null,null,null,null,null,null,null,null,null,null,null,null,0,0,0,0,0,0,0,0,0,0,0,0,0,0,0,0,0,0,0,0,0,0,0,0,0,0,0,0,0,0,0,0,0,0,0,0,0,0,0,0,0,0,0,0,0,0,0,0,0,0]
[null,null,null,null,18,2.1,null,null,null,null,null,null,null,null,null,null,null,null,null,null,null,null,null,null,null,null,null,null,null,null,null,null,null,null,null,null,null,null,null,null,null,null,null,null,null,null,null,null,null,null,null,null,null,null,null,null,null,0,0,0,0,0,0,0,0,0,0,0,0,0,0,0,0,0,0,0,0,0,0,0,0,0,0,0,0,0,0,0,0,0,0,0,0,0,0,0,0,0,0,0,0,0,0,0,0,0,0]
[null,null,null,null,22,1.7,null,null,null,null,null,null,null,null,null,null,null,null,null,null,null,null,null,null,null,null,null,null,null,null,null,null,null,null,null,null,null,null,null,null,null,null,null,null,null,null,null,null,null,null,null,null,null,null,null,null,null,0,0,0,0,0,0,0,0,0,0,0,0,0,0,0,0,0,0,0,0,0,0,0,0,0,0,0,0,0,0,0,0,0,0,0,0,0,0,0,0,0,0,0,0,0,0,0,0,0,0]
[null,null,null,null,28,1.4,null,null,null,null,null,null,null,null,null,null,null,null,null,null,null,null,null,null,null,null,null,null,null,null,null,null,null,null,null,null,null,null,null,null,null,null,null,null,null,null,null,null,null,null,null,null,null,null,null,null,null,0,0,0,0,0,0,0,0,0,0,0,0,0,0,0,0,0,0,0,0,0,0,0,0,0,0,0,0,0,0,0,0,0,0,0,0,0,0,0,0,0,0,0,0,0,0,0,0,0,0]
[null,null,null,null,35,1.2,null,null,null,null,null,null,null,null,null,null,null,null,null,null,null,null,null,null,null,null,null,null,null,null,null,null,null,null,null,null,null,null,null,null,null,null,null,null,null,null,null,null,null,null,null,null,null,null,null,null,null,0,{"$f":"$F75*H75","v":0},{"$f":"$F75*I75","v":0},{"$f":"$F75*J75","v":0},{"$f":"$F75*K75","v":0},{"$f":"$F75*L75","v":0},{"$f":"$F75*M75","v":0},{"$f":"$F75*N75","v":0},{"$f":"$F75*O75","v":0},{"$f":"$F75*P75","v":0},{"$f":"$F75*Q75","v":0},{"$f":"$F75*R75","v":0},{"$f":"$F75*S75","v":0},{"$f":"$F75*T75","v":0},{"$f":"$F75*U75","v":0},{"$f":"$F75*V75","v":0},{"$f":"$F75*W75","v":0},{"$f":"$F75*X75","v":0},{"$f":"$F75*Y75","v":0},{"$f":"$F75*Z75","v":0},{"$f":"$F75*AA75","v":0},{"$f":"$F75*AB75","v":0},{"$f":"$F75*AC75","v":0},{"$f":"$F75*AD75","v":0},{"$f":"$F75*AE75","v":0},{"$f":"$F75*AF75","v":0},{"$f":"$F75*AG75","v":0},{"$f":"$F75*AH75","v":0},{"$f":"$F75*AI75","v":0},{"$f":"$F75*AJ75","v":0},{"$f":"$F75*AK75","v":0},{"$f":"$F75*AL75","v":0},{"$f":"$F75*AM75","v":0},{"$f":"$F75*AN75","v":0},{"$f":"$F75*AO75","v":0},{"$f":"$F75*AP75","v":0},{"$f":"$F75*AQ75","v":0},{"$f":"$F75*AR75","v":0},{"$f":"$F75*AS75","v":0},{"$f":"$F75*AT75","v":0},{"$f":"$F75*AU75","v":0},{"$f":"$F75*AV75","v":0},{"$f":"$F75*AW75","v":0},{"$f":"$F75*AX75","v":0},{"$f":"$F75*AY75","v":0},{"$f":"$F75*AZ75","v":0},{"$f":"$F75*BA75","v":0},{"$f":"$F75*BB75","v":0},{"$f":"$F75*BC75","v":0},{"$f":"$F75*BD75","v":0}]
[null,null,null,null,42,1.6,null,null,null,null,null,null,null,null,null,null,null,null,null,null,null,null,null,null,null,null,null,null,null,null,null,null,null,null,null,null,null,null,null,null,null,null,null,null,null,null,null,null,null,null,null,null,null,null,null,null,null,0,0,0,0,0,0,0,0,0,0,0,0,0,0,0,0,0,0,0,0,0,0,0,0,0,0,0,0,0,0,0,0,0,0,0,0,0,0,0,0,0,0,0,0,0,0,0,0,0,0]
[null,null,null,null,54,1.5,null,null,null,null,null,null,null,null,null,null,null,null,null,null,null,null,null,null,null,null,null,null,null,null,null,null,null,null,null,null,null,null,null,null,null,null,null,null,null,null,null,null,null,null,null,null,null,null,null,null,null,0,0,0,0,0,0,0,0,0,0,0,0,0,0,0,0,0,0,0,0,0,0,0,0,0,0,0,0,0,0,0,0,0,0,0,0,0,0,0,0,0,0,0,0,0,0,0,0,0,0]
[null,"82204 82208 82210",null,"Optipress-Aquaplus-Robinet droit",15,5.5,null,null,null,null,null,null,null,null,null,null,null,null,null,null,null,null,null,null,null,null,null,null,null,null,null,null,null,null,null,null,null,null,null,null,null,null,null,null,null,null,null,null,null,null,null,null,null,null,null,null,null,0,0,0,0,0,0,0,0,0,0,0,0,0,0,0,0,0,0,0,0,0,0,0,0,0,0,0,0,0,0,0,0,0,0,0,0,0,0,0,0,0,0,0,0,0,0,0,0,0,0]
[null,null,null,null,18,5.7,null,null,null,null,null,null,null,null,null,null,null,null,null,null,null,null,null,null,null,null,null,null,null,null,null,null,null,null,null,null,null,null,null,null,null,null,null,null,null,null,null,null,null,null,null,null,null,null,null,null,null,0,0,0,0,0,0,0,0,0,0,0,0,0,0,0,0,0,0,0,0,0,0,0,0,0,0,0,0,0,0,0,0,0,0,0,0,0,0,0,0,0,0,0,0,0,0,0,0,0,0]
[null,null,null,null,22,7.4,null,null,null,null,null,null,null,null,null,null,null,null,null,null,null,null,null,null,null,null,null,null,null,null,null,null,null,null,null,null,null,null,null,null,null,null,null,null,null,null,null,null,null,null,null,null,null,null,null,null,null,0,0,0,0,0,0,0,0,0,0,0,0,0,0,0,0,0,0,0,0,0,0,0,0,0,0,0,0,0,0,0,0,0,0,0,0,0,0,0,0,0,0,0,0,0,0,0,0,0,0]
[null,null,null,null,28,7.1,null,null,null,null,null,null,null,null,null,null,null,null,null,null,null,null,null,null,null,null,null,null,null,null,null,null,null,null,null,null,null,null,null,null,null,null,null,null,null,null,null,null,null,null,null,null,null,null,null,null,null,0,0,0,0,0,0,0,0,0,0,0,0,0,0,0,0,0,0,0,0,0,0,0,0,0,0,0,0,0,0,0,0,0,0,0,0,0,0,0,0,0,0,0,0,0,0,0,0,0,0]
[null,null,null,null,35,6.5,null,null,null,null,null,null,null,null,null,null,null,null,null,null,null,null,null,null,null,null,null,null,null,null,null,null,null,null,null,null,null,null,null,null,null,null,null,null,null,null,null,null,null,null,null,null,null,null,null,null,null,0,0,0,0,0,0,0,0,0,0,0,0,0,0,0,0,0,0,0,0,0,0,0,0,0,0,0,0,0,0,0,0,0,0,0,0,0,0,0,0,0,0,0,0,0,0,0,0,0,0]
[null,null,null,null,42,8.5,null,null,null,null,null,null,null,null,null,null,null,null,null,null,null,null,null,null,null,null,null,null,null,null,null,null,null,null,null,null,null,null,null,null,null,null,null,null,null,null,null,null,null,null,null,null,null,null,null,null,null,0,0,0,0,0,0,0,0,0,0,0,0,0,0,0,0,0,0,0,0,0,0,0,0,0,0,0,0,0,0,0,0,0,0,0,0,0,0,0,0,0,0,0,0,0,0,0,0,0,0]
[null,null,null,null,54,8,null,null,null,null,null,null,null,null,null,null,null,null,null,null,null,null,null,null,null,null,null,null,null,null,null,null,null,null,null,null,null,null,null,null,null,null,null,null,null,null,null,null,null,null,null,null,null,null,null,null,null,0,0,0,0,0,0,0,0,0,0,0,0,0,0,0,0,0,0,0,0,0,0,0,0,0,0,0,0,0,0,0,0,0,0,0,0,0,0,0,0,0,0,0,0,0,0,0,0,0,0]
[null,82212,null,"Optipress-Aquaplus-Robinet droit à montage caché",15,6.5,null,null,null,null,null,null,null,null,null,null,null,null,null,null,null,null,null,null,null,null,null,null,null,null,null,null,null,null,null,null,null,null,null,null,null,null,null,null,null,null,null,null,null,null,null,null,null,null,null,null,null,0,0,0,0,0,0,0,0,0,0,0,0,0,0,0,0,0,0,0,0,0,0,0,0,0,0,0,0,0,0,0,0,0,0,0,0,0,0,0,0,0,0,0,0,0,0,0,0,0,0]
[null,null,null,null,18,5.7,null,null,null,null,null,null,null,null,null,null,null,null,null,null,null,null,null,null,null,null,null,null,null,null,null,null,null,null,null,null,null,null,null,null,null,null,null,null,null,null,null,null,null,null,null,null,null,null,null,null,null,0,0,0,0,0,0,0,0,0,0,0,0,0,0,0,0,0,0,0,0,0,0,0,0,0,0,0,0,0,0,0,0,0,0,0,0,0,0,0,0,0,0,0,0,0,0,0,0,0,0]
[null,null,null,null,22,7.4,null,null,null,null,null,null,null,null,null,null,null,null,null,null,null,null,null,null,null,null,null,null,null,null,null,null,null,null,null,null,null,null,null,null,null,null,null,null,null,null,null,null,null,null,null,null,null,null,null,null,null,0,0,0,0,0,0,0,0,0,0,0,0,0,0,0,0,0,0,0,0,0,0,0,0,0,0,0,0,0,0,0,0,0,0,0,0,0,0,0,0,0,0,0,0,0,0,0,0,0,0]
[null,null,null,null,28,7.1,null,null,null,null,null,null,null,null,null,null,null,null,null,null,null,null,null,null,null,null,null,null,null,null,null,null,null,null,null,null,null,null,null,null,null,null,null,null,null,null,null,null,null,null,null,null,null,null,null,null,null,0,0,0,0,0,0,0,0,0,0,0,0,0,0,0,0,0,0,0,0,0,0,0,0,0,0,0,0,0,0,0,0,0,0,0,0,0,0,0,0,0,0,0,0,0,0,0,0,0,0]
[null,"Totale z",null,null,null,null,{"$f":"BF89","v":0},{"$f":"BG89","v":0},{"$f":"BH89","v":0},{"$f":"BI89","v":0},{"$f":"BJ89","v":0},{"$f":"BK89","v":0},{"$f":"BL89","v":0},{"$f":"BM89","v":0},{"$f":"BN89","v":0},{"$f":"BO89","v":0},{"$f":"BP89","v":0},{"$f":"BQ89","v":0},{"$f":"BR89","v":0},{"$f":"BS89","v":0},{"$f":"BT89","v":0},{"$f":"BU89","v":0},{"$f":"BV89","v":0},{"$f":"BW89","v":0},{"$f":"BX89","v":0},{"$f":"BY89","v":0},{"$f":"BZ89","v":0},{"$f":"CA89","v":0},{"$f":"CB89","v":0},{"$f":"CC89","v":0},{"$f":"CD89","v":0},{"$f":"CE89","v":0},{"$f":"CF89","v":0},{"$f":"CG89","v":0},{"$f":"CH89","v":0},{"$f":"CI89","v":0},{"$f":"CJ89","v":0},{"$f":"CK89","v":0},{"$f":"CL89","v":0},{"$f":"CM89","v":0},{"$f":"CN89","v":0},{"$f":"CO89","v":0},{"$f":"CP89","v":0},{"$f":"CQ89","v":0},{"$f":"CR89","v":0},{"$f":"CS89","v":0},{"$f":"CT89","v":0},{"$f":"CU89","v":0},{"$f":"CV89","v":0},{"$f":"CW89","v":0},{"$f":"CX89","v":0},{"$f":"CY89","v":0},{"$f":"CZ89","v":0},{"$f":"DA89","v":0},{"$f":"DB89","v":0},{"$f":"DC89","v":0},null,{"$f":"SUM(BF6:BF88)","v":0},{"$f":"SUM(BG6:BG88)","v":0},0,0,0,0,0,0,0,0,0,0,0,0,0,0,0,0,0,0,0,0,0,0,0,0,0,0,0,0,0,0,0,0,0,0,0,0,0,0,0,0,0,0,0,0,0,0,0,0]
[]
[]
[null,"03.2022 V7.0. © R. Nussbaum SA"]
[null,"L'utilisateur est seul responsable de l'exactitude."]

{"sheet":"Optiflex-Profix","index":2,"n_rows":52,"n_cols":108,"rows_kept":52,"cut":false,"hidden":false,"merged":[[1,1,3,1],[7,2,9,2],[7,3,9,3],[10,2,12,2],[1,5,3,5],[1,4,3,4],[1,3,3,3],[1,2,3,2],[10,3,12,3],[35,1,39,1],[35,2,39,2],[35,3,39,3],[29,107,39,107],[5,1,6,1],[5,2,6,2],[5,3,6,3],[13,1,19,1],[13,2,19,2],[13,3,19,3],[20,1,25,1],[20,2,22,2],[20,3,22,3],[23,2,25,2],[23,3,25,3],[7,1,12,1],[26,1,28,1],[26,2,28,2],[26,3,28,3],[29,1,34,1],[29,2,31,2],[29,3,31,3],[32,2,34,2],[32,3,34,3],[51,1,51,4],[43,2,44,2],[45,1,46,1],[45,2,46,2],[47,1,47,5],[43,1,44,1],[43,3,44,3],[45,3,46,3]]}
[]
[null,"N°","Symbole","Désignation","d","z","SP","SP","SP","SP","SP","SP","SP","SP","SP","SP","SP","SP","SP","SP","SP","SP","SP","SP","SP","SP","SP","SP","SP","SP","SP","SP","SP","SP","SP","SP","SP","SP","SP","SP","SP","SP","SP","SP","SP","SP","SP","SP","SP","SP","SP","SP","SP","SP","SP","SP"]
[null,null,null,null,null,null,1,2,3,4,5,6,7,8,9,10,11,12,13,14,15,16,17,18,19,20,21,22,23,24,25,26,27,28,29,30,31,32,33,34,35,36,37,38,39,40,41,42,43,44,45,46,47,48,49,50]
[null,null,null,null,null,null,"u.","u.","u.","u.","u.","u.","u.","u.","u.","u.","u.","u.","u.","u.","u.","u.","u.","u.","u.","u.","u.","u.","u.","u.","u.","u.","u.","u.","u.","u.","u.","u.","u.","u.","u.","u.","u.","u.","u.","u.","u.","u.","u.","u.","u.","u.","u.","u.","u.","u."]
[null,null,null,"Zeta-Totale Optiflex-Profix",null,null,{"$f":"G48","v":0},{"$f":"H48","v":0},0,0,0,0,0,0,0,0,0,0,0,0,0,0,0,0,0,{"$f":"Z48","v":0},0,0,0,0,0,0,0,0,0,0,0,0,0,0,0,0,0,0,0,0,0,0,0,{"$f":"AX48","v":0},0,0,0,0,0,0]
[null,85100,null,"Optiflex-Profix-Boîte ","½ x 16",1.4,null,null,null,null,null,null,null,null,null,null,null,null,null,null,null,null,null,null,null,null,null,null,null,null,null,null,null,null,null,null,null,null,null,null,null,null,null,null,null,null,null,null,null,null,null,null,null,null,null,null,null,{"$f":"$F6*G6","v":0},{"$f":"$F6*H6","v":0},{"$f":"$F6*I6","v":0},0,0,0,0,0,0,0,0,0,0,0,0,0,0,0,0,0,{"$f":"$F6*AA6","v":0},0,0,0,0,0,0,0,0,0,0,0,0,0,0,0,0,0,0,0,0,0,0,{"$f":"$F6*AX6","v":0},0,0,0,0,0,0]
[null,null,null,null,"½ x 20",1.4,null,null,null,null,null,null,null,null,null,null,null,null,null,null,null,null,null,null,null,null,null,null,null,null,null,null,null,null,null,null,null,null,null,null,null,null,null,null,null,null,null,null,null,null,null,null,null,null,null,null,null,{"$f":"$F7*G7","v":0},{"$f":"$F7*H7","v":0},0,0,0,0,0,0,0,0,0,{"$f":"$F7*R7","v":0},0,0,0,0,0,0,0,0,0,0,0,0,0,0,0,0,0,0,0,0,0,0,0,0,0,0,0,0,0,0,0,0,0,0,0,0,0,0]
[null,85110,"Passage","Optiflex-Profix-Boîte double","½ x 16 x 16",1.2,null,null,null,null,null,null,null,null,null,null,null,null,null,null,null,null,null,null,null,null,null,null,null,null,null,null,null,null,null,null,null,null,null,null,null,null,null,null,null,null,null,null,null,null,null,null,null,null,null,null,null,0,0,0,0,0,0,0,0,0,0,0,0,0,0,0,0,0,0,0,0,0,0,0,0,0,0,0,0,0,0,0,0,0,0,0,0,0,0,0,0,0,0,0,0,0,0,0,0,0,0]
[null,null,null,null,"½ x 20 x 16",1.3,null,null,null,null,null,null,null,null,null,null,null,null,null,null,null,null,null,null,null,null,null,null,null,null,null,null,null,null,null,null,null,null,null,null,null,null,null,null,null,null,null,null,null,null,null,null,null,null,null,null,null,0,0,0,0,0,0,0,0,0,0,0,0,0,0,0,0,0,0,0,0,0,0,0,0,0,0,0,0,0,0,0,0,0,0,0,0,0,0,0,0,0,0,{"$f":"$F9*AW9","v":0},0,0,0,0,0,0,0]
[null,null,null,null,"½ x 20 x 20",1.4,null,null,null,null,null,null,null,null,null,null,null,null,null,null,null,null,null,null,null,null,null,null,null,null,null,null,null,null,null,null,null,null,null,null,null,null,null,null,null,null,null,null,null,null,null,null,null,null,null,null,null,0,{"$f":"$F10*H10","v":0},{"$f":"$F10*I10","v":0},{"$f":"$F10*J10","v":0},{"$f":"$F10*K10","v":0},{"$f":"$F10*L10","v":0},{"$f":"$F10*M10","v":0},{"$f":"$F10*N10","v":0},{"$f":"$F10*O10","v":0},{"$f":"$F10*P10","v":0},{"$f":"$F10*Q10","v":0},{"$f":"$F10*R10","v":0},{"$f":"$F10*S10","v":0},{"$f":"$F10*T10","v":0},{"$f":"$F10*U10","v":0},{"$f":"$F10*V10","v":0},{"$f":"$F10*W10","v":0},{"$f":"$F10*X10","v":0},{"$f":"$F10*Y10","v":0},{"$f":"$F10*Z10","v":0},{"$f":"$F10*AA10","v":0},{"$f":"$F10*AB10","v":0},{"$f":"$F10*AC10","v":0},{"$f":"$F10*AD10","v":0},{"$f":"$F10*AE10","v":0},{"$f":"$F10*AF10","v":0},{"$f":"$F10*AG10","v":0},{"$f":"$F10*AH10","v":0},{"$f":"$F10*AI10","v":0},{"$f":"$F10*AJ10","v":0},{"$f":"$F10*AK10","v":0},{"$f":"$F10*AL10","v":0},{"$f":"$F10*AM10","v":0},{"$f":"$F10*AN10","v":0},{"$f":"$F10*AO10","v":0},{"$f":"$F10*AP10","v":0},{"$f":"$F10*AQ10","v":0},{"$f":"$F10*AR10","v":0},{"$f":"$F10*AS10","v":0},{"$f":"$F10*AT10","v":0},{"$f":"$F10*AU10","v":0},{"$f":"$F10*AV10","v":0},0,0,0,0,0,0,0,0]
[null,null,"Soutirage","Optiflex-Profix-Boîte double","½ x 16 x 16",1.5,null,null,null,null,null,null,null,null,null,null,null,null,null,null,null,null,null,null,null,null,null,null,null,null,null,null,null,null,null,null,null,null,null,null,null,null,null,null,null,null,null,null,null,null,null,null,null,null,null,null,null,0,0,0,0,0,0,0,0,0,0,0,0,0,0,0,0,0,0,0,0,0,0,0,0,0,0,0,0,0,0,0,0,0,0,0,0,0,0,0,0,0,0,0,0,0,0,0,0,0,0]
[null,null,null,null,"½ x 20 x 16",2.1,null,null,null,null,null,null,null,null,null,null,null,null,null,null,null,null,null,null,null,null,null,null,null,null,null,null,null,null,null,null,null,null,null,null,null,null,null,null,null,null,null,null,null,null,null,null,null,null,null,null,null,0,0,0,0,0,0,0,0,0,0,0,0,0,0,0,0,0,0,0,0,0,0,0,0,0,0,0,0,0,0,0,0,0,0,0,0,0,0,0,0,0,0,0,0,0,0,0,0,0,0]
[null,null,null,null,"½ x 20 x 20",2.1,null,null,null,null,null,null,null,null,null,null,null,null,null,null,null,null,null,null,null,null,null,null,null,null,null,null,null,null,null,null,null,null,null,null,null,null,null,null,null,null,null,null,null,null,null,null,null,null,null,null,null,0,0,0,0,0,0,0,0,0,0,0,0,0,0,0,0,0,0,0,0,0,0,0,0,0,0,0,0,0,0,0,0,0,0,0,0,0,0,0,0,0,0,0,0,0,0,0,0,0,0]
[null,85115,null,"Optiflex-Profix-Equerre de raccordement","½ x 16 x 45",1.4,null,null,null,null,null,null,null,null,null,null,null,null,null,null,null,null,null,null,null,null,null,null,null,null,null,null,null,null,null,null,null,null,null,null,null,null,null,null,null,null,null,null,null,null,null,null,null,null,null,null,null,0,0,0,0,0,0,0,0,0,0,0,0,0,0,0,0,0,0,0,0,0,0,0,0,0,0,0,0,0,0,0,0,0,0,0,0,0,0,0,0,0,0,0,0,0,0,0,0,0,0]
[null,null,null,null,"½ x 20 x 45",1.4,null,null,null,null,null,null,null,null,null,null,null,null,null,null,null,null,null,null,null,null,null,null,null,null,null,null,null,null,null,null,null,null,null,null,null,null,null,null,null,null,null,null,null,null,null,null,null,null,null,null,null,0,0,0,0,0,0,0,0,0,0,0,0,0,0,0,0,0,0,0,0,0,0,0,0,0,0,0,0,0,0,0,0,0,0,0,0,0,0,0,0,0,0,0,0,0,0,0,0,0,0]
[null,null,null,null,"¾ x 20 x 45",1.3,null,null,null,null,null,null,null,null,null,null,null,null,null,null,null,null,null,null,null,null,null,null,null,null,null,null,null,null,null,null,null,null,null,null,null,null,null,null,null,null,null,null,null,null,null,null,null,null,null,null,null,0,0,0,0,0,0,0,0,0,0,0,0,0,0,0,0,0,0,0,0,0,0,0,0,0,0,0,0,0,0,0,0,0,0,0,0,0,0,0,0,0,0,0,0,0,0,0,0,0,0]
[null,null,null,null,"½ x 16 x 63",0.5,null,null,null,null,null,null,null,null,null,null,null,null,null,null,null,null,null,null,null,null,null,null,null,null,null,null,null,null,null,null,null,null,null,null,null,null,null,null,null,null,null,null,null,null,null,null,null,null,null,null,null,{"$f":"$F17*G17","v":0},{"$f":"$F17*H17","v":0},{"$f":"$F17*I17","v":0},{"$f":"$F17*J17","v":0},{"$f":"$F17*K17","v":0},{"$f":"$F17*L17","v":0},{"$f":"$F17*M17","v":0},{"$f":"$F17*N17","v":0},{"$f":"$F17*O17","v":0},{"$f":"$F17*P17","v":0},{"$f":"$F17*Q17","v":0},{"$f":"$F17*R17","v":0},{"$f":"$F17*S17","v":0},{"$f":"$F17*T17","v":0},{"$f":"$F17*U17","v":0},{"$f":"$F17*V17","v":0},{"$f":"$F17*W17","v":0},{"$f":"$F17*X17","v":0},{"$f":"$F17*Y17","v":0},{"$f":"$F17*Z17","v":0},{"$f":"$F17*AA17","v":0},{"$f":"$F17*AB17","v":0},{"$f":"$F17*AC17","v":0},{"$f":"$F17*AD17","v":0},{"$f":"$F17*AE17","v":0},{"$f":"$F17*AF17","v":0},{"$f":"$F17*AG17","v":0},{"$f":"$F17*AH17","v":0},{"$f":"$F17*AI17","v":0},{"$f":"$F17*AJ17","v":0},{"$f":"$F17*AK17","v":0},{"$f":"$F17*AL17","v":0},{"$f":"$F17*AM17","v":0},{"$f":"$F17*AN17","v":0},{"$f":"$F17*AO17","v":0},{"$f":"$F17*AP17","v":0},{"$f":"$F17*AQ17","v":0},{"$f":"$F17*AR17","v":0},{"$f":"$F17*AS17","v":0},{"$f":"$F17*AT17","v":0},{"$f":"$F17*AU17","v":0},{"$f":"$F17*AV17","v":0},{"$f":"$F17*AW17","v":0},{"$f":"$F17*AX17","v":0},{"$f":"$F17*AY17","v":0},{"$f":"$F17*AZ17","v":0},{"$f":"$F17*BA17","v":0},{"$f":"$F17*BB17","v":0},{"$f":"$F17*BC17","v":0},{"$f":"$F17*BD17","v":0}]
[null,null,null,null,"½ x 20 x 63",3.6,null,null,null,null,null,null,null,null,null,null,null,null,null,null,null,null,null,null,null,null,null,null,null,null,null,null,null,null,null,null,null,null,null,null,null,null,null,null,null,null,null,null,null,null,null,null,null,null,null,null,null,0,0,0,0,0,0,0,0,0,0,0,0,0,0,0,0,0,0,0,0,0,0,0,0,0,0,0,0,0,0,0,0,0,0,0,0,0,0,0,0,0,0,0,0,0,0,0,0,0,0]
[null,null,null,null,"½ x 16 x 75",1.1000000000000001,null,null,null,null,null,null,null,null,null,null,null,null,null,null,null,null,null,null,null,null,null,null,null,null,null,null,null,null,null,null,null,null,null,null,null,null,null,null,null,null,null,null,null,null,null,null,null,null,null,null,null,0,0,0,0,0,0,0,0,0,0,0,0,0,0,0,0,0,0,0,0,0,0,0,0,0,0,0,0,0,0,0,0,0,0,0,0,0,0,0,0,0,0,0,0,0,0,0,0,0,0]
[null,null,null,null,"½ x 20 x 75",3.7,null,null,null,null,null,null,null,null,null,null,null,null,null,null,null,null,null,null,null,null,null,null,null,null,null,null,null,null,null,null,null,null,null,null,null,null,null,null,null,null,null,null,null,null,null,null,null,null,null,null,null,0,0,0,0,0,0,0,0,0,0,0,0,0,0,0,0,0,0,0,0,0,0,0,0,0,0,0,0,0,0,0,0,0,0,0,0,0,0,0,0,0,0,0,0,0,0,0,0,0,0]
[null,85119,"Passage","Optiflex-Profix-Equerre de raccordement double","½ x 16 x 16",0.7,null,null,null,null,null,null,null,null,null,null,null,null,null,null,null,null,null,null,null,null,null,null,null,null,null,null,null,null,null,null,null,null,null,null,null,null,null,null,null,null,null,null,null,null,null,null,null,null,null,null,null,0,0,0,0,0,0,0,0,0,0,0,0,0,0,0,0,0,0,0,0,0,0,0,0,0,0,0,0,0,0,0,0,0,0,0,0,0,0,0,0,0,0,0,0,0,0,0,0,0,0]
[null,null,null,null,"½ x 20 x 16",1,null,null,null,null,null,null,null,null,null,null,null,null,null,null,null,null,null,null,null,null,null,null,null,null,null,null,null,null,null,null,null,null,null,null,null,null,null,null,null,null,null,null,null,null,null,null,null,null,null,null,null,0,0,0,0,0,0,0,0,0,0,0,0,0,0,0,0,0,0,0,0,0,0,0,0,0,0,0,0,0,0,0,0,0,0,0,0,0,0,0,0,0,0,0,0,0,0,0,0,0,0]
[null,null,null,null,"½ x 20 x 20",0.9,null,null,null,null,null,null,null,null,null,null,null,null,null,null,null,null,null,null,null,null,null,null,null,null,null,null,null,null,null,null,null,null,null,null,null,null,null,null,null,null,null,null,null,null,null,null,null,null,null,null,null,0,0,0,0,0,0,0,0,0,0,0,0,0,0,0,0,0,0,0,0,0,0,0,0,0,0,0,0,0,0,0,0,0,0,0,0,0,0,0,0,0,0,0,0,0,0,0,0,0,0]
[null,null,"Soutirage","Optiflex-Profix-Equerre de raccordement double","½ x 16 x 16",1.6,null,null,null,null,null,null,null,null,null,null,null,null,null,null,null,null,null,null,null,null,null,null,null,null,null,null,null,null,null,null,null,null,null,null,null,null,null,null,null,null,null,null,null,null,null,null,null,null,null,null,null,0,0,0,0,0,0,0,0,0,0,0,0,0,0,0,0,0,0,0,0,0,0,0,0,0,0,0,0,0,0,0,0,0,0,0,0,0,0,0,0,0,0,0,{"$f":"$F24*AX24","v":0},{"$f":"$F24*AY24","v":0},{"$f":"$F24*AZ24","v":0},{"$f":"$F24*BA24","v":0},{"$f":"$F24*BB24","v":0},{"$f":"$F24*BC24","v":0},{"$f":"$F24*BD24","v":0}]
[null,null,null,null,"½ x 20 x 16",3.1,null,null,null,null,null,null,null,null,null,null,null,null,null,null,null,null,null,null,null,null,null,null,null,null,null,null,null,null,null,null,null,null,null,null,null,null,null,null,null,null,null,null,null,null,null,null,null,null,null,null,null,0,0,0,0,0,0,0,0,0,0,0,0,0,0,0,0,0,0,0,0,0,0,0,0,0,0,0,0,0,0,0,0,0,0,0,0,0,0,0,0,0,0,0,0,0,0,0,0,0,0]
[null,null,null,null,"½ x 20 x 20",3.1,null,null,null,null,null,null,null,null,null,null,null,null,null,null,null,null,null,null,null,null,null,null,null,null,null,null,null,null,null,null,null,null,null,null,null,null,null,null,null,null,null,null,null,null,null,null,null,null,null,null,null,0,0,0,0,0,0,0,0,0,0,0,0,0,0,0,0,0,0,0,0,0,0,0,0,0,0,0,0,0,0,0,0,0,0,0,0,0,0,0,0,0,0,0,0,0,0,0,0,0,0]
[null,85140,null,"Optiflex-Profix-Coude à 90°","16 x 16",0.5,null,null,null,null,null,null,null,null,null,null,null,null,null,null,null,null,null,null,null,null,null,null,null,null,null,null,null,null,null,null,null,null,null,null,null,null,null,null,null,null,null,null,null,null,null,null,null,null,null,null,null,0,0,0,0,0,0,0,0,0,0,0,0,0,0,0,0,0,0,0,0,0,0,0,0,0,0,0,0,0,0,0,0,0,0,0,0,0,0,0,0,0,0,0,0,0,0,0,0,0,0]
[null,null,null,null,"20 x 20",0.6,null,null,null,null,null,null,null,null,null,null,null,null,null,null,null,null,null,null,null,null,null,null,null,null,null,null,null,null,null,null,null,null,null,null,null,null,null,null,null,null,null,null,null,null,null,null,null,null,null,null,null,0,0,0,0,0,0,0,0,0,0,0,0,0,0,0,0,0,0,0,0,0,0,0,0,0,0,0,0,0,0,0,0,0,0,0,0,0,0,0,0,0,0,0,0,0,0,0,0,0,0]
[null,null,null,null,"25 x 25",0.5,null,null,null,null,null,null,null,null,null,null,null,null,null,null,null,null,null,null,null,null,null,null,null,null,null,null,null,null,null,null,null,null,null,null,null,null,null,null,null,null,null,null,null,null,null,null,null,null,null,null,null,0,0,0,0,0,0,0,0,0,0,0,0,0,0,0,0,0,0,0,0,0,0,0,0,0,0,0,0,0,0,0,0,0,0,0,0,0,0,0,0,0,0,0,0,0,0,0,0,0,0]
[null,85142,"Passage droit","Optiflex-Profix-    Té",16,0.4,null,null,null,null,null,null,null,null,null,null,null,null,null,null,null,null,null,null,null,null,null,null,null,null,null,null,null,null,null,null,null,null,null,null,null,null,null,null,null,null,null,null,null,null,null,null,null,null,null,null,null,0,0,0,0,0,0,0,0,0,0,0,0,0,0,0,0,0,0,0,0,0,0,0,0,0,0,0,0,0,0,0,0,0,0,0,0,0,0,0,0,0,0,0,0,0,0,0,0,0,0,"Avec des pièces en T réduites, la valeur de résistance de la pièce en T égale est utilisée avec la plus petite dimension de la pièce en T réduite pour le chemin d'écoulement à calculer."]
[null,null,null,null,20,0.3,null,null,null,null,null,null,null,null,null,null,null,null,null,null,null,null,null,null,null,null,null,null,null,null,null,null,null,null,null,null,null,null,null,null,null,null,null,null,null,null,null,null,null,null,null,null,null,null,null,null,null,0,0,0,0,0,0,0,0,0,0,0,0,0,0,0,0,0,0,0,0,0,0,0,0,0,0,0,0,0,0,0,0,0,0,0,0,0,0,0,0,0,0,0,0,0,0,0,0,0,0]
[null,null,null,null,25,0.2,null,null,null,null,null,null,null,null,null,null,null,null,null,null,null,null,null,null,null,null,null,null,null,null,null,null,null,null,null,null,null,null,null,null,null,null,null,null,null,null,null,null,null,null,null,null,null,null,null,null,null,0,0,0,0,0,0,0,0,0,0,0,0,0,0,0,0,0,0,0,0,0,0,0,0,0,0,0,0,0,0,0,0,0,0,0,0,0,0,0,0,0,0,0,0,0,0,0,0,0,0]
[null,null,"Passage équerre","Optiflex-Profix-    Té",16,0.9,null,null,null,null,null,null,null,null,null,null,null,null,null,null,null,null,null,null,null,null,null,null,null,null,null,null,null,null,null,null,null,null,null,null,null,null,null,null,null,null,null,null,null,null,null,null,null,null,null,null,null,0,0,0,0,0,0,0,0,0,0,0,0,0,0,0,0,0,0,0,0,0,0,0,0,0,0,0,0,0,0,0,0,0,0,0,0,0,0,0,0,0,0,0,0,0,0,0,0,0,0]
[null,null,null,null,20,0.9,null,null,null,null,null,null,null,null,null,null,null,null,null,null,null,null,null,null,null,null,null,null,null,null,null,null,null,null,null,null,null,null,null,null,null,null,null,null,null,null,null,null,null,null,null,null,null,null,null,null,null,0,0,0,0,0,0,0,0,0,0,0,0,0,0,0,0,0,0,0,0,0,0,0,0,0,0,0,0,0,0,0,0,0,0,0,0,0,0,0,0,0,0,0,0,0,0,0,0,0,0]
[null,null,null,null,25,1.1000000000000001,null,null,null,null,null,null,null,null,null,null,null,null,null,null,null,null,null,null,null,null,null,null,null,null,null,null,null,null,null,null,null,null,null,null,null,null,null,null,null,null,null,null,null,null,null,null,null,null,null,null,null,0,0,0,0,0,0,0,0,0,0,0,0,0,0,0,0,0,0,0,0,0,0,0,0,0,0,0,0,0,0,0,0,0,0,0,0,0,0,0,0,0,0,0,0,0,0,0,0,0,0]
[null,85136,null,"Optiflex-Profix-Accouplement","16 x 16",0.3,null,null,null,null,null,null,null,null,null,null,null,null,null,null,null,null,null,null,null,null,null,null,null,null,null,null,null,null,null,null,null,null,null,null,null,null,null,null,null,null,null,null,null,null,null,null,null,null,null,null,null,0,0,0,0,0,0,0,0,0,0,0,0,0,0,0,0,0,0,0,0,0,0,0,0,0,0,0,0,0,0,0,0,0,0,0,0,0,0,0,0,0,0,0,0,0,0,0,0,0,0]
[null,null,null,null,"20 x 20",0.2,null,null,null,null,null,null,null,null,null,null,null,null,null,null,null,null,null,null,null,null,null,null,null,null,null,null,null,null,null,null,null,null,null,null,null,null,null,null,null,null,null,null,null,null,null,null,null,null,null,null,null,0,0,0,0,0,0,0,0,0,0,0,0,0,0,0,0,0,0,0,0,0,0,0,0,0,0,0,0,0,0,0,0,0,0,0,0,0,0,0,0,0,0,0,0,0,0,0,0,0,0]
[null,null,null,null,"20 x 16",0.7,null,null,null,null,null,null,null,null,null,null,null,null,null,null,null,null,null,null,null,null,null,null,null,null,null,null,null,null,null,null,null,null,null,null,null,null,null,null,null,null,null,null,null,null,null,null,null,null,null,null,null,0,0,0,0,0,0,0,0,0,0,0,0,0,0,0,0,0,0,0,0,0,0,0,0,0,0,0,0,0,0,0,0,0,0,0,0,0,0,0,0,0,0,0,0,0,0,0,0,0,0]
[null,null,null,null,"25 x 25",0.1,null,null,null,null,null,null,null,null,null,null,null,null,null,null,null,null,null,null,null,null,null,null,null,null,null,null,null,null,null,null,null,null,null,null,null,null,null,null,null,null,null,null,null,null,null,null,null,null,null,null,null,0,0,0,0,0,0,0,0,0,0,0,0,0,0,0,0,0,0,0,0,0,0,0,0,0,0,0,0,0,0,0,0,0,0,0,0,0,0,0,0,0,0,0,0,0,0,0,0,0,0]
[null,null,null,null,"25 x 20",1,null,null,null,null,null,null,null,null,null,null,null,null,null,null,null,null,null,null,null,null,null,null,null,null,null,null,null,null,null,null,null,null,null,null,null,null,null,null,null,null,null,null,null,null,null,null,null,null,null,null,null,0,0,0,0,0,0,0,0,0,0,0,0,0,0,0,0,0,0,0,0,0,0,0,0,0,0,0,0,0,0,0,0,0,0,0,0,0,0,0,0,0,0,0,0,0,0,0,0,0,0]
[null,86103,null,"Optiflex-Distributeur","Valeur Zeta intégrée",0,null,null,null,null,null,null,null,null,null,null,null,null,null,null,null,null,null,null,null,null,null,null,null,null,null,null,null,null,null,null,null,null,null,null,null,null,null,null,null,null,null,null,null,null,null,null,null,null,null,null,null,{"$f":"$F41*G41","v":0},{"$f":"$F41*H41","v":0},{"$f":"$F41*I41","v":0},{"$f":"$F41*J41","v":0},{"$f":"$F41*K41","v":0},{"$f":"$F41*L41","v":0},{"$f":"$F41*M41","v":0},{"$f":"$F41*N41","v":0},{"$f":"$F41*O41","v":0},{"$f":"$F41*P41","v":0},{"$f":"$F41*Q41","v":0},{"$f":"$F41*R41","v":0},{"$f":"$F41*S41","v":0},{"$f":"$F41*T41","v":0},{"$f":"$F41*U41","v":0},{"$f":"$F41*V41","v":0},{"$f":"$F41*W41","v":0},{"$f":"$F41*X41","v":0},{"$f":"$F41*Y41","v":0},{"$f":"$F41*Z41","v":0},{"$f":"$F41*AA41","v":0},{"$f":"$F41*AB41","v":0},{"$f":"$F41*AC41","v":0},{"$f":"$F41*AD41","v":0},{"$f":"$F41*AE41","v":0},{"$f":"$F41*AF41","v":0},{"$f":"$F41*AG41","v":0},{"$f":"$F41*AH41","v":0},{"$f":"$F41*AI41","v":0},{"$f":"$F41*AJ41","v":0},{"$f":"$F41*AK41","v":0},{"$f":"$F41*AL41","v":0},{"$f":"$F41*AM41","v":0},{"$f":"$F41*AN41","v":0},{"$f":"$F41*AO41","v":0},{"$f":"$F41*AP41","v":0},{"$f":"$F41*AQ41","v":0},{"$f":"$F41*AR41","v":0},{"$f":"$F41*AS41","v":0},{"$f":"$F41*AT41","v":0},{"$f":"$F41*AU41","v":0},{"$f":"$F41*AV41","v":0},{"$f":"$F41*AW41","v":0},{"$f":"$F41*AX41","v":0},{"$f":"$F41*AY41","v":0},{"$f":"$F41*AZ41","v":0},{"$f":"$F41*BA41","v":0},{"$f":"$F41*BB41","v":0},{"$f":"$F41*BC41","v":0},{"$f":"$F41*BD41","v":0}]
[null,85152,null,"Accouplement rapide","DN SK 20 x 25",1.8,null,null,null,null,null,null,null,null,null,null,null,null,null,null,null,null,null,null,null,null,null,null,null,null,null,null,null,null,null,null,null,null,null,null,null,null,null,null,null,null,null,null,null,null,null,null,null,null,null,null,null,0,0,0,0,0,0,0,0,0,0,0,0,0,0,0,0,0,0,0,0,0,0,0,0,0,0,0,0,0,0,0,0,0,0,0,0,0,0,0,0,0,0,0,0,0,0,0,0,0,0]
[null,85153,null,"Accouplement rapide avec écrou","DN SK 20 x 25",1.8,null,null,null,null,null,null,null,null,null,null,null,null,null,null,null,null,null,null,null,null,null,null,null,null,null,null,null,null,null,null,null,null,null,null,null,null,null,null,null,null,null,null,null,null,null,null,null,null,null,null,null,0,0,0,0,0,0,0,0,0,0,0,0,0,0,0,0,0,0,0,0,0,0,0,0,0,0,0,0,0,0,0,0,0,0,0,0,0,0,0,0,0,0,0,0,0,0,0,0,0,0]
[null,85155,null,"Pièce enfichable droite",16,1.9,null,null,null,null,null,null,null,null,null,null,null,null,null,null,null,null,null,null,null,null,null,null,null,null,null,null,null,null,null,null,null,null,null,null,null,null,null,null,null,null,null,null,null,null,null,null,null,null,null,null,null,0,0,0,0,0,0,0,0,0,0,0,0,0,0,0,0,0,0,0,0,0,0,0,0,0,0,0,0,0,0,0,0,0,0,0,0,0,0,0,0,0,0,0,0,0,0,0,0,0,0]
[null,null,null,null,20,1.4,null,null,null,null,null,null,null,null,null,null,null,null,null,null,null,null,null,null,null,null,null,null,null,null,null,null,null,null,null,null,null,null,null,null,null,null,null,null,null,null,null,null,null,null,null,null,null,null,null,null,null,0,0,0,0,0,0,0,0,0,0,0,0,0,0,0,0,0,0,0,0,0,0,0,0,0,0,0,0,0,0,0,0,0,0,0,0,0,0,0,0,0,0,0,0,0,0,0,0,0,0]
[null,85156,null,"Pièce enfichable coudée",16,1.8,null,null,null,null,null,null,null,null,null,null,null,null,null,null,null,null,null,null,null,null,null,null,null,null,null,null,null,null,null,null,null,null,null,null,null,null,null,null,null,null,null,null,null,null,null,null,null,null,null,null,null,0,0,0,0,0,0,0,0,0,0,0,0,0,0,0,0,0,0,0,0,0,0,0,0,0,0,0,0,0,0,0,0,0,0,0,0,0,0,0,0,0,0,0,0,0,0,0,0,0,0]
[null,null,null,null,20,2.5,null,null,null,null,null,null,null,null,null,null,null,null,null,null,null,null,null,null,null,null,null,null,null,null,null,null,null,null,null,null,null,null,null,null,null,null,null,null,null,null,null,null,null,null,null,null,null,null,null,null,null,0,0,0,0,0,0,0,0,0,0,0,0,0,0,0,0,0,0,0,0,0,0,0,0,0,0,0,0,0,0,0,0,0,0,0,0,0,0,0,0,0,0,0,0,0,0,0,0,0,0]
[null,"Totale z",null,null,null,null,{"$f":"BF48","v":0},0,0,0,0,0,0,0,0,0,0,0,0,0,0,0,0,0,0,0,0,0,0,0,0,0,0,0,0,0,0,0,0,0,0,0,0,0,0,0,0,0,0,{"$f":"CW48","v":0},0,0,0,0,0,0,null,{"$f":"SUM(BF6:BF47)","v":0},0,0,0,0,0,0,0,0,0,0,0,0,0,0,0,0,0,0,0,0,0,0,0,0,0,0,0,0,0,0,0,{"$f":"SUM(CL6:CL47)","v":0},0,0,0,0,0,0,0,0,0,0,0,0,0,0,0,0,0]
[]
[]
[null,"03.2022 V7.0. © R. Nussbaum SA"]
[null,"L'utilisateur est seul responsable de l'exactitude."]

{"sheet":"Optiflex-Flowpress","index":3,"n_rows":85,"n_cols":108,"rows_kept":85,"cut":false,"hidden":false,"merged":[[1,4,3,4],[1,5,3,5],[34,1,40,1],[34,2,40,2],[34,3,40,3],[9,1,14,1],[9,2,11,2],[9,3,11,3],[12,2,14,2],[7,1,8,1],[7,2,8,2],[7,3,8,3],[15,1,20,1],[15,2,17,2],[1,1,3,1],[1,2,3,2],[77,2,79,2],[5,1,6,1],[5,2,6,2],[5,3,6,3],[28,1,33,1],[28,2,30,2],[28,3,30,3],[31,2,33,2],[31,3,33,3],[18,2,20,2],[18,3,20,3],[1,3,3,3],[12,3,14,3],[21,1,27,1],[21,2,27,2],[21,3,27,3],[15,3,17,3],[41,107,69,107],[48,2,54,2],[48,3,54,3],[84,1,84,4],[55,1,69,1],[55,2,69,2],[55,3,69,3],[41,1,54,1],[41,2,47,2],[41,3,47,3],[74,1,76,1],[74,2,76,2],[74,3,76,3],[77,1,79,1],[80,1,80,5],[77,3,79,3]]}
[]
[null,"N° ","Symbole","Désignation","d","z","SP","SP","SP","SP","SP","SP","SP","SP","SP","SP","SP","SP","SP","SP","SP","SP","SP","SP","SP","SP","SP","SP","SP","SP","SP","SP","SP","SP","SP","SP","SP","SP","SP","SP","SP","SP","SP","SP","SP","SP","SP","SP","SP","SP","SP","SP","SP","SP","SP","SP"]
[null,null,null,null,null,null,1,2,3,4,5,6,7,8,9,10,11,12,13,14,15,16,17,18,19,20,21,22,23,24,25,26,27,28,29,30,31,32,33,34,35,36,37,38,39,40,41,42,43,44,45,46,47,48,49,50]
[null,null,null,null,null,null,"u.","u.","u.","u.","u.","u.","u.","u.","u.","u.","u.","u.","u.","u.","u.","u.","u.","u.","u.","u.","u.","u.","u.","u.","u.","u.","u.","u.","u.","u.","u.","u.","u.","u.","u.","u.","u.","u.","u.","u.","u.","u.","u.","u.","u.","u.","u.","u.","u.","u."]
[null,null,null,"Zeta-Totale Optiflex-Flowpress",null,null,{"$f":"G81","v":0},{"$f":"H81","v":0},0,0,0,0,0,0,0,0,0,0,0,0,0,0,0,0,0,0,0,0,0,0,0,0,0,0,0,0,0,0,0,0,0,0,0,0,0,0,0,0,0,0,0,0,0,0,0,0]
[null,84200,null,"Optiflex-Flowpress-Boîte ","½ x 16",4,null,null,null,null,null,null,null,null,null,null,null,null,null,null,null,null,null,null,null,null,null,null,null,null,null,null,null,null,null,null,null,null,null,null,null,null,null,null,null,null,null,null,null,null,null,null,null,null,null,null,null,{"$f":"$F6*G6","v":0},0,0,0,0,0,0,0,0,0,0,0,0,0,0,0,{"$f":"$F6*W6","v":0},0,0,0,0,0,0,0,0,0,0,0,0,0,0,0,{"$f":"$F6*AM6","v":0},0,0,0,0,0,0,0,0,0,0,0,0,0,0,0,{"$f":"$F6*BC6","v":0},0]
[null,null,null,null,"½ x 20",2.9,null,null,null,null,null,null,null,null,null,null,null,null,null,null,null,null,null,null,null,null,null,null,null,null,null,null,null,null,null,null,null,null,null,null,null,null,null,null,null,null,null,null,null,null,null,null,null,null,null,null,null,0,0,0,0,0,0,0,0,0,0,0,0,0,0,0,0,0,0,0,0,0,0,0,0,0,0,0,0,0,0,0,0,0,0,0,0,0,0,0,0,0,0,0,0,0,0,0,0,0,0]
[null,84205,null,"Optiflex-Flowpress-Boîte prolongée ","½ x 16",4.0999999999999996,null,null,null,null,null,null,null,null,null,null,null,null,null,null,null,null,null,null,null,null,null,null,null,null,null,null,null,null,null,null,null,null,null,null,null,null,null,null,null,null,null,null,null,null,null,null,null,null,null,null,null,{"$f":"$F8*G8","v":0},0,0,0,0,0,0,0,0,0,0,0,0,0,0,0,{"$f":"$F8*W8","v":0},0,0,0,0,0,0,0,0,0,0,0,0,0,0,0,{"$f":"$F8*AM8","v":0},{"$f":"$F8*AN8","v":0},{"$f":"$F8*AO8","v":0},{"$f":"$F8*AP8","v":0},{"$f":"$F8*AQ8","v":0},{"$f":"$F8*AR8","v":0},{"$f":"$F8*AS8","v":0},{"$f":"$F8*AT8","v":0},{"$f":"$F8*AU8","v":0},{"$f":"$F8*AV8","v":0},{"$f":"$F8*AW8","v":0},{"$f":"$F8*AX8","v":0},{"$f":"$F8*AY8","v":0},{"$f":"$F8*AZ8","v":0},{"$f":"$F8*BA8","v":0},{"$f":"$F8*BB8","v":0},{"$f":"$F8*BC8","v":0},{"$f":"$F8*BD8","v":0}]
[null,null,null,null,"½ x 20",3,null,null,null,null,null,null,null,null,null,null,null,null,null,null,null,null,null,null,null,null,null,null,null,null,null,null,null,null,null,null,null,null,null,null,null,null,null,null,null,null,null,null,null,null,null,null,null,null,null,null,null,0,0,0,0,0,0,0,0,0,0,0,0,0,0,0,0,0,0,0,0,0,0,0,0,0,0,0,0,0,0,0,0,0,0,0,0,0,0,0,0,0,0,0,0,0,0,0,0,0,0]
[null,84210,"Passage","Optiflex-Flowpress-Boîte double ","½ x 16 x 16",2.4,null,null,null,null,null,null,null,null,null,null,null,null,null,null,null,null,null,null,null,null,null,null,null,null,null,null,null,null,null,null,null,null,null,null,null,null,null,null,null,null,null,null,null,null,null,null,null,null,null,null,null,0,0,0,0,0,0,0,0,0,0,0,0,0,0,0,0,0,0,0,0,0,0,0,0,0,0,0,0,0,0,0,0,0,0,0,0,0,0,0,0,0,0,0,0,0,0,0,0,0,0]
[null,null,null,null,"½ x 20 x 16",2.4,null,null,null,null,null,null,null,null,null,null,null,null,null,null,null,null,null,null,null,null,null,null,null,null,null,null,null,null,null,null,null,null,null,null,null,null,null,null,null,null,null,null,null,null,null,null,null,null,null,null,null,0,0,0,0,0,0,0,0,0,0,0,0,0,0,0,0,0,0,0,0,0,0,0,0,0,0,0,0,0,0,0,0,0,0,0,0,0,0,0,0,0,0,0,0,0,0,0,0,0,0]
[null,null,null,null,"½ x 20 x 20",2.7,null,null,null,null,null,null,null,null,null,null,null,null,null,null,null,null,null,null,null,null,null,null,null,null,null,null,null,null,null,null,null,null,null,null,null,null,null,null,null,null,null,null,null,null,null,null,null,null,null,null,null,0,0,0,0,0,0,0,0,0,0,0,0,0,0,0,0,0,0,0,0,0,0,0,0,0,0,0,0,0,0,0,0,0,0,0,0,0,0,0,0,0,0,0,0,0,0,0,0,0,0]
[null,null,"Soutirage","Optiflex-Flowpress-Boîte double","½ x 16 x 16",4.0999999999999996,null,null,null,null,null,null,null,null,null,null,null,null,null,null,null,null,null,null,null,null,null,null,null,null,null,null,null,null,null,null,null,null,null,null,null,null,null,null,null,null,null,null,null,null,null,null,null,null,null,null,null,0,0,0,0,0,0,0,0,0,0,0,0,0,0,0,0,0,0,0,0,0,0,0,0,0,0,0,0,0,0,0,0,0,0,0,0,0,0,0,0,0,0,0,0,0,0,0,0,0,0]
[null,null,null,null,"½ x 16 x 16",3.9,null,null,null,null,null,null,null,null,null,null,null,null,null,null,null,null,null,null,null,null,null,null,null,null,null,null,null,null,null,null,null,null,null,null,null,null,null,null,null,null,null,null,null,null,null,null,null,null,null,null,null,0,0,0,0,0,0,0,0,0,0,0,0,0,0,0,0,0,0,0,0,0,0,0,0,0,0,0,0,0,0,0,0,0,0,0,0,0,0,0,0,0,0,0,0,0,0,0,0,0,0]
[null,null,null,null,"½ x 20 x 20",3.9,null,null,null,null,null,null,null,null,null,null,null,null,null,null,null,null,null,null,null,null,null,null,null,null,null,null,null,null,null,null,null,null,null,null,null,null,null,null,null,null,null,null,null,null,null,null,null,null,null,null,null,0,0,0,0,0,0,0,0,0,0,0,0,0,0,0,0,0,0,0,0,0,0,0,0,0,0,0,0,0,0,0,0,0,0,0,0,0,0,0,0,0,0,0,0,0,0,0,0,0,0]
[null,84211,"Passage","Optiflex-Flowpress-Boîte double prolongée","½ x 16 x 16",2.4,null,null,null,null,null,null,null,null,null,null,null,null,null,null,null,null,null,null,null,null,null,null,null,null,null,null,null,null,null,null,null,null,null,null,null,null,null,null,null,null,null,null,null,null,null,null,null,null,null,null,null,{"$f":"$F16*G16","v":0},0,0,0,0,0,0,0,0,0,0,0,0,0,0,0,{"$f":"$F16*W16","v":0},0,0,0,0,0,0,0,0,0,0,0,0,0,0,0,{"$f":"$F16*AM16","v":0},{"$f":"$F16*AN16","v":0},{"$f":"$F16*AO16","v":0},{"$f":"$F16*AP16","v":0},{"$f":"$F16*AQ16","v":0},0,0,0,0,0,0,0,0,0,0,0,{"$f":"$F16*BC16","v":0},{"$f":"$F16*BD16","v":0}]
[null,null,null,null,"½ x 20 x 16",2.4,null,null,null,null,null,null,null,null,null,null,null,null,null,null,null,null,null,null,null,null,null,null,null,null,null,null,null,null,null,null,null,null,null,null,null,null,null,null,null,null,null,null,null,null,null,null,null,null,null,null,null,0,0,0,0,0,0,0,0,0,0,0,0,0,0,0,0,0,0,0,0,0,0,0,0,0,0,0,0,0,0,0,0,0,0,0,0,0,0,0,0,0,0,0,0,0,0,0,0,0,0]
[null,null,null,null,"½ x 20 x 20",2.7,null,null,null,null,null,null,null,null,null,null,null,null,null,null,null,null,null,null,null,null,null,null,null,null,null,null,null,null,null,null,null,null,null,null,null,null,null,null,null,null,null,null,null,null,null,null,null,null,null,null,null,0,0,0,0,0,0,0,0,0,0,0,0,0,0,0,0,0,0,0,0,0,0,0,0,0,0,0,0,0,0,0,0,0,0,0,0,0,0,0,0,0,0,0,0,0,0,0,0,0,0]
[null,null,"Soutirage","Optiflex-Flowpress-Boîte double prolongée","½ x 16 x 16",4.2,null,null,null,null,null,null,null,null,null,null,null,null,null,null,null,null,null,null,null,null,null,null,null,null,null,null,null,null,null,null,null,null,null,null,null,null,null,null,null,null,null,null,null,null,null,null,null,null,null,null,null,0,0,0,0,0,0,0,0,0,0,0,0,0,0,0,0,0,0,0,0,0,0,0,0,0,0,0,0,0,0,0,0,0,0,0,0,0,0,0,0,0,0,0,0,0,0,0,0,0,0]
[null,null,null,null,"½ x 16 x 16",4,null,null,null,null,null,null,null,null,null,null,null,null,null,null,null,null,null,null,null,null,null,null,null,null,null,null,null,null,null,null,null,null,null,null,null,null,null,null,null,null,null,null,null,null,null,null,null,null,null,null,null,0,0,0,0,0,0,0,0,0,0,0,0,0,0,0,0,0,0,0,0,0,0,0,0,0,0,0,0,0,0,0,0,0,0,0,0,0,{"$f":"$F20*AR20","v":0},{"$f":"$F20*AS20","v":0},{"$f":"$F20*AT20","v":0},{"$f":"$F20*AU20","v":0},{"$f":"$F20*AV20","v":0},{"$f":"$F20*AW20","v":0},{"$f":"$F20*AX20","v":0},{"$f":"$F20*AY20","v":0},{"$f":"$F20*AZ20","v":0},{"$f":"$F20*BA20","v":0},{"$f":"$F20*BB20","v":0},0,0]
[null,null,null,null,"½ x 20 x 20",4,null,null,null,null,null,null,null,null,null,null,null,null,null,null,null,null,null,null,null,null,null,null,null,null,null,null,null,null,null,null,null,null,null,null,null,null,null,null,null,null,null,null,null,null,null,null,null,null,null,null,null,0,0,0,0,0,0,0,0,0,0,0,0,0,0,0,0,0,0,0,0,0,0,0,0,0,0,0,0,0,0,0,0,0,0,0,0,0,0,0,0,0,0,0,0,0,0,0,0,0,0]
[null,84215,null,"Optiflex-Flowpress-Equerre de raccordement","½ x 16 x 45",2.1,null,null,null,null,null,null,null,null,null,null,null,null,null,null,null,null,null,null,null,null,null,null,null,null,null,null,null,null,null,null,null,null,null,null,null,null,null,null,null,null,null,null,null,null,null,null,null,null,null,null,null,0,0,0,0,0,0,0,0,0,0,0,0,0,0,0,0,0,0,0,0,0,0,0,0,0,0,0,0,0,0,0,0,0,0,0,0,0,0,0,0,0,0,0,0,0,0,0,0,0,0]
[null,null,null,null,"½ x 20 x 45",1.7,null,null,null,null,null,null,null,null,null,null,null,null,null,null,null,null,null,null,null,null,null,null,null,null,null,null,null,null,null,null,null,null,null,null,null,null,null,null,null,null,null,null,null,null,null,null,null,null,null,null,null,0,0,0,0,0,0,0,0,0,0,0,0,0,0,0,0,0,0,0,0,0,0,0,0,0,0,0,0,0,0,0,0,0,0,0,0,0,0,0,0,0,0,0,0,0,0,0,0,0,0]
[null,null,null,null,"¾ x 20 x 46",1.7,null,null,null,null,null,null,null,null,null,null,null,null,null,null,null,null,null,null,null,null,null,null,null,null,null,null,null,null,null,null,null,null,null,null,null,null,null,null,null,null,null,null,null,null,null,null,null,null,null,null,null,0,0,0,0,0,0,0,0,0,0,0,0,0,0,0,0,0,0,0,0,0,0,0,0,0,0,0,0,0,0,0,0,0,0,0,0,0,0,0,0,0,0,0,0,0,0,0,0,0,0]
[null,null,null,null,"½ x 16 x 63",2.1,null,null,null,null,null,null,null,null,null,null,null,null,null,null,null,null,null,null,null,null,null,null,null,null,null,null,null,null,null,null,null,null,null,null,null,null,null,null,null,null,null,null,null,null,null,null,null,null,null,null,null,0,0,0,0,0,0,0,0,0,0,0,0,0,0,0,0,0,0,0,0,0,0,0,0,0,0,0,0,0,0,0,0,0,0,0,0,0,0,0,0,0,0,0,0,0,0,0,0,0,0]
[null,null,null,null,"½ x 20 x 63",1.7,null,null,null,null,null,null,null,null,null,null,null,null,null,null,null,null,null,null,null,null,null,null,null,null,null,null,null,null,null,null,null,null,null,null,null,null,null,null,null,null,null,null,null,null,null,null,null,null,null,null,null,0,0,0,0,0,0,0,0,0,0,0,0,0,0,0,0,0,0,0,0,0,0,0,0,0,0,0,0,0,0,0,0,0,0,0,0,0,0,0,0,0,0,0,0,0,0,0,0,0,0]
[null,null,null,null,"½ x 16 x 75",2.1,null,null,null,null,null,null,null,null,null,null,null,null,null,null,null,null,null,null,null,null,null,null,null,null,null,null,null,null,null,null,null,null,null,null,null,null,null,null,null,null,null,null,null,null,null,null,null,null,null,null,null,0,0,0,0,0,0,0,0,0,0,0,0,0,0,0,0,0,0,0,0,0,0,0,0,0,0,0,0,0,0,0,0,0,0,0,0,0,0,0,0,0,0,0,0,0,0,0,0,0,0]
[null,null,null,null,"½ x 20 x 75",1.7,null,null,null,null,null,null,null,null,null,null,null,null,null,null,null,null,null,null,null,null,null,null,null,null,null,null,null,null,null,null,null,null,null,null,null,null,null,null,null,null,null,null,null,null,null,null,null,null,null,null,null,0,0,0,0,0,0,0,0,0,0,0,0,0,0,0,0,0,0,0,0,0,0,0,0,0,0,0,0,0,0,0,0,0,0,0,0,0,0,0,0,0,0,0,0,0,0,0,0,0,0]
[null,84219,"Passage","Optiflex-Flowpress-Equerre de raccordement double","½ x 16 x 16 x 75",2.8,null,null,null,null,null,null,null,null,null,null,null,null,null,null,null,null,null,null,null,null,null,null,null,null,null,null,null,null,null,null,null,null,null,null,null,null,null,null,null,null,null,null,null,null,null,null,null,null,null,null,null,0,0,0,0,0,0,0,0,0,0,0,0,0,0,0,{"$f":"$F29*V29","v":0},0,0,0,0,0,0,0,0,0,0,0,0,0,0,0,{"$f":"$F29*AL29","v":0},0,0,0,0,0,0,0,0,0,0,0,0,0,0,0,0,0,0]
[null,null,null,null,"½ x 20 x 16 x 75",2.2999999999999998,null,null,null,null,null,null,null,null,null,null,null,null,null,null,null,null,null,null,null,null,null,null,null,null,null,null,null,null,null,null,null,null,null,null,null,null,null,null,null,null,null,null,null,null,null,null,null,null,null,null,null,{"$f":"$F30*G30","v":0},0,0,0,0,0,0,0,0,0,0,0,0,0,0,0,{"$f":"$F30*W30","v":0},0,0,0,0,0,0,0,0,0,0,0,0,0,0,0,0,0,0,0,0,{"$f":"$F30*AR30","v":0},0,0,0,0,0,0,0,0,0,0,0,0]
[null,null,null,null,null,null,null,null,null,null,null,null,null,null,null,null,null,null,null,null,null,null,null,null,null,null,null,null,null,null,null,null,null,null,null,null,null,null,null,null,null,null,null,null,null,null,null,null,null,null,null,null,null,null,null,null,null,0,0,0,0,0,0,0,0,0,0,0,0,0,0,0,0,0,0,0,0,0,0,0,0,0,0,0,0,0,0,0,0,0,0,0,0,0,0,0,0,0,0,0,0,0,0,0,0,0,0]
[null,null,"Soutirage","Optiflex-Flowpress-Equerre de raccordement double","½ x 16 x 16 x 75",3.9,null,null,null,null,null,null,null,null,null,null,null,null,null,null,null,null,null,null,null,null,null,null,null,null,null,null,null,null,null,null,null,null,null,null,null,null,null,null,null,null,null,null,null,null,null,null,null,null,null,null,null,0,0,0,0,0,0,0,0,0,0,0,0,0,0,0,0,0,0,0,0,0,0,0,0,0,0,0,0,0,0,0,0,0,0,0,0,0,0,0,0,0,0,0,0,0,0,0,0,0,0]
[null,null,null,null,"½ x 20 x 16 x 75",2.9,null,null,null,null,null,null,null,null,null,null,null,null,null,null,null,null,null,null,null,null,null,null,null,null,null,null,null,null,null,null,null,null,null,null,null,null,null,null,null,null,null,null,null,null,null,null,null,null,null,null,null,0,0,0,0,0,0,0,0,0,0,0,0,0,0,0,0,0,0,0,0,0,0,0,0,0,0,0,0,0,0,0,0,0,0,0,0,0,0,0,0,0,0,0,0,0,0,0,0,0,0]
[null,null,null,null,null,null,null,null,null,null,null,null,null,null,null,null,null,null,null,null,null,null,null,null,null,null,null,null,null,null,null,null,null,null,null,null,null,null,null,null,null,null,null,null,null,null,null,null,null,null,null,null,null,null,null,null,null,0,0,0,0,0,0,0,0,0,0,0,0,0,0,0,0,0,0,0,0,0,0,0,0,0,0,0,0,0,0,0,0,0,0,0,0,0,0,0,0,0,0,0,0,0,0,0,0,0,0]
[null,84240,null,"Optiflex-Flowpress-Coude à 90°",16,1.7,null,null,null,null,null,null,null,null,null,null,null,null,null,null,null,null,null,null,null,null,null,null,null,null,null,null,null,null,null,null,null,null,null,null,null,null,null,null,null,null,null,null,null,null,null,null,null,null,null,null,null,0,0,0,0,0,0,0,0,0,0,0,0,0,0,0,0,0,0,0,0,0,0,0,0,0,0,0,0,0,0,0,0,0,0,0,0,0,0,0,0,0,0,0,0,0,0,0,0,0,0]
[null,null,null,null,20,1.5,null,null,null,null,null,null,null,null,null,null,null,null,null,null,null,null,null,null,null,null,null,null,null,null,null,null,null,null,null,null,null,null,null,null,null,null,null,null,null,null,null,null,null,null,null,null,null,null,null,null,null,0,0,0,0,0,0,0,0,0,0,0,0,0,0,0,0,0,0,0,0,0,0,0,0,0,0,0,0,0,0,0,0,0,0,0,0,0,0,0,0,0,0,0,0,0,0,0,0,0,0]
[null,null,null,null,25,1.2,null,null,null,null,null,null,null,null,null,null,null,null,null,null,null,null,null,null,null,null,null,null,null,null,null,null,null,null,null,null,null,null,null,null,null,null,null,null,null,null,null,null,null,null,null,null,null,null,null,null,null,0,0,0,0,0,0,0,0,0,0,0,0,0,0,0,0,0,0,0,0,0,0,0,0,0,0,0,0,0,0,0,0,0,0,0,0,0,0,0,0,0,0,0,0,0,0,0,0,0,0]
[null,null,null,null,32,1.2,null,null,null,null,null,null,null,null,null,null,null,null,null,null,null,null,null,null,null,null,null,null,null,null,null,null,null,null,null,null,null,null,null,null,null,null,null,null,null,null,null,null,null,null,null,null,null,null,null,null,null,0,0,0,0,0,0,0,0,0,0,0,0,0,0,0,0,0,0,0,0,0,0,0,0,0,0,0,0,0,0,0,0,0,0,0,0,0,0,0,0,0,0,0,0,0,0,0,0,0,0]
[null,null,null,null,40,0.9,null,null,null,null,null,null,null,null,null,null,null,null,null,null,null,null,null,null,null,null,null,null,null,null,null,null,null,null,null,null,null,null,null,null,null,null,null,null,null,null,null,null,null,null,null,null,null,null,null,null,null,{"$f":"$F39*G39","v":0},0,0,0,0,0,0,0,0,0,0,0,0,0,0,0,{"$f":"$F39*W39","v":0},{"$f":"$F39*X39","v":0},{"$f":"$F39*Y39","v":0},{"$f":"$F39*Z39","v":0},{"$f":"$F39*AA39","v":0},{"$f":"$F39*AB39","v":0},{"$f":"$F39*AC39","v":0},{"$f":"$F39*AD39","v":0},{"$f":"$F39*AE39","v":0},{"$f":"$F39*AF39","v":0},{"$f":"$F39*AG39","v":0},{"$f":"$F39*AH39","v":0},{"$f":"$F39*AI39","v":0},{"$f":"$F39*AJ39","v":0},{"$f":"$F39*AK39","v":0},{"$f":"$F39*AL39","v":0},{"$f":"$F39*AM39","v":0},{"$f":"$F39*AN39","v":0},{"$f":"$F39*AO39","v":0},{"$f":"$F39*AP39","v":0},{"$f":"$F39*AQ39","v":0},{"$f":"$F39*AR39","v":0},{"$f":"$F39*AS39","v":0},{"$f":"$F39*AT39","v":0},{"$f":"$F39*AU39","v":0},{"$f":"$F39*AV39","v":0},{"$f":"$F39*AW39","v":0},{"$f":"$F39*AX39","v":0},{"$f":"$F39*AY39","v":0},{"$f":"$F39*AZ39","v":0},{"$f":"$F39*BA39","v":0},{"$f":"$F39*BB39","v":0},{"$f":"$F39*BC39","v":0},{"$f":"$F39*BD39","v":0}]
[null,null,null,null,50,0.8,null,null,null,null,null,null,null,null,null,null,null,null,null,null,null,null,null,null,null,null,null,null,null,null,null,null,null,null,null,null,null,null,null,null,null,null,null,null,null,null,null,null,null,null,null,null,null,null,null,null,null,0,0,0,0,0,0,0,0,0,0,0,0,0,0,0,0,0,0,0,0,0,0,0,0,0,0,0,0,0,0,0,0,0,0,0,0,0,0,0,0,0,0,0,0,0,0,0,0,0,0]
[null,null,null,null,63,0.8,null,null,null,null,null,null,null,null,null,null,null,null,null,null,null,null,null,null,null,null,null,null,null,null,null,null,null,null,null,null,null,null,null,null,null,null,null,null,null,null,null,null,null,null,null,null,null,null,null,null,null,0,0,0,0,0,0,0,0,0,0,0,0,0,0,0,0,0,0,0,0,0,0,0,0,0,0,0,0,0,0,0,0,0,0,0,0,0,0,0,0,0,0,0,0,0,0,0,0,0,0]
[null,84242,"Passage droit","Optiflex-Flowpress-Té",16,0.8,null,null,null,null,null,null,null,null,null,null,null,null,null,null,null,null,null,null,null,null,null,null,null,null,null,null,null,null,null,null,null,null,null,null,null,null,null,null,null,null,null,null,null,null,null,null,null,null,null,null,null,0,0,0,0,0,0,0,0,0,0,0,0,0,0,0,0,0,0,0,0,0,0,0,0,0,0,0,0,0,0,0,0,0,0,0,0,0,0,0,0,0,0,0,0,0,0,0,0,0,0,"Avec des pièces en T réduites, la valeur de résistance de la pièce en T égale est utilisée avec la plus petite dimension de la pièce en T réduite pour le chemin d'écoulement à calculer."]
[null,null,null,null,20,1,null,null,null,null,null,null,null,null,null,null,null,null,null,null,null,null,null,null,null,null,null,null,null,null,null,null,null,null,null,null,null,null,null,null,null,null,null,null,null,null,null,null,null,null,null,null,null,null,null,null,null,0,0,0,0,0,0,0,0,0,0,0,0,0,0,0,0,0,0,0,0,0,0,0,0,0,0,0,0,0,0,0,0,0,0,0,0,0,0,0,0,0,0,0,0,0,0,0,0,0,0]
[null,null,null,null,25,0.6,null,null,null,null,null,null,null,null,null,null,null,null,null,null,null,null,null,null,null,null,null,null,null,null,null,null,null,null,null,null,null,null,null,null,null,null,null,null,null,null,null,null,null,null,null,null,null,null,null,null,null,0,0,0,0,0,0,0,0,0,0,0,0,0,0,0,0,0,0,0,0,0,0,0,0,0,0,0,0,0,0,0,0,0,0,0,0,0,0,0,0,0,0,0,0,0,0,0,0,0,0]
[null,null,null,null,32,0.5,null,null,null,null,null,null,null,null,null,null,null,null,null,null,null,null,null,null,null,null,null,null,null,null,null,null,null,null,null,null,null,null,null,null,null,null,null,null,null,null,null,null,null,null,null,null,null,null,null,null,null,0,0,0,0,0,0,0,0,0,0,0,0,0,0,0,0,0,0,0,0,0,0,0,0,0,0,0,0,0,0,0,0,0,0,0,0,0,0,0,0,0,0,0,0,0,0,0,0,0,0]
[null,null,null,null,40,0.5,null,null,null,null,null,null,null,null,null,null,null,null,null,null,null,null,null,null,null,null,null,null,null,null,null,null,null,null,null,null,null,null,null,null,null,null,null,null,null,null,null,null,null,null,null,null,null,null,null,null,null,0,0,0,0,0,0,0,0,0,0,0,0,0,0,0,0,0,0,0,0,0,0,0,0,0,0,0,0,0,0,0,0,0,0,0,0,0,0,0,0,0,0,0,0,0,0,0,0,0,0]
[null,null,null,null,50,0.5,null,null,null,null,null,null,null,null,null,null,null,null,null,null,null,null,null,null,null,null,null,null,null,null,null,null,null,null,null,null,null,null,null,null,null,null,null,null,null,null,null,null,null,null,null,null,null,null,null,null,null,0,0,0,0,0,0,0,0,0,0,0,0,0,0,0,0,0,0,0,0,0,0,0,0,0,0,0,0,0,0,0,0,0,0,0,0,0,0,0,0,0,0,0,0,0,0,0,0,0,0]
[null,null,null,null,63,0.5,null,null,null,null,null,null,null,null,null,null,null,null,null,null,null,null,null,null,null,null,null,null,null,null,null,null,null,null,null,null,null,null,null,null,null,null,null,null,null,null,null,null,null,null,null,null,null,null,null,null,null,0,0,0,0,0,0,0,0,0,0,0,0,0,0,0,0,0,0,0,0,0,0,0,0,0,0,0,0,0,0,0,0,0,0,0,0,0,0,0,0,0,0,0,0,0,0,0,0,0,0]
[null,null,"Passage équerre","Optiflex-Flowpress-Té",16,2.2999999999999998,null,null,null,null,null,null,null,null,null,null,null,null,null,null,null,null,null,null,null,null,null,null,null,null,null,null,null,null,null,null,null,null,null,null,null,null,null,null,null,null,null,null,null,null,null,null,null,null,null,null,null,0,0,0,0,0,0,0,0,0,0,0,0,0,0,0,0,0,0,0,0,0,0,0,0,0,0,0,0,0,0,0,0,0,0,0,0,0,0,0,0,0,0,0,0,0,0,0,0,0,0]
[null,null,null,null,20,1.8,null,null,null,null,null,null,null,null,null,null,null,null,null,null,null,null,null,null,null,null,null,null,null,null,null,null,null,null,null,null,null,null,null,null,null,null,null,null,null,null,null,null,null,null,null,null,null,null,null,null,null,0,0,0,0,0,0,0,0,0,0,0,0,0,0,0,0,0,0,0,0,0,0,0,0,0,0,0,0,0,0,0,0,0,0,0,0,0,0,0,0,0,0,0,0,0,0,0,0,0,0]
[null,null,null,null,25,1.4,null,null,null,null,null,null,null,null,null,null,null,null,null,null,null,null,null,null,null,null,null,null,null,null,null,null,null,null,null,null,null,null,null,null,null,null,null,null,null,null,null,null,null,null,null,null,null,null,null,null,null,0,0,0,0,0,0,0,0,0,0,0,0,0,0,0,0,0,0,0,0,0,0,0,0,0,0,0,0,0,0,0,0,0,0,0,0,0,0,0,0,0,0,0,0,0,0,0,0,0,0]
[null,null,null,null,32,1.5,null,null,null,null,null,null,null,null,null,null,null,null,null,null,null,null,null,null,null,null,null,null,null,null,null,null,null,null,null,null,null,null,null,null,null,null,null,null,null,null,null,null,null,null,null,null,null,null,null,null,null,0,0,0,0,0,0,0,0,0,0,0,0,0,0,0,0,0,0,0,0,0,0,0,0,0,0,0,0,0,0,0,0,0,0,0,0,0,0,0,0,0,0,0,0,0,0,0,0,0,0]
[null,null,null,null,40,1.1000000000000001,null,null,null,null,null,null,null,null,null,null,null,null,null,null,null,null,null,null,null,null,null,null,null,null,null,null,null,null,null,null,null,null,null,null,null,null,null,null,null,null,null,null,null,null,null,null,null,null,null,null,null,0,0,0,0,0,0,0,0,0,0,0,0,0,0,0,0,0,0,0,0,0,0,0,0,0,0,0,0,0,0,0,0,0,0,0,0,0,0,0,0,0,0,0,0,0,0,0,0,0,0]
[null,null,null,null,50,1,null,null,null,null,null,null,null,null,null,null,null,null,null,null,null,null,null,null,null,null,null,null,null,null,null,null,null,null,null,null,null,null,null,null,null,null,null,null,null,null,null,null,null,null,null,null,null,null,null,null,null,0,0,0,0,0,0,0,0,0,0,0,0,0,0,0,{"$f":"$F54*V54","v":0},0,0,0,0,0,0,0,0,0,0,0,0,0,0,0,0,0,0,0,0,0,0,0,0,0,0,0,0,0,0,0,0,0,0]
[null,null,null,null,63,0.8,null,null,null,null,null,null,null,null,null,null,null,null,null,null,null,null,null,null,null,null,null,null,null,null,null,null,null,null,null,null,null,null,null,null,null,null,null,null,null,null,null,null,null,null,null,null,null,null,null,null,null,0,0,0,0,0,0,0,0,0,0,0,0,0,0,0,0,0,0,0,0,0,0,0,0,0,0,0,0,0,0,0,0,0,0,0,0,0,0,0,0,0,0,0,0,0,0,0,0,0,0]
[null,84236,null,"Optiflex-Flowpress-Accouplement","16 x 16",0.7,null,null,null,null,null,null,null,null,null,null,null,null,null,null,null,null,null,null,null,null,null,null,null,null,null,null,null,null,null,null,null,null,null,null,null,null,null,null,null,null,null,null,null,null,null,null,null,null,null,null,null,0,0,0,0,0,0,0,0,0,0,0,0,0,0,0,0,0,0,0,0,0,0,0,0,0,0,0,0,0,0,0,0,0,0,0,0,0,0,0,0,0,0,0,0,0,0,0,0,0,0]
[null,null,null,null,"20 x 20",0.8,null,null,null,null,null,null,null,null,null,null,null,null,null,null,null,null,null,null,null,null,null,null,null,null,null,null,null,null,null,null,null,null,null,null,null,null,null,null,null,null,null,null,null,null,null,null,null,null,null,null,null,0,0,0,0,0,0,0,0,0,0,0,0,0,0,0,0,0,0,0,0,0,0,0,0,0,0,0,0,0,0,0,0,0,0,0,0,0,0,0,0,0,0,0,0,0,0,0,0,0,0]
[null,null,null,null,"20 x 16",0.7,null,null,null,null,null,null,null,null,null,null,null,null,null,null,null,null,null,null,null,null,null,null,null,null,null,null,null,null,null,null,null,null,null,null,null,null,null,null,null,null,null,null,null,null,null,null,null,null,null,null,null,0,0,0,0,0,0,0,0,0,0,0,0,0,0,0,0,0,0,0,0,0,0,0,0,0,0,0,0,0,0,0,0,0,0,0,0,0,0,0,0,0,0,0,0,0,0,0,0,0,0]
[null,null,null,null,"25 x 25",0.5,null,null,null,null,null,null,null,null,null,null,null,null,null,null,null,null,null,null,null,null,null,null,null,null,null,null,null,null,null,null,null,null,null,null,null,null,null,null,null,null,null,null,null,null,null,null,null,null,null,null,null,0,0,0,0,0,0,0,0,0,0,0,0,0,0,0,0,0,0,0,0,0,0,0,0,0,0,0,0,0,0,0,0,0,0,0,0,0,0,0,0,0,0,0,0,0,0,0,0,0,0]
[null,null,null,null,"25 x 16",0.7,null,null,null,null,null,null,null,null,null,null,null,null,null,null,null,null,null,null,null,null,null,null,null,null,null,null,null,null,null,null,null,null,null,null,null,null,null,null,null,null,null,null,null,null,null,null,null,null,null,null,null,{"$f":"$F60*G60","v":0},{"$f":"$F60*H60","v":0},{"$f":"$F60*I60","v":0},{"$f":"$F60*J60","v":0},{"$f":"$F60*K60","v":0},{"$f":"$F60*L60","v":0},{"$f":"$F60*M60","v":0},{"$f":"$F60*N60","v":0},{"$f":"$F60*O60","v":0},{"$f":"$F60*P60","v":0},{"$f":"$F60*Q60","v":0},{"$f":"$F60*R60","v":0},{"$f":"$F60*S60","v":0},{"$f":"$F60*T60","v":0},{"$f":"$F60*U60","v":0},{"$f":"$F60*V60","v":0},{"$f":"$F60*W60","v":0},{"$f":"$F60*X60","v":0},{"$f":"$F60*Y60","v":0},{"$f":"$F60*Z60","v":0},{"$f":"$F60*AA60","v":0},{"$f":"$F60*AB60","v":0},{"$f":"$F60*AC60","v":0},{"$f":"$F60*AD60","v":0},{"$f":"$F60*AE60","v":0},{"$f":"$F60*AF60","v":0},{"$f":"$F60*AG60","v":0},{"$f":"$F60*AH60","v":0},{"$f":"$F60*AI60","v":0},{"$f":"$F60*AJ60","v":0},{"$f":"$F60*AK60","v":0},{"$f":"$F60*AL60","v":0},{"$f":"$F60*AM60","v":0},{"$f":"$F60*AN60","v":0},{"$f":"$F60*AO60","v":0},{"$f":"$F60*AP60","v":0},{"$f":"$F60*AQ60","v":0},{"$f":"$F60*AR60","v":0},{"$f":"$F60*AS60","v":0},{"$f":"$F60*AT60","v":0},{"$f":"$F60*AU60","v":0},{"$f":"$F60*AV60","v":0},{"$f":"$F60*AW60","v":0},{"$f":"$F60*AX60","v":0},{"$f":"$F60*AY60","v":0},{"$f":"$F60*AZ60","v":0},{"$f":"$F60*BA60","v":0},{"$f":"$F60*BB60","v":0},{"$f":"$F60*BC60","v":0},{"$f":"$F60*BD60","v":0}]
[null,null,null,null,"25 x 20",0.5,null,null,null,null,null,null,null,null,null,null,null,null,null,null,null,null,null,null,null,null,null,null,null,null,null,null,null,null,null,null,null,null,null,null,null,null,null,null,null,null,null,null,null,null,null,null,null,null,null,null,null,0,0,0,0,0,0,0,0,0,0,0,0,0,0,0,0,0,0,0,0,0,0,0,0,0,0,0,0,0,0,0,0,0,0,0,0,0,0,0,0,0,0,0,0,0,0,0,0,0,0]
[null,null,null,null,"32 x 32",0.5,null,null,null,null,null,null,null,null,null,null,null,null,null,null,null,null,null,null,null,null,null,null,null,null,null,null,null,null,null,null,null,null,null,null,null,null,null,null,null,null,null,null,null,null,null,null,null,null,null,null,null,0,0,0,0,0,0,0,0,0,0,0,0,0,0,0,0,0,0,0,0,0,0,0,0,0,0,0,0,0,0,0,0,0,0,0,0,0,0,0,0,0,0,0,0,0,0,0,0,0,0]
[null,null,null,null,"32 x 20",0.5,null,null,null,null,null,null,null,null,null,null,null,null,null,null,null,null,null,null,null,null,null,null,null,null,null,null,null,null,null,null,null,null,null,null,null,null,null,null,null,null,null,null,null,null,null,null,null,null,null,null,null,{"$f":"$F63*G63","v":0},{"$f":"$F63*H63","v":0},{"$f":"$F63*I63","v":0},{"$f":"$F63*J63","v":0},{"$f":"$F63*K63","v":0},{"$f":"$F63*L63","v":0},{"$f":"$F63*M63","v":0},{"$f":"$F63*N63","v":0},{"$f":"$F63*O63","v":0},{"$f":"$F63*P63","v":0},{"$f":"$F63*Q63","v":0},{"$f":"$F63*R63","v":0},{"$f":"$F63*S63","v":0},{"$f":"$F63*T63","v":0},{"$f":"$F63*U63","v":0},{"$f":"$F63*V63","v":0},{"$f":"$F63*W63","v":0},{"$f":"$F63*X63","v":0},{"$f":"$F63*Y63","v":0},{"$f":"$F63*Z63","v":0},{"$f":"$F63*AA63","v":0},{"$f":"$F63*AB63","v":0},{"$f":"$F63*AC63","v":0},{"$f":"$F63*AD63","v":0},{"$f":"$F63*AE63","v":0},{"$f":"$F63*AF63","v":0},{"$f":"$F63*AG63","v":0},{"$f":"$F63*AH63","v":0},{"$f":"$F63*AI63","v":0},{"$f":"$F63*AJ63","v":0},{"$f":"$F63*AK63","v":0},{"$f":"$F63*AL63","v":0},{"$f":"$F63*AM63","v":0},{"$f":"$F63*AN63","v":0},{"$f":"$F63*AO63","v":0},{"$f":"$F63*AP63","v":0},{"$f":"$F63*AQ63","v":0},{"$f":"$F63*AR63","v":0},{"$f":"$F63*AS63","v":0},{"$f":"$F63*AT63","v":0},{"$f":"$F63*AU63","v":0},{"$f":"$F63*AV63","v":0},{"$f":"$F63*AW63","v":0},{"$f":"$F63*AX63","v":0},{"$f":"$F63*AY63","v":0},{"$f":"$F63*AZ63","v":0},{"$f":"$F63*BA63","v":0},{"$f":"$F63*BB63","v":0},{"$f":"$F63*BC63","v":0},{"$f":"$F63*BD63","v":0}]
[null,null,null,null,"32 x 25",0.5,null,null,null,null,null,null,null,null,null,null,null,null,null,null,null,null,null,null,null,null,null,null,null,null,null,null,null,null,null,null,null,null,null,null,null,null,null,null,null,null,null,null,null,null,null,null,null,null,null,null,null,0,0,0,0,0,0,0,0,0,0,0,0,0,0,0,0,0,0,0,0,0,0,0,0,0,0,0,0,0,0,0,0,0,0,0,0,0,0,0,0,0,0,0,0,0,0,0,0,0,0]
[null,null,null,null,"40 x 40",0.5,null,null,null,null,null,null,null,null,null,null,null,null,null,null,null,null,null,null,null,null,null,null,null,null,null,null,null,null,null,null,null,null,null,null,null,null,null,null,null,null,null,null,null,null,null,null,null,null,null,null,null,0,0,0,0,0,0,0,0,0,0,0,0,0,0,0,0,0,0,0,0,0,0,0,0,0,0,0,0,0,0,0,0,0,0,0,0,0,0,0,0,0,0,0,0,0,0,0,0,0,0]
[null,null,null,null,"40 x 32",0.5,null,null,null,null,null,null,null,null,null,null,null,null,null,null,null,null,null,null,null,null,null,null,null,null,null,null,null,null,null,null,null,null,null,null,null,null,null,null,null,null,null,null,null,null,null,null,null,null,null,null,null,0,0,0,0,0,0,0,0,0,0,0,0,0,0,0,0,0,0,0,0,0,0,0,0,0,0,0,0,0,0,0,0,0,0,0,0,0,0,0,0,0,0,0,0,0,0,0,0,0,0]
[null,null,null,null,"50 x 50",0.4,null,null,null,null,null,null,null,null,null,null,null,null,null,null,null,null,null,null,null,null,null,null,null,null,null,null,null,null,null,null,null,null,null,null,null,null,null,null,null,null,null,null,null,null,null,null,null,null,null,null,null,0,0,0,0,0,0,0,0,0,0,0,0,0,0,0,0,0,0,0,0,0,0,0,0,0,0,0,0,0,0,0,0,0,0,0,0,0,0,0,0,0,0,0,0,0,0,0,0,0,0]
[null,null,null,null,"50 x 40",0.4,null,null,null,null,null,null,null,null,null,null,null,null,null,null,null,null,null,null,null,null,null,null,null,null,null,null,null,null,null,null,null,null,null,null,null,null,null,null,null,null,null,null,null,null,null,null,null,null,null,null,null,0,0,0,0,0,0,0,0,0,0,0,0,0,0,0,0,0,0,0,0,0,0,0,0,0,0,0,0,0,0,0,0,0,0,0,0,0,0,0,0,0,0,0,0,0,0,0,0,0,0]
[null,null,null,null,"63 x 63",0.3,null,null,null,null,null,null,null,null,null,null,null,null,null,null,null,null,null,null,null,null,null,null,null,null,null,null,null,null,null,null,null,null,null,null,null,null,null,null,null,null,null,null,null,null,null,null,null,null,null,null,null,{"$f":"$F69*G69","v":0},0,0,0,0,0,0,0,0,0,0,0,0,0,0,0,{"$f":"$F69*W69","v":0},0,0,0,{"$f":"$F69*AA69","v":0},0,0,0,0,0,0,0,0,0,0,0,0,0,0,0,{"$f":"$F69*AQ69","v":0},0,0,0,0,0,0,0,0,0,0,0,0,0]
[null,null,null,null,"63 x 50",0.3,null,null,null,null,null,null,null,null,null,null,null,null,null,null,null,null,null,null,null,null,null,null,null,null,null,null,null,null,null,null,null,null,null,null,null,null,null,null,null,null,null,null,null,null,null,null,null,null,null,null,null,0,0,0,0,0,0,0,0,0,0,0,0,0,0,0,0,0,0,0,0,0,0,0,0,0,0,0,0,0,0,0,0,0,0,0,0,0,0,0,0,0,0,0,0,0,0,0,0,0,0]
[null,84251,null,"Raccord à écrou mobile","1¼ x 25 ou 32",0.6,null,null,null,null,null,null,null,null,null,null,null,null,null,null,null,null,null,null,null,null,null,null,null,null,null,null,null,null,null,null,null,null,null,null,null,null,null,null,null,null,null,null,null,null,null,null,null,null,null,null,null,{"$f":"$F71*G71","v":0},{"$f":"$F71*H71","v":0},{"$f":"$F71*I71","v":0},{"$f":"$F71*J71","v":0},{"$f":"$F71*K71","v":0},{"$f":"$F71*L71","v":0},{"$f":"$F71*M71","v":0},{"$f":"$F71*N71","v":0},{"$f":"$F71*O71","v":0},{"$f":"$F71*P71","v":0},{"$f":"$F71*Q71","v":0},{"$f":"$F71*R71","v":0},{"$f":"$F71*S71","v":0},{"$f":"$F71*T71","v":0},{"$f":"$F71*U71","v":0},{"$f":"$F71*V71","v":0},{"$f":"$F71*W71","v":0},{"$f":"$F71*X71","v":0},{"$f":"$F71*Y71","v":0},{"$f":"$F71*Z71","v":0},{"$f":"$F71*AA71","v":0},{"$f":"$F71*AB71","v":0},{"$f":"$F71*AC71","v":0},{"$f":"$F71*AD71","v":0},{"$f":"$F71*AE71","v":0},{"$f":"$F71*AF71","v":0},{"$f":"$F71*AG71","v":0},{"$f":"$F71*AH71","v":0},{"$f":"$F71*AI71","v":0},{"$f":"$F71*AJ71","v":0},{"$f":"$F71*AK71","v":0},{"$f":"$F71*AL71","v":0},{"$f":"$F71*AM71","v":0},{"$f":"$F71*AN71","v":0},{"$f":"$F71*AO71","v":0},{"$f":"$F71*AP71","v":0},{"$f":"$F71*AQ71","v":0},{"$f":"$F71*AR71","v":0},{"$f":"$F71*AS71","v":0},{"$f":"$F71*AT71","v":0},{"$f":"$F71*AU71","v":0},{"$f":"$F71*AV71","v":0},{"$f":"$F71*AW71","v":0},{"$f":"$F71*AX71","v":0},{"$f":"$F71*AY71","v":0},{"$f":"$F71*AZ71","v":0},{"$f":"$F71*BA71","v":0},{"$f":"$F71*BB71","v":0},{"$f":"$F71*BC71","v":0},{"$f":"$F71*BD71","v":0}]
[null,86103,null,"Optiflex-Distributeur","Valeur Zeta intégrée",0,null,null,null,null,null,null,null,null,null,null,null,null,null,null,null,null,null,null,null,null,null,null,null,null,null,null,null,null,null,null,null,null,null,null,null,null,null,null,null,null,null,null,null,null,null,null,null,null,null,null,null,0,0,0,0,0,0,0,0,0,0,0,0,0,0,0,0,0,0,0,0,0,0,0,0,0,0,0,0,0,0,0,0,0,0,0,0,0,0,0,0,0,0,0,0,0,0,0,0,0,0]
[null,84252,null,"Accouplement rapide","DN SK 20 x 25",1.3,null,null,null,null,null,null,null,null,null,null,null,null,null,null,null,null,null,null,null,null,null,null,null,null,null,null,null,null,null,null,null,null,null,null,null,null,null,null,null,null,null,null,null,null,null,null,null,null,null,null,null,0,0,0,0,0,0,0,0,0,0,0,0,0,0,0,0,0,0,0,0,0,0,0,0,0,0,0,0,0,0,0,0,0,0,0,0,0,0,0,0,0,0,0,0,0,0,0,0,0,0]
[null,84253,null,"Accouplement rapide avec écrou","DN SK 20 x 25",1.3,null,null,null,null,null,null,null,null,null,null,null,null,null,null,null,null,null,null,null,null,null,null,null,null,null,null,null,null,null,null,null,null,null,null,null,null,null,null,null,null,null,null,null,null,null,null,null,null,null,null,null,0,0,0,0,0,0,0,0,0,0,0,0,0,0,0,0,0,0,0,0,0,0,0,0,0,0,0,0,0,0,0,0,0,0,0,0,0,0,0,0,0,0,0,0,0,0,0,0,0,0]
[null,84255,null,"Pièce enfichable droite","1 LU",2.7,null,null,null,null,null,null,null,null,null,null,null,null,null,null,null,null,null,null,null,null,null,null,null,null,null,null,null,null,null,null,null,null,null,null,null,null,null,null,null,null,null,null,null,null,null,null,null,null,null,null,null,0,0,0,0,0,0,0,0,0,0,0,0,0,0,0,0,0,0,0,0,0,0,0,0,0,0,0,0,0,0,0,0,0,0,0,0,0,0,0,0,0,0,0,0,0,0,0,0,0,0]
[null,null,null,null,16,2.4,null,null,null,null,null,null,null,null,null,null,null,null,null,null,null,null,null,null,null,null,null,null,null,null,null,null,null,null,null,null,null,null,null,null,null,null,null,null,null,null,null,null,null,null,null,null,null,null,null,null,null,0,0,0,0,0,0,0,0,0,0,0,0,0,0,0,0,0,0,0,0,0,0,0,0,0,0,0,0,0,0,0,0,0,0,0,0,0,0,0,0,0,0,0,0,0,0,0,0,0,0]
[null,null,null,null,20,1.9,null,null,null,null,null,null,null,null,null,null,null,null,null,null,null,null,null,null,null,null,null,null,null,null,null,null,null,null,null,null,null,null,null,null,null,null,null,null,null,null,null,null,null,null,null,null,null,null,null,null,null,0,0,0,0,0,0,0,0,0,0,0,0,0,0,0,0,0,0,0,0,0,0,0,0,0,0,0,0,0,0,0,0,0,0,0,0,0,0,0,0,0,0,0,0,0,0,0,0,0,0]
[null,84256,null,"Pièce enfichable coudée","1 LU",3.7,null,null,null,null,null,null,null,null,null,null,null,null,null,null,null,null,null,null,null,null,null,null,null,null,null,null,null,null,null,null,null,null,null,null,null,null,null,null,null,null,null,null,null,null,null,null,null,null,null,null,null,0,0,0,0,0,0,0,0,0,0,0,0,0,0,0,0,0,0,0,0,0,0,0,0,0,0,0,0,0,0,0,0,0,0,0,0,0,0,0,0,0,0,0,0,0,0,0,0,0,0]
[null,null,null,null,16,2.5,null,null,null,null,null,null,null,null,null,null,null,null,null,null,null,null,null,null,null,null,null,null,null,null,null,null,null,null,null,null,null,null,null,null,null,null,null,null,null,null,null,null,null,null,null,null,null,null,null,null,null,0,0,0,0,0,0,0,0,0,0,0,0,0,0,0,0,0,0,0,0,0,0,0,0,0,0,0,0,0,0,0,0,0,0,0,0,0,0,0,0,0,0,0,0,0,0,0,0,0,0]
[null,null,null,null,20,3.4,null,null,null,null,null,null,null,null,null,null,null,null,null,null,null,null,null,null,null,null,null,null,null,null,null,null,null,null,null,null,null,null,null,null,null,null,null,null,null,null,null,null,null,null,null,null,null,null,null,null,null,0,0,0,0,0,0,0,0,0,0,0,0,0,0,0,0,0,0,0,0,0,0,0,0,0,0,0,0,0,0,0,0,0,0,0,0,0,0,0,0,0,0,0,0,0,0,0,0,0,0]
[null,"Totale z",null,null,null,null,{"$f":"BF81","v":0},0,0,0,0,0,0,0,0,0,0,0,0,0,0,0,0,0,0,0,0,0,0,0,0,0,0,0,0,0,0,0,0,0,0,0,0,0,0,0,0,0,0,0,0,0,0,0,0,0,null,{"$f":"SUM(BF6:BF80)","v":0},0,0,0,0,0,0,0,0,0,0,0,0,0,0,0,0,0,0,0,0,0,0,0,0,0,0,0,0,0,0,0,{"$f":"SUM(CL6:CL80)","v":0},0,0,0,0,0,0,0,0,0,0,0,0,0,0,0,0,0]
[]
[]
[null,"03.2022 V7.0. © R. Nussbaum SA"]
[null,"L'utilisateur est seul responsable de l'exactitude."]

{"sheet":"Optiarmatur","index":4,"n_rows":44,"n_cols":107,"rows_kept":44,"cut":false,"hidden":false,"merged":[[5,1,11,1],[5,2,11,2],[5,3,11,3],[39,1,39,5],[12,1,25,1],[12,2,25,2],[12,3,25,3],[26,1,33,1],[26,2,33,2],[26,3,33,3],[34,1,36,1],[34,2,36,2],[34,3,36,3],[1,5,3,5],[1,4,3,4],[1,3,3,3],[1,2,3,2],[1,1,3,1]]}
[]
[null,"N° ","Symbole","Désignation","d","z","SP","SP","SP","SP","SP","SP","SP","SP","SP","SP","SP","SP","SP","SP","SP","SP","SP","SP","SP","SP","SP","SP","SP","SP","SP","SP","SP","SP","SP","SP","SP","SP","SP","SP","SP","SP","SP","SP","SP","SP","SP","SP","SP","SP","SP","SP","SP","SP","SP","SP"]
[null,null,null,null,null,null,1,2,3,4,5,6,7,8,9,10,11,12,13,14,15,16,17,18,19,20,21,22,23,24,25,26,27,28,29,30,31,32,33,34,35,36,37,38,39,40,41,42,43,44,45,46,47,48,49,50]
[null,null,null,null,null,null,"u.","u.","u.","u.","u.","u.","u.","u.","u.","u.","u.","u.","u.","u.","u.","u.","u.","u.","u.","u.","u.","u.","u.","u.","u.","u.","u.","u.","u.","u.","u.","u.","u.","u.","u.","u.","u.","u.","u.","u.","u.","u.","u.","u.","u.","u.","u.","u.","u.","u."]
[null,null,null,"Zeta-Totale Optiarmatur",null,null,{"$f":"G40","v":0},0,0,0,0,0,{"$f":"M40","v":0},0,0,0,0,0,0,0,0,0,0,0,0,0,{"$f":"AA40","v":0},0,0,0,0,0,0,0,0,0,0,0,0,0,0,0,0,0,0,0,0,0,0,0,0,0,0,0,0,0]
[null,"22100 22102",null,"Robinet oblique","½",2,null,null,null,null,null,null,null,null,null,null,null,null,null,null,null,null,null,null,null,null,null,null,null,null,null,null,null,null,null,null,null,null,null,null,null,null,null,null,null,null,null,null,null,null,null,null,null,null,null,null,null,{"$f":"$F6*G6","v":0},0,0,0,0,0,0,0,0,0,0,0,0,0,0,0,0,0,0,0,{"$f":"$F6*AA6","v":0},0,0,0,0,0,0,0,0,0,0,0,0,0,0,0,{"$f":"$F6*AQ6","v":0},0,0,0,0,0,0,0,0,0,0,0,0,0]
[null,null,null,null,"¾",1.7,null,null,null,null,null,null,null,null,null,null,null,null,null,null,null,null,null,null,null,null,null,null,null,null,null,null,null,null,null,null,null,null,null,null,null,null,null,null,null,null,null,null,null,null,null,null,null,null,null,null,null,{"$f":"$F7*G7","v":0},{"$f":"$F7*H7","v":0},0,0,0,0,0,0,0,0,0,{"$f":"$F7*R7","v":0},0,0,0,0,0,0,0,0,0,0,0,0,0,0,0,0,0,0,0,0,0,0,0,0,0,0,0,0,0,0,0,0,0,0,0,0,0,0]
[null,null,null,null,1,1.4,null,null,null,null,null,null,null,null,null,null,null,null,null,null,null,null,null,null,null,null,null,null,null,null,null,null,null,null,null,null,null,null,null,null,null,null,null,null,null,null,null,null,null,null,null,null,null,null,null,null,null,0,0,0,0,0,0,0,0,0,0,0,0,0,0,0,0,0,0,0,0,0,0,0,0,0,0,0,0,0,0,0,0,0,0,0,0,0,0,0,0,0,0,0,0,0,0,0,0,0,0]
[null,null,null,null,"1¼",1.2,null,null,null,null,null,null,null,null,null,null,null,null,null,null,null,null,null,null,null,null,null,null,null,null,null,null,null,null,null,null,null,null,null,null,null,null,null,null,null,null,null,null,null,null,null,null,null,null,null,null,null,0,0,0,0,0,0,0,0,0,0,0,0,0,0,0,0,0,0,0,0,0,0,0,0,0,0,0,0,0,0,0,0,0,0,0,0,0,0,0,0,0,0,0,0,0,0,0,0,0,0]
[null,null,null,null,"1½",1.6,null,null,null,null,null,null,null,null,null,null,null,null,null,null,null,null,null,null,null,null,null,null,null,null,null,null,null,null,null,null,null,null,null,null,null,null,null,null,null,null,null,null,null,null,null,null,null,null,null,null,null,0,0,0,0,0,0,0,0,0,0,0,0,0,0,0,0,{"$f":"$F10*W10","v":0},0,0,0,0,0,0,0,0,0,0,0,0,0,0,0,0,0,0,0,0,0,0,0,0,0,0,0,0,0,0,0,0,0]
[null,null,null,null,2,1.5,null,null,null,null,null,null,null,null,null,null,null,null,null,null,null,null,null,null,null,null,null,null,null,null,null,null,null,null,null,null,null,null,null,null,null,null,null,null,null,null,null,null,null,null,null,null,null,null,null,null,null,0,0,0,0,0,0,0,0,0,0,0,0,0,0,0,0,0,0,0,0,0,0,0,0,0,0,0,0,0,0,0,0,0,0,0,0,0,0,0,0,0,0,0,0,0,0,0,0,0,0]
[null,null,null,null,"2½",1.5,null,null,null,null,null,null,null,null,null,null,null,null,null,null,null,null,null,null,null,null,null,null,null,null,null,null,null,null,null,null,null,null,null,null,null,null,null,null,null,null,null,null,null,null,null,null,null,null,null,null,null,0,0,0,0,0,0,0,0,0,0,0,0,0,0,0,0,0,0,0,0,0,0,0,0,0,0,0,0,0,0,0,0,0,0,0,0,0,0,0,0,0,0,0,0,0,0,0,0,0,0]
[null,22150,null,"Robinet de distribution","1 x 20",null,null,null,null,null,null,null,null,null,null,null,null,null,null,null,null,null,null,null,null,null,null,null,null,null,null,null,null,null,null,null,null,null,null,null,null,null,null,null,null,null,null,null,null,null,null,null,null,null,null,null,null,0,0,0,0,0,0,0,0,0,0,0,0,0,0,0,0,0,0,0,0,0,0,0,0,0,0,0,0,0,0,0,0,0,0,0,0,0,0,0,0,0,0,0,0,0,0,0,0,0,0]
[null,null,null,null,"1 x 25",1.2]
[null,null,null,null,"1¼ x 20"]
[null,null,null,null,"1¼ x 25",1.8,null,null,null,null,null,null,null,null,null,null,null,null,null,null,null,null,null,null,null,null,null,null,null,null,null,null,null,null,null,null,null,null,null,null,null,null,null,null,null,null,null,null,null,null,null,null,null,null,null,null,null,0,0,0,0,0,0,0,0,0,0,0,0,0,0,0,0,0,0,0,0,0,0,0,0,0,0,0,0,0,0,0,0,0,0,0,0,0,0,0,0,0,0,0,0,0,0,0,0,0,0]
[null,null,null,null,"1¼ x 32",0.9,null,null,null,null,null,null,null,null,null,null,null,null,null,null,null,null,null,null,null,null,null,null,null,null,null,null,null,null,null,null,null,null,null,null,null,null,null,null,null,null,null,null,null,null,null,null,null,null,null,null,null,0,0,0,0,0,0,0,0,0,0,0,0,0,0,0,0,0,0,0,0,0,0,0,0,0,0,0,0,0,0,0,0,0,0,0,0,0,0,0,0,0,0,0,0,0,0,0,0,0,0]
[null,null,null,null,"1½ x 20"]
[null,null,null,null," 1½ x 25"]
[null,null,null,null,"1½ x 32",1.3,null,null,null,null,null,null,null,null,null,null,null,null,null,null,null,null,null,null,null,null,null,null,null,null,null,null,null,null,null,null,null,null,null,null,null,null,null,null,null,null,null,null,null,null,null,null,null,null,null,null,null,0,0,0,0,0,0,0,0,0,0,0,0,0,0,0,0,0,0,0,0,0,0,0,0,0,0,0,0,0,0,0,0,0,0,0,0,0,0,0,0,0,0,0,0,0,0,0,0,0,0]
[null,null,null,null,"1½ x 40",1.4,null,null,null,null,null,null,null,null,null,null,null,null,null,null,null,null,null,null,null,null,null,null,null,null,null,null,null,null,null,null,null,null,null,null,null,null,null,null,null,null,null,null,null,null,null,null,null,null,null,null,null,0,0,0,0,0,0,0,0,0,0,0,0,0,0,0,0,0,0,0,0,0,0,0,0,0,0,0,0,0,0,0,0,0,0,0,0,0,0,0,0,0,0,0,0,0,0,0,0,0,0]
[null,null,null,null,"2 x 20"]
[null,null,null,null,"2 x 25"]
[null,null,null,null,"2 x 32",1.5,null,null,null,null,null,null,null,null,null,null,null,null,null,null,null,null,null,null,null,null,null,null,null,null,null,null,null,null,null,null,null,null,null,null,null,null,null,null,null,null,null,null,null,null,null,null,null,null,null,null,null,0,0,0,0,0,0,0,0,0,0,0,0,0,0,0,0,0,0,0,0,0,0,0,0,0,0,0,0,0,0,0,0,0,0,0,0,0,0,0,0,0,0,0,0,0,0,0,0,0,0]
[null,null,null,null,"2 x 40"]
[null,null,null,null,"2 x 50",1.5,null,null,null,null,null,null,null,null,null,null,null,null,null,null,null,null,null,null,null,null,null,null,null,null,null,null,null,null,null,null,null,null,null,null,null,null,null,null,null,null,null,null,null,null,null,null,null,null,null,null,null,0,0,0,0,0,0,0,0,0,0,0,0,0,0,0,0,0,0,0,0,0,0,0,0,0,0,0,0,0,0,0,0,{"$f":"$F26*AM26","v":0},0,0,{"$f":"$F26*AP26","v":0},0,0,0,0,0,0,0,0,0,0,0,0,0,0]
[null,23100,null,"Robinet droit","⅜",null,null,null,null,null,null,null,null,null,null,null,null,null,null,null,null,null,null,null,null,null,null,null,null,null,null,null,null,null,null,null,null,null,null,null,null,null,null,null,null,null,null,null,null,null,null,null,null,null,null,null,null,0,0,0,0,0,0,0,0,0,0,0,0,0,0,0,0,0,0,0,0,0,0,0,0,0,0,0,0,0,0,0,0,0,0,0,0,0,0,0,0,0,0,0,0,0,0,0,0,0,0]
[null,null,null,null,"½",5.7]
[null,null,null,null,"¾",7.4,null,null,null,null,null,null,null,null,null,null,null,null,null,null,null,null,null,null,null,null,null,null,null,null,null,null,null,null,null,null,null,null,null,null,null,null,null,null,null,null,null,null,null,null,null,null,null,null,null,null,null,0,0,0,0,0,0,0,0,0,0,0,0,0,0,0,0,0,0,0,0,0,0,0,0,0,0,0,0,0,0,0,0,0,0,0,0,0,0,0,0,0,0,0,0,0,0,0,0,0,0]
[null,null,null,null,1,7,null,null,null,null,null,null,null,null,null,null,null,null,null,null,null,null,null,null,null,null,null,null,null,null,null,null,null,null,null,null,null,null,null,null,null,null,null,null,null,null,null,null,null,null,null,null,null,null,null,null,null,0,0,0,0,0,0,0,0,0,0,0,0,{"$f":"$F30*S30","v":0},0,0,0,0,0,0,0,0,0,0,0,0,0,0,0,0,0,0,0,0,0,0,0,0,0,0,0,0,0,0,0,0,0,0,0,0,0]
[null,null,null,null,"1¼",6.5,null,null,null,null,null,null,null,null,null,null,null,null,null,null,null,null,null,null,null,null,null,null,null,null,null,null,null,null,null,null,null,null,null,null,null,null,null,null,null,null,null,null,null,null,null,null,null,null,null,null,null,{"$f":"$F31*G31","v":0},0,0,0,0,0,0,0,0,0,0,0,0,0,0,0,0,0,0,0,0,0,0,0,0,0,0,0,0,0,0,0,0,0,0,0,0,0,0,0,0,0,0,0,0,0,0,0,0,0]
[null,null,null,null,"1½",8.5,null,null,null,null,null,null,null,null,null,null,null,null,null,null,null,null,null,null,null,null,null,null,null,null,null,null,null,null,null,null,null,null,null,null,null,null,null,null,null,null,null,null,null,null,null,null,null,null,null,null,null,0,0,0,0,0,0,0,0,0,0,0,0,0,0,0,0,0,0,0,0,0,0,0,0,0,0,0,0,0,0,0,0,0,0,0,0,0,0,0,0,0,0,0,0,0,0,0,0,0,0]
[null,null,null,null,2,8,null,null,null,null,null,null,null,null,null,null,null,null,null,null,null,null,null,null,null,null,null,null,null,null,null,null,null,null,null,null,null,null,null,null,null,null,null,null,null,null,null,null,null,null,null,null,null,null,null,null,null,0,0,0,0,0,0,0,0,0,0,0,0,0,0,0,0,0,0,0,0,0,0,0,0,0,0,0,0,0,0,0,0,0,0,0,0,0,0,0,0,0,0,0,0,0,0,0,0,0,0]
[null,null,null,null,"2½",9.1999999999999993,null,null,null,null,null,null,null,null,null,null,null,null,null,null,null,null,null,null,null,null,null,null,null,null,null,null,null,null,null,null,null,null,null,null,null,null,null,null,null,null,null,null,null,null,null,null,null,null,null,null,null,0,0,0,0,0,0,0,0,0,0,0,0,0,0,0,0,0,0,0,0,0,0,0,0,0,0,0,0,0,0,0,0,0,0,0,0,0,0,0,0,0,0,0,0,0,0,0,0,0,0]
[null,23130,null,"Robinet droit à montage caché","½",3.3,null,null,null,null,null,null,null,null,null,null,null,null,null,null,null,null,null,null,null,null,null,null,null,null,null,null,null,null,null,null,null,null,null,null,null,null,null,null,null,null,null,null,null,null,null,null,null,null,null,null,null,0,0,0,0,0,0,0,0,0,0,0,0,0,0,0,0,0,0,0,0,0,0,0,0,0,0,0,0,0,0,0,0,0,0,0,0,0,0,0,0,0,0,0,0,0,0,0,0,0,0]
[null,null,null,null,"¾",6.9,null,null,null,null,null,null,null,null,null,null,null,null,null,null,null,null,null,null,null,null,null,null,null,null,null,null,null,null,null,null,null,null,null,null,null,null,null,null,null,null,null,null,null,null,null,null,null,null,null,null,null,0,0,0,0,0,0,0,0,0,0,0,0,0,0,0,0,0,0,0,0,0,0,0,0,0,0,0,0,0,0,0,0,0,0,0,0,0,0,0,0,0,0,0,0,0,0,0,0,0,0]
[null,null,null,null,1,12.3,null,null,null,null,null,null,null,null,null,null,null,null,null,null,null,null,null,null,null,null,null,null,null,null,null,null,null,null,null,null,null,null,null,null,null,null,null,null,null,null,null,null,null,null,null,null,null,null,null,null,null,0,0,0,0,0,0,0,0,0,0,0,0,0,0,0,0,0,0,0,0,0,0,0,0,0,0,0,0,0,0,0,0,0,0,0,0,0,0,0,0,0,0,0,0,0,0,0,0,0,0]
[null,null,null,"Set de montage avec compteur","¾",24.2,null,null,null,null,null,null,null,null,null,null,null,null,null,null,null,null,null,null,null,null,null,null,null,null,null,null,null,null,null,null,null,null,null,null,null,null,null,null,null,null,null,null,null,null,null,null,null,null,null,null,null,0,0,0,0,0,0,0,0,0,0,0,0,0,0,0,0,0,0,0,0,0,0,0,0,0,0,0,0,0,0,0,0,0,0,0,0,0,0,0,0,0,0,0,0,0,0,0,0,0,0]
[null,null,null,"Set de montage sans compteur","¾",14.9,null,null,null,null,null,null,null,null,null,null,null,null,null,null,null,null,null,null,null,null,null,null,null,null,null,null,null,null,null,null,null,null,null,null,null,null,null,null,null,null,null,null,null,null,null,null,null,null,null,null,null,0,0,0,0,0,0,0,0,0,0,0,0,0,0,0,0,0,0,0,0,0,0,0,0,0,0,0,0,0,0,0,{"$f":"$F39*AL39","v":0},0,0,0,0,0,0,0,0,0,0,0,0,0,0,0,0,0,0]
[null,"Totale z",null,null,null,null,{"$f":"BF40","v":0},{"$f":"BG40","v":0},0,0,0,0,0,0,0,0,0,0,0,0,0,0,0,0,0,0,0,0,0,0,0,0,0,0,0,0,0,0,0,0,0,0,0,0,0,0,0,0,0,0,0,0,0,0,0,0,null,{"$f":"SUM(BF6:BF39)","v":0},{"$f":"SUM(BG6:BG39)","v":0},0,0,0,0,0,0,0,0,0,0,0,0,0,0,0,0,0,0,0,0,0,0,0,0,0,0,0,0,0,0,0,0,0,0,0,0,0,0,0,0,0,0,0,0,0,0,0,0]
[]
[]
[null,"03.2022 V7.0. © R. Nussbaum SA"]
[null,"L'utilisateur est seul responsable de l'exactitude."]

{"sheet":"Dimensionen","index":5,"n_rows":21,"n_cols":7,"rows_kept":21,"cut":false,"hidden":true,"merged":[]}
[null,"Nummer","Durchmesser","Innendurchmesser","Rohrrauhigkeit","Bezeichnung","Volumen pro Meter [l/m]"]
[]
["Optipress",1.0149999999999999," 15x1.0",13,1.5E-3,"Optipress-Tuyau",{"$f":"(D3/2)^2*3.1415927/1000","v":0.13273229157499999}]
[null,1.018,"18x1.0",16,1.5E-3,"Optipress-Tuyau",{"$f":"(D4/2)^2*3.1415927/1000","v":0.20106193279999998}]
[null,1.022," 22x1.2",19.600000000000001,1.5E-3,"Optipress-Tuyau",0.30171856290800009]
[null,1.028," 28x1.2",25.6,1.5E-3,"Optipress-Tuyau",0.5147185479680001]
[null,1.0349999999999999," 35x1.5",32,1.5E-3,"Optipress-Tuyau",0.80424773119999993]
[null,1.042," 42x1.5",39,1.5E-3,"Optipress-Tuyau",1.1945906241749999]
[null,1.054," 54x1.5",51,1.5E-3,"Optipress-Tuyau",2.0428206531750002]
[null,1.0640000000000001,"64x2.0",60,1.5E-3,"Optipress-Tuyau",2.8274334300000001]
[null,1.0760000000000001,"76.1x2.0",72.099999999999994,1.5E-3,"Optipress-Tuyau",4.0828217269017495]
[null,1.0880000000000001,"88.9x2.0",84.9,1.5E-3,"Optipress-Tuyau",5.6611578993817515]
[null,1.1080000000000001,"108x2.0",104,1.5E-3,"Optipress-Tuyau",8.4948666607999996]
["Optiflex","2.1LU"," 16x3.8",8.4,7.0000000000000001E-3,"Optiflex-Rohr",5.5417695227999997E-2]
[null,2.016," 16x2.2",11.6,7.0000000000000001E-3,"Optiflex-Tuyau",0.105683178428]
[null,2.02," 20x2.8",14.4,7.0000000000000001E-3,"Optiflex-Tuyau",0.16286016556800001]
[null,2.0249999999999999," 25x3.5",18,7.0000000000000001E-3,"Optiflex-Tuyau",0.2544690087]
[null,2.032,"32x3.2",25.6,7.0000000000000001E-3,"Optiflex-Rohr",0.5147185479680001]
[null,2.04,"40x3.5",33,7.0000000000000001E-3,"Optiflex-Rohr",0.85529861257499995]
[null,2.0499999999999998,"50x4.0",42,7.0000000000000001E-3,"Optiflex-Rohr",1.3854423807]
[null,2.0630000000000002,"63x4.5",54,7.0000000000000001E-3,"Optiflex-Rohr",2.2902210783000001]

{"sheet":"Medien","index":6,"n_rows":12,"n_cols":3,"rows_kept":12,"cut":false,"hidden":true,"merged":[]}
["Wasser"]
["Temperatur","Dichte","Viskosität"]
["[°C]","[kg/m3]","[m2/s]"]
[10,999.7,1.3069999999999999E-6]
[20,998.2,1.0038E-6]
[30,995.67,8.0100000000000004E-7]
[40,992.24,6.5799999999999999E-7]
[50,988.07,5.5400000000000001E-7]
[60,983.24,4.75E-7]
[70,977.81,4.1300000000000001E-7]
[80,971.83,3.65E-7]
[90,965.31,3.2599999999999998E-7]