{"text_format":"1","workbook":"xlsx","n_sheets":7,"sheets":["Perdita di pressione","Portata volumetrica","Valori zeta","Optiflex-Profix","Optiflex-Press","Optiarmatur","Dimensionen"],"not_rendered":{"charts":0,"images":33,"macros":1,"external_links":0,"defined_names":10,"comments":0,"pivot_tables":0},"unopened":[],"bounds":{"document_bytes":16777216,"sheet_cells":100000,"rows_first":2000,"rows_last":500,"rows_between":2000,"halvings":0,"cell_chars":16384,"cell_head_chars":4096},"cells_cut":0,"cells_raw":0,"read":"whole","date_system":"1900"}

{"sheet":"Perdita di pressione","index":0,"n_rows":66,"n_cols":30,"rows_kept":66,"cut":false,"hidden":false,"merged":[[65,1,65,8],[63,15,63,18],[63,1,63,4],[9,13,9,14],[65,15,65,18],[9,1,12,1],[9,0,12,0],[8,7,8,8],[8,17,8,18],[7,7,7,8],[9,7,9,8],[5,16,5,18],[6,16,6,18],[7,16,7,18],[3,17,3,18],[3,6,3,14]]}
[null,null,"Calcolo della perdita di pressione"]
[null,null,"Direttive G1 della SSIGA per installazioni e impianti alimentati a gas (edizione 2012)",null,null,null,null,null,null,null,null,null,null,"Visto"]
[]
[null,null,null,null,null,"Progetto / Impianto ",null,null,null,null,null,null,null,null,null,null,null,"Parametri gas ",null,null,null,null,null,null,null,null,"Dichte","Viskosität"]
[]
[null,null,null,null,null,null,null,null,null,null,null,null,null,null,null,null,"Hib potere calorifico in funzione",null,null,9.0399999999999991,"[kWh/m3]"]
[null,null,null,null,null,null,null,null,null,null,null,null,null,null,null,null,"Perdita di pressione massima",null,null,2.6,"[mbar]"]
[null,null,"u",null,null,null,null,"v",null,null,null,"Check !","w","x",null,null,"Densità gas naturale",null,null,0.8,"[kg/m3]",null,null,null,null,null,{"$f":"T8","v":0.8},{"$f":"T9","v":1.1399999999999999E-5}]
[null,null,null,null,null,null,null,"Valori dalla scheda \"Portata volumetrica\"▼",null,null,null,"Max 6 m/s",null,"Valori dalla scheda \n\"Valori zeta\"▼",null,null,null,"Viscosità dinamica",null,1.1399999999999999E-5,"[m2/s]"]
["Tratto \nparziale (TP)","Nome del tratto","N°","Materiale","Diametro",null,null,"Portata volumetrica",null,null,null,"Velocità","Lunghezza","Valori zeta",null,null,null,"Perdita di pressione",null,null,null,null,null,null,null,"Durch-","K-Wert","Reynolds-","Lambda-","Strömungsart"]
[null,null,"dim.","tubo","tubo","Qa","Va = Qa/Hib","Va","Va max","Vlibera","Va totale","di flusso","TP","S Scheda","S Aggiunta","Tubo","Tubo","RU","Costante","TP","Totale",null,null,null,null,"messer",null,"zahl","wert"]
[null,null,null,null,null,"Apparecchio","Hib alto destra","G1  Tab 8.3.1.","G1  Tab 8.3.2.","Somma TP"]
[null,null,"[-]","[-]","[mm]","[kW]","[m3/h]","[m3/h]","[m3/h]","[m3/h]","[m3/h]","[m/s]","[m]","[-]","[-]","[mbar/m]","[mbar]","[mbar]","[mbar]","[mbar]","[mbar]",null,null,"Osservazioni",null,"[m]","[m]","[-]","[-]","[-]"]
[null,"Contatore",null,null,null,null,null,null,null,null,null,null,null,null,null,null,null,null,0.8,{"$f":"SUM(Q14:S14)","v":0.8},{"$f":"IF(T14=0,0,IF(Y14=0,0,Y14))","v":0.8},1,null,null,{"$f":"V14*T14","v":0.8},{"$f":"IF(C14=\"\",\"\",VLOOKUP($C14,Dimensionen!$B$3:$D$23,3)/1000)","v":""},{"$f":"IF(C14=\"\",\"\",VLOOKUP(C14,Dimensionen!$B$3:$E$23,4)/1000)","v":""},{"$f":"IF(K14=0,0,Reynoldszahl($Z14, $L14, $AB$8))","v":0},{"$f":"IF(K14=0,0,Lambdawertberechnung($AB14, $AA14, $Z14))","v":0},{"$f":"IF(K14=0,0,Strömungsart($AB14,$AA14,$Z14))","v":0}]
[1,"1",null,{"$f":"IF(C15=\"\",\"\",VLOOKUP($C15,Dimensionen!$B$3:$F$23,5))","v":""},{"$f":"IF(D15=\"\",\"\",VLOOKUP($C15,Dimensionen!$B$3:$F$23,2))","v":""},null,{"$f":"IF(C15=\"\",\"\",IF(F15/$T$6=0,\"\",F15/$T$6))","v":""},{"$f":"IF(C15=\"\",\"\",IF('Portata volumetrica'!B62=0,\"\",'Portata volumetrica'!B62))","v":""},{"$f":"IF(D15=\"\",\"\",IF('Portata volumetrica'!C62=0,\"\",'Portata volumetrica'!C62))","v":""},null,{"$f":"IF(C15=\"\",\"\",F15/$T$6+'Portata volumetrica'!B62+'Portata volumetrica'!C62+J15)","v":""},{"$f":"IF(C15=0,0,(K15/3600)/((Z15/2)^2*PI()))","v":0},null,{"$f":"IF(C15=\"\",\"\",'Valori zeta'!G$5)","v":""},null,{"$f":"IF(C15=0,\"\",($AC15/$Z15*$AA$8*$L15^2/200))","v":""},{"$f":"IF(C15=0,\"\",P15*$M15)","v":""},{"$f":"IF(C15=0,\"\",((($N15+$O15)*$AA$8/200*$L15^2)))","v":""},null,{"$f":"SUM(Q15:S15)","v":0},{"$f":"IF(C15=\"\",0,IF(T15=0,0,Y15+U14))","v":0},1,null,null,{"$f":"V15*T15","v":0},{"$f":"IF(C15=\"\",\"\",VLOOKUP($C15,Dimensionen!$B$3:$D$23,3)/1000)","v":""},{"$f":"IF(C15=\"\",\"\",VLOOKUP(C15,Dimensionen!$B$3:$E$23,4)/1000)","v":""},{"$f":"IF(K15=0,0,Reynoldszahl($Z15, $L15, $AB$8))","v":{"$error":"#VALUE!"}},{"$f":"IF(K15=0,0,Lambdawertberechnung($AB15, $AA15, $Z15))","v":{"$error":"#VALUE!"}},{"$f":"IF(K15=0,0,Strömungsart($AB15,$AA15,$Z15))","v":{"$error":"#VALUE!"}}]
[2,2,null,{"$f":"IF(C16=\"\",\"\",VLOOKUP($C16,Dimensionen!$B$3:$F$23,5))","v":""},{"$f":"IF(D16=\"\",\"\",VLOOKUP($C16,Dimensionen!$B$3:$F$23,2))","v":""},null,{"$f":"IF(C16=\"\",\"\",IF(F16/$T$6=0,\"\",F16/$T$6))","v":""},{"$f":"IF(C16=\"\",\"\",IF('Portata volumetrica'!B63=0,\"\",'Portata volumetrica'!B63))","v":""},{"$f":"IF(D16=\"\",\"\",IF('Portata volumetrica'!C63=0,\"\",'Portata volumetrica'!C63))","v":""},null,{"$f":"IF(C16=\"\",\"\",F16/$T$6+'Portata volumetrica'!B63+'Portata volumetrica'!C63+J16)","v":""},0,null,{"$f":"IF(C16=\"\",\"\",'Valori zeta'!H$5)","v":""},null,"","","",null,0,0,1,null,null,0,{"$f":"IF(C16=\"\",\"\",VLOOKUP($C16,Dimensionen!$B$3:$D$23,3)/1000)","v":""},{"$f":"IF(C16=\"\",\"\",VLOOKUP(C16,Dimensionen!$B$3:$E$23,4)/1000)","v":""},{"$f":"IF(K16=0,0,Reynoldszahl($Z16, $L16, $AB$8))","v":{"$error":"#VALUE!"}},{"$f":"IF(K16=0,0,Lambdawertberechnung($AB16, $AA16, $Z16))","v":{"$error":"#VALUE!"}},{"$f":"IF(K16=0,0,Strömungsart($AB16,$AA16,$Z16))","v":{"$error":"#VALUE!"}}]
[3,3,null,{"$f":"IF(C17=\"\",\"\",VLOOKUP($C17,Dimensionen!$B$3:$F$23,5))","v":""},{"$f":"IF(D17=\"\",\"\",VLOOKUP($C17,Dimensionen!$B$3:$F$23,2))","v":""},null,"",{"$f":"IF(C17=\"\",\"\",IF('Portata volumetrica'!B64=0,\"\",'Portata volumetrica'!B64))","v":""},{"$f":"IF(D17=\"\",\"\",IF('Portata volumetrica'!C64=0,\"\",'Portata volumetrica'!C64))","v":""},null,{"$f":"IF(C17=\"\",\"\",F17/$T$6+'Portata volumetrica'!B64+'Portata volumetrica'!C64+J17)","v":""},0,null,{"$f":"IF(C17=\"\",\"\",'Valori zeta'!I$5)","v":""},null,"","","",null,0,0,1,null,null,0,{"$f":"IF(C17=\"\",\"\",VLOOKUP($C17,Dimensionen!$B$3:$D$23,3)/1000)","v":""},{"$f":"IF(C17=\"\",\"\",VLOOKUP(C17,Dimensionen!$B$3:$E$23,4)/1000)","v":""},{"$f":"IF(K17=0,0,Reynoldszahl($Z17, $L17, $AB$8))","v":{"$error":"#VALUE!"}},{"$f":"IF(K17=0,0,Lambdawertberechnung($AB17, $AA17, $Z17))","v":{"$error":"#VALUE!"}},{"$f":"IF(K17=0,0,Strömungsart($AB17,$AA17,$Z17))","v":{"$error":"#VALUE!"}}]
[4,4,null,{"$f":"IF(C18=\"\",\"\",VLOOKUP($C18,Dimensionen!$B$3:$F$23,5))","v":""},{"$f":"IF(D18=\"\",\"\",VLOOKUP($C18,Dimensionen!$B$3:$F$23,2))","v":""},null,"",{"$f":"IF(C18=\"\",\"\",IF('Portata volumetrica'!B65=0,\"\",'Portata volumetrica'!B65))","v":""},{"$f":"IF(D18=\"\",\"\",IF('Portata volumetrica'!C65=0,\"\",'Portata volumetrica'!C65))","v":""},null,{"$f":"IF(C18=\"\",\"\",F18/$T$6+'Portata volumetrica'!B65+'Portata volumetrica'!C65+J18)","v":""},0,null,{"$f":"IF(C18=\"\",\"\",'Valori zeta'!J$5)","v":""},null,"","","",null,0,0,1,null,null,0,{"$f":"IF(C18=\"\",\"\",VLOOKUP($C18,Dimensionen!$B$3:$D$23,3)/1000)","v":""},{"$f":"IF(C18=\"\",\"\",VLOOKUP(C18,Dimensionen!$B$3:$E$23,4)/1000)","v":""},{"$f":"IF(K18=0,0,Reynoldszahl($Z18, $L18, $AB$8))","v":{"$error":"#VALUE!"}},{"$f":"IF(K18=0,0,Lambdawertberechnung($AB18, $AA18, $Z18))","v":{"$error":"#VALUE!"}},{"$f":"IF(K18=0,0,Strömungsart($AB18,$AA18,$Z18))","v":{"$error":"#VALUE!"}}]
[5,5,null,{"$f":"IF(C19=\"\",\"\",VLOOKUP($C19,Dimensionen!$B$3:$F$23,5))","v":""},{"$f":"IF(D19=\"\",\"\",VLOOKUP($C19,Dimensionen!$B$3:$F$23,2))","v":""},null,"",{"$f":"IF(C19=\"\",\"\",IF('Portata volumetrica'!B66=0,\"\",'Portata volumetrica'!B66))","v":""},{"$f":"IF(D19=\"\",\"\",IF('Portata volumetrica'!C66=0,\"\",'Portata volumetrica'!C66))","v":""},null,{"$f":"IF(C19=\"\",\"\",F19/$T$6+'Portata volumetrica'!B66+'Portata volumetrica'!C66+J19)","v":""},0,null,{"$f":"IF(C19=\"\",\"\",'Valori zeta'!K$5)","v":""},null,"","","",null,0,0,1,null,null,0,{"$f":"IF(C19=\"\",\"\",VLOOKUP($C19,Dimensionen!$B$3:$D$23,3)/1000)","v":""},{"$f":"IF(C19=\"\",\"\",VLOOKUP(C19,Dimensionen!$B$3:$E$23,4)/1000)","v":""},{"$f":"IF(K19=0,0,Reynoldszahl($Z19, $L19, $AB$8))","v":{"$error":"#VALUE!"}},{"$f":"IF(K19=0,0,Lambdawertberechnung($AB19, $AA19, $Z19))","v":{"$error":"#VALUE!"}},{"$f":"IF(K19=0,0,Strömungsart($AB19,$AA19,$Z19))","v":{"$error":"#VALUE!"}}]
[6,6,null,{"$f":"IF(C20=\"\",\"\",VLOOKUP($C20,Dimensionen!$B$3:$F$23,5))","v":""},{"$f":"IF(D20=\"\",\"\",VLOOKUP($C20,Dimensionen!$B$3:$F$23,2))","v":""},null,"",{"$f":"IF(C20=\"\",\"\",IF('Portata volumetrica'!B67=0,\"\",'Portata volumetrica'!B67))","v":""},{"$f":"IF(D20=\"\",\"\",IF('Portata volumetrica'!C67=0,\"\",'Portata volumetrica'!C67))","v":""},null,{"$f":"IF(C20=\"\",\"\",F20/$T$6+'Portata volumetrica'!B67+'Portata volumetrica'!C67+J20)","v":""},0,null,{"$f":"IF(C20=\"\",\"\",'Valori zeta'!L$5)","v":""},null,"","","",null,0,0,1,null,null,0,{"$f":"IF(C20=\"\",\"\",VLOOKUP($C20,Dimensionen!$B$3:$D$23,3)/1000)","v":""},{"$f":"IF(C20=\"\",\"\",VLOOKUP(C20,Dimensionen!$B$3:$E$23,4)/1000)","v":""},{"$f":"IF(K20=0,0,Reynoldszahl($Z20, $L20, $AB$8))","v":{"$error":"#VALUE!"}},{"$f":"IF(K20=0,0,Lambdawertberechnung($AB20, $AA20, $Z20))","v":{"$error":"#VALUE!"}},{"$f":"IF(K20=0,0,Strömungsart($AB20,$AA20,$Z20))","v":{"$error":"#VALUE!"}}]
[7,7,null,{"$f":"IF(C21=\"\",\"\",VLOOKUP($C21,Dimensionen!$B$3:$F$23,5))","v":""},{"$f":"IF(D21=\"\",\"\",VLOOKUP($C21,Dimensionen!$B$3:$F$23,2))","v":""},null,"",{"$f":"IF(C21=\"\",\"\",IF('Portata volumetrica'!B68=0,\"\",'Portata volumetrica'!B68))","v":""},{"$f":"IF(D21=\"\",\"\",IF('Portata volumetrica'!C68=0,\"\",'Portata volumetrica'!C68))","v":""},null,{"$f":"IF(C21=\"\",\"\",F21/$T$6+'Portata volumetrica'!B68+'Portata volumetrica'!C68+J21)","v":""},0,null,{"$f":"IF(C21=\"\",\"\",'Valori zeta'!M$5)","v":""},null,"","","",null,0,0,1,null,null,0,{"$f":"IF(C21=\"\",\"\",VLOOKUP($C21,Dimensionen!$B$3:$D$23,3)/1000)","v":""},{"$f":"IF(C21=\"\",\"\",VLOOKUP(C21,Dimensionen!$B$3:$E$23,4)/1000)","v":""},{"$f":"IF(K21=0,0,Reynoldszahl($Z21, $L21, $AB$8))","v":{"$error":"#VALUE!"}},{"$f":"IF(K21=0,0,Lambdawertberechnung($AB21, $AA21, $Z21))","v":{"$error":"#VALUE!"}},{"$f":"IF(K21=0,0,Strömungsart($AB21,$AA21,$Z21))","v":{"$error":"#VALUE!"}}]
[8,8,null,{"$f":"IF(C22=\"\",\"\",VLOOKUP($C22,Dimensionen!$B$3:$F$23,5))","v":""},{"$f":"IF(D22=\"\",\"\",VLOOKUP($C22,Dimensionen!$B$3:$F$23,2))","v":""},null,"",{"$f":"IF(C22=\"\",\"\",IF('Portata volumetrica'!B69=0,\"\",'Portata volumetrica'!B69))","v":""},{"$f":"IF(D22=\"\",\"\",IF('Portata volumetrica'!C69=0,\"\",'Portata volumetrica'!C69))","v":""},null,{"$f":"IF(C22=\"\",\"\",F22/$T$6+'Portata volumetrica'!B69+'Portata volumetrica'!C69+J22)","v":""},0,null,{"$f":"IF(C22=\"\",\"\",'Valori zeta'!N$5)","v":""},null,"","","",null,0,0,1,null,null,0,{"$f":"IF(C22=\"\",\"\",VLOOKUP($C22,Dimensionen!$B$3:$D$23,3)/1000)","v":""},{"$f":"IF(C22=\"\",\"\",VLOOKUP(C22,Dimensionen!$B$3:$E$23,4)/1000)","v":""},{"$f":"IF(K22=0,0,Reynoldszahl($Z22, $L22, $AB$8))","v":{"$error":"#VALUE!"}},{"$f":"IF(K22=0,0,Lambdawertberechnung($AB22, $AA22, $Z22))","v":{"$error":"#VALUE!"}},{"$f":"IF(K22=0,0,Strömungsart($AB22,$AA22,$Z22))","v":{"$error":"#VALUE!"}}]
[9,9,null,{"$f":"IF(C23=\"\",\"\",VLOOKUP($C23,Dimensionen!$B$3:$F$23,5))","v":""},{"$f":"IF(D23=\"\",\"\",VLOOKUP($C23,Dimensionen!$B$3:$F$23,2))","v":""},null,"",{"$f":"IF(C23=\"\",\"\",IF('Portata volumetrica'!B70=0,\"\",'Portata volumetrica'!B70))","v":""},{"$f":"IF(D23=\"\",\"\",IF('Portata volumetrica'!C70=0,\"\",'Portata volumetrica'!C70))","v":""},null,{"$f":"IF(C23=\"\",\"\",F23/$T$6+'Portata volumetrica'!B70+'Portata volumetrica'!C70+J23)","v":""},0,null,{"$f":"IF(C23=\"\",\"\",'Valori zeta'!O$5)","v":""},null,"","","",null,0,0,1,null,null,0,{"$f":"IF(C23=\"\",\"\",VLOOKUP($C23,Dimensionen!$B$3:$D$23,3)/1000)","v":""},{"$f":"IF(C23=\"\",\"\",VLOOKUP(C23,Dimensionen!$B$3:$E$23,4)/1000)","v":""},{"$f":"IF(K23=0,0,Reynoldszahl($Z23, $L23, $AB$8))","v":{"$error":"#VALUE!"}},{"$f":"IF(K23=0,0,Lambdawertberechnung($AB23, $AA23, $Z23))","v":{"$error":"#VALUE!"}},{"$f":"IF(K23=0,0,Strömungsart($AB23,$AA23,$Z23))","v":{"$error":"#VALUE!"}}]
[10,10,null,{"$f":"IF(C24=\"\",\"\",VLOOKUP($C24,Dimensionen!$B$3:$F$23,5))","v":""},{"$f":"IF(D24=\"\",\"\",VLOOKUP($C24,Dimensionen!$B$3:$F$23,2))","v":""},null,"",{"$f":"IF(C24=\"\",\"\",IF('Portata volumetrica'!B71=0,\"\",'Portata volumetrica'!B71))","v":""},{"$f":"IF(D24=\"\",\"\",IF('Portata volumetrica'!C71=0,\"\",'Portata volumetrica'!C71))","v":""},null,{"$f":"IF(C24=\"\",\"\",F24/$T$6+'Portata volumetrica'!B71+'Portata volumetrica'!C71+J24)","v":""},0,null,{"$f":"IF(C24=\"\",\"\",'Valori zeta'!P$5)","v":""},null,"","","",null,0,0,1,null,null,0,{"$f":"IF(C24=\"\",\"\",VLOOKUP($C24,Dimensionen!$B$3:$D$23,3)/1000)","v":""},{"$f":"IF(C24=\"\",\"\",VLOOKUP(C24,Dimensionen!$B$3:$E$23,4)/1000)","v":""},{"$f":"IF(K24=0,0,Reynoldszahl($Z24, $L24, $AB$8))","v":{"$error":"#VALUE!"}},{"$f":"IF(K24=0,0,Lambdawertberechnung($AB24, $AA24, $Z24))","v":{"$error":"#VALUE!"}},{"$f":"IF(K24=0,0,Strömungsart($AB24,$AA24,$Z24))","v":{"$error":"#VALUE!"}}]
[11,11,null,{"$f":"IF(C25=\"\",\"\",VLOOKUP($C25,Dimensionen!$B$3:$F$23,5))","v":""},{"$f":"IF(D25=\"\",\"\",VLOOKUP($C25,Dimensionen!$B$3:$F$23,2))","v":""},null,"",{"$f":"IF(C25=\"\",\"\",IF('Portata volumetrica'!B72=0,\"\",'Portata volumetrica'!B72))","v":""},{"$f":"IF(D25=\"\",\"\",IF('Portata volumetrica'!C72=0,\"\",'Portata volumetrica'!C72))","v":""},null,{"$f":"IF(C25=\"\",\"\",F25/$T$6+'Portata volumetrica'!B72+'Portata volumetrica'!C72+J25)","v":""},0,null,{"$f":"IF(C25=\"\",\"\",'Valori zeta'!Q$5)","v":""},null,"","","",null,0,0,1,null,null,0,{"$f":"IF(C25=\"\",\"\",VLOOKUP($C25,Dimensionen!$B$3:$D$23,3)/1000)","v":""},{"$f":"IF(C25=\"\",\"\",VLOOKUP(C25,Dimensionen!$B$3:$E$23,4)/1000)","v":""},{"$f":"IF(K25=0,0,Reynoldszahl($Z25, $L25, $AB$8))","v":{"$error":"#VALUE!"}},{"$f":"IF(K25=0,0,Lambdawertberechnung($AB25, $AA25, $Z25))","v":{"$error":"#VALUE!"}},{"$f":"IF(K25=0,0,Strömungsart($AB25,$AA25,$Z25))","v":{"$error":"#VALUE!"}}]
[12,12,null,{"$f":"IF(C26=\"\",\"\",VLOOKUP($C26,Dimensionen!$B$3:$F$23,5))","v":""},{"$f":"IF(D26=\"\",\"\",VLOOKUP($C26,Dimensionen!$B$3:$F$23,2))","v":""},null,"",{"$f":"IF(C26=\"\",\"\",IF('Portata volumetrica'!B73=0,\"\",'Portata volumetrica'!B73))","v":""},{"$f":"IF(D26=\"\",\"\",IF('Portata volumetrica'!C73=0,\"\",'Portata volumetrica'!C73))","v":""},null,{"$f":"IF(C26=\"\",\"\",F26/$T$6+'Portata volumetrica'!B73+'Portata volumetrica'!C73+J26)","v":""},0,null,{"$f":"IF(C26=\"\",\"\",'Valori zeta'!R$5)","v":""},null,"","","",null,0,0,1,null,null,0,{"$f":"IF(C26=\"\",\"\",VLOOKUP($C26,Dimensionen!$B$3:$D$23,3)/1000)","v":""},{"$f":"IF(C26=\"\",\"\",VLOOKUP(C26,Dimensionen!$B$3:$E$23,4)/1000)","v":""},{"$f":"IF(K26=0,0,Reynoldszahl($Z26, $L26, $AB$8))","v":{"$error":"#VALUE!"}},{"$f":"IF(K26=0,0,Lambdawertberechnung($AB26, $AA26, $Z26))","v":{"$error":"#VALUE!"}},{"$f":"IF(K26=0,0,Strömungsart($AB26,$AA26,$Z26))","v":{"$error":"#VALUE!"}}]
[13,13,null,{"$f":"IF(C27=\"\",\"\",VLOOKUP($C27,Dimensionen!$B$3:$F$23,5))","v":""},{"$f":"IF(D27=\"\",\"\",VLOOKUP($C27,Dimensionen!$B$3:$F$23,2))","v":""},null,"",{"$f":"IF(C27=\"\",\"\",IF('Portata volumetrica'!B74=0,\"\",'Portata volumetrica'!B74))","v":""},{"$f":"IF(D27=\"\",\"\",IF('Portata volumetrica'!C74=0,\"\",'Portata volumetrica'!C74))","v":""},null,{"$f":"IF(C27=\"\",\"\",F27/$T$6+'Portata volumetrica'!B74+'Portata volumetrica'!C74+J27)","v":""},0,null,{"$f":"IF(C27=\"\",\"\",'Valori zeta'!S$5)","v":""},null,"","","",null,0,0,1,null,null,0,{"$f":"IF(C27=\"\",\"\",VLOOKUP($C27,Dimensionen!$B$3:$D$23,3)/1000)","v":""},{"$f":"IF(C27=\"\",\"\",VLOOKUP(C27,Dimensionen!$B$3:$E$23,4)/1000)","v":""},{"$f":"IF(K27=0,0,Reynoldszahl($Z27, $L27, $AB$8))","v":{"$error":"#VALUE!"}},{"$f":"IF(K27=0,0,Lambdawertberechnung($AB27, $AA27, $Z27))","v":{"$error":"#VALUE!"}},{"$f":"IF(K27=0,0,Strömungsart($AB27,$AA27,$Z27))","v":{"$error":"#VALUE!"}}]
[14,14,null,{"$f":"IF(C28=\"\",\"\",VLOOKUP($C28,Dimensionen!$B$3:$F$23,5))","v":""},{"$f":"IF(D28=\"\",\"\",VLOOKUP($C28,Dimensionen!$B$3:$F$23,2))","v":""},null,"",{"$f":"IF(C28=\"\",\"\",IF('Portata volumetrica'!B75=0,\"\",'Portata volumetrica'!B75))","v":""},{"$f":"IF(D28=\"\",\"\",IF('Portata volumetrica'!C75=0,\"\",'Portata volumetrica'!C75))","v":""},null,{"$f":"IF(C28=\"\",\"\",F28/$T$6+'Portata volumetrica'!B75+'Portata volumetrica'!C75+J28)","v":""},0,null,{"$f":"IF(C28=\"\",\"\",'Valori zeta'!T$5)","v":""},null,"","","",null,0,0,1,null,null,0,{"$f":"IF(C28=\"\",\"\",VLOOKUP($C28,Dimensionen!$B$3:$D$23,3)/1000)","v":""},{"$f":"IF(C28=\"\",\"\",VLOOKUP(C28,Dimensionen!$B$3:$E$23,4)/1000)","v":""},{"$f":"IF(K28=0,0,Reynoldszahl($Z28, $L28, $AB$8))","v":{"$error":"#VALUE!"}},{"$f":"IF(K28=0,0,Lambdawertberechnung($AB28, $AA28, $Z28))","v":{"$error":"#VALUE!"}},{"$f":"IF(K28=0,0,Strömungsart($AB28,$AA28,$Z28))","v":{"$error":"#VALUE!"}}]
[15,15,null,{"$f":"IF(C29=\"\",\"\",VLOOKUP($C29,Dimensionen!$B$3:$F$23,5))","v":""},{"$f":"IF(D29=\"\",\"\",VLOOKUP($C29,Dimensionen!$B$3:$F$23,2))","v":""},null,"",{"$f":"IF(C29=\"\",\"\",IF('Portata volumetrica'!B76=0,\"\",'Portata volumetrica'!B76))","v":""},{"$f":"IF(D29=\"\",\"\",IF('Portata volumetrica'!C76=0,\"\",'Portata volumetrica'!C76))","v":""},null,{"$f":"IF(C29=\"\",\"\",F29/$T$6+'Portata volumetrica'!B76+'Portata volumetrica'!C76+J29)","v":""},0,null,{"$f":"IF(C29=\"\",\"\",'Valori zeta'!U$5)","v":""},null,"","","",null,0,0,1,null,null,0,{"$f":"IF(C29=\"\",\"\",VLOOKUP($C29,Dimensionen!$B$3:$D$23,3)/1000)","v":""},{"$f":"IF(C29=\"\",\"\",VLOOKUP(C29,Dimensionen!$B$3:$E$23,4)/1000)","v":""},{"$f":"IF(K29=0,0,Reynoldszahl($Z29, $L29, $AB$8))","v":{"$error":"#VALUE!"}},{"$f":"IF(K29=0,0,Lambdawertberechnung($AB29, $AA29, $Z29))","v":{"$error":"#VALUE!"}},{"$f":"IF(K29=0,0,Strömungsart($AB29,$AA29,$Z29))","v":{"$error":"#VALUE!"}}]
[16,16,null,{"$f":"IF(C30=\"\",\"\",VLOOKUP($C30,Dimensionen!$B$3:$F$23,5))","v":""},{"$f":"IF(D30=\"\",\"\",VLOOKUP($C30,Dimensionen!$B$3:$F$23,2))","v":""},null,"",{"$f":"IF(C30=\"\",\"\",IF('Portata volumetrica'!B77=0,\"\",'Portata volumetrica'!B77))","v":""},{"$f":"IF(D30=\"\",\"\",IF('Portata volumetrica'!C77=0,\"\",'Portata volumetrica'!C77))","v":""},null,{"$f":"IF(C30=\"\",\"\",F30/$T$6+'Portata volumetrica'!B77+'Portata volumetrica'!C77+J30)","v":""},0,null,{"$f":"IF(C30=\"\",\"\",'Valori zeta'!V$5)","v":""},null,"","","",null,0,0,1,null,null,0,{"$f":"IF(C30=\"\",\"\",VLOOKUP($C30,Dimensionen!$B$3:$D$23,3)/1000)","v":""},{"$f":"IF(C30=\"\",\"\",VLOOKUP(C30,Dimensionen!$B$3:$E$23,4)/1000)","v":""},{"$f":"IF(K30=0,0,Reynoldszahl($Z30, $L30, $AB$8))","v":{"$error":"#VALUE!"}},{"$f":"IF(K30=0,0,Lambdawertberechnung($AB30, $AA30, $Z30))","v":{"$error":"#VALUE!"}},{"$f":"IF(K30=0,0,Strömungsart($AB30,$AA30,$Z30))","v":{"$error":"#VALUE!"}}]
[17,17,null,{"$f":"IF(C31=\"\",\"\",VLOOKUP($C31,Dimensionen!$B$3:$F$23,5))","v":""},{"$f":"IF(D31=\"\",\"\",VLOOKUP($C31,Dimensionen!$B$3:$F$23,2))","v":""},null,"",{"$f":"IF(C31=\"\",\"\",IF('Portata volumetrica'!B78=0,\"\",'Portata volumetrica'!B78))","v":""},{"$f":"IF(D31=\"\",\"\",IF('Portata volumetrica'!C78=0,\"\",'Portata volumetrica'!C78))","v":""},null,{"$f":"IF(C31=\"\",\"\",F31/$T$6+'Portata volumetrica'!B78+'Portata volumetrica'!C78+J31)","v":""},0,null,{"$f":"IF(C31=\"\",\"\",'Valori zeta'!W$5)","v":""},null,"","","",null,{"$f":"SUM(Q31:S31)","v":0},0,1,null,null,0,{"$f":"IF(C31=\"\",\"\",VLOOKUP($C31,Dimensionen!$B$3:$D$23,3)/1000)","v":""},{"$f":"IF(C31=\"\",\"\",VLOOKUP(C31,Dimensionen!$B$3:$E$23,4)/1000)","v":""},{"$f":"IF(K31=0,0,Reynoldszahl($Z31, $L31, $AB$8))","v":{"$error":"#VALUE!"}},{"$f":"IF(K31=0,0,Lambdawertberechnung($AB31, $AA31, $Z31))","v":{"$error":"#VALUE!"}},{"$f":"IF(K31=0,0,Strömungsart($AB31,$AA31,$Z31))","v":{"$error":"#VALUE!"}}]
[18,18,null,{"$f":"IF(C32=\"\",\"\",VLOOKUP($C32,Dimensionen!$B$3:$F$23,5))","v":""},{"$f":"IF(D32=\"\",\"\",VLOOKUP($C32,Dimensionen!$B$3:$F$23,2))","v":""},null,"",{"$f":"IF(C32=\"\",\"\",IF('Portata volumetrica'!B79=0,\"\",'Portata volumetrica'!B79))","v":""},{"$f":"IF(D32=\"\",\"\",IF('Portata volumetrica'!C79=0,\"\",'Portata volumetrica'!C79))","v":""},null,{"$f":"IF(C32=\"\",\"\",F32/$T$6+'Portata volumetrica'!B79+'Portata volumetrica'!C79+J32)","v":""},0,null,{"$f":"IF(C32=\"\",\"\",'Valori zeta'!X$5)","v":""},null,"","","",null,{"$f":"SUM(Q32:S32)","v":0},0,1,null,null,0,{"$f":"IF(C32=\"\",\"\",VLOOKUP($C32,Dimensionen!$B$3:$D$23,3)/1000)","v":""},{"$f":"IF(C32=\"\",\"\",VLOOKUP(C32,Dimensionen!$B$3:$E$23,4)/1000)","v":""},{"$f":"IF(K32=0,0,Reynoldszahl($Z32, $L32, $AB$8))","v":{"$error":"#VALUE!"}},{"$f":"IF(K32=0,0,Lambdawertberechnung($AB32, $AA32, $Z32))","v":{"$error":"#VALUE!"}},{"$f":"IF(K32=0,0,Strömungsart($AB32,$AA32,$Z32))","v":{"$error":"#VALUE!"}}]
[19,19,null,{"$f":"IF(C33=\"\",\"\",VLOOKUP($C33,Dimensionen!$B$3:$F$23,5))","v":""},{"$f":"IF(D33=\"\",\"\",VLOOKUP($C33,Dimensionen!$B$3:$F$23,2))","v":""},null,"",{"$f":"IF(C33=\"\",\"\",IF('Portata volumetrica'!B80=0,\"\",'Portata volumetrica'!B80))","v":""},{"$f":"IF(D33=\"\",\"\",IF('Portata volumetrica'!C80=0,\"\",'Portata volumetrica'!C80))","v":""},null,{"$f":"IF(C33=\"\",\"\",F33/$T$6+'Portata volumetrica'!B80+'Portata volumetrica'!C80+J33)","v":""},0,null,{"$f":"IF(C33=\"\",\"\",'Valori zeta'!Y$5)","v":""},null,"","","",null,{"$f":"SUM(Q33:S33)","v":0},0,1,null,null,0,{"$f":"IF(C33=\"\",\"\",VLOOKUP($C33,Dimensionen!$B$3:$D$23,3)/1000)","v":""},{"$f":"IF(C33=\"\",\"\",VLOOKUP(C33,Dimensionen!$B$3:$E$23,4)/1000)","v":""},{"$f":"IF(K33=0,0,Reynoldszahl($Z33, $L33, $AB$8))","v":{"$error":"#VALUE!"}},{"$f":"IF(K33=0,0,Lambdawertberechnung($AB33, $AA33, $Z33))","v":{"$error":"#VALUE!"}},{"$f":"IF(K33=0,0,Strömungsart($AB33,$AA33,$Z33))","v":{"$error":"#VALUE!"}}]
[20,20,null,{"$f":"IF(C34=\"\",\"\",VLOOKUP($C34,Dimensionen!$B$3:$F$23,5))","v":""},{"$f":"IF(D34=\"\",\"\",VLOOKUP($C34,Dimensionen!$B$3:$F$23,2))","v":""},null,"",{"$f":"IF(C34=\"\",\"\",IF('Portata volumetrica'!B81=0,\"\",'Portata volumetrica'!B81))","v":""},{"$f":"IF(D34=\"\",\"\",IF('Portata volumetrica'!C81=0,\"\",'Portata volumetrica'!C81))","v":""},null,{"$f":"IF(C34=\"\",\"\",F34/$T$6+'Portata volumetrica'!B81+'Portata volumetrica'!C81+J34)","v":""},0,null,{"$f":"IF(C34=\"\",\"\",'Valori zeta'!Z$5)","v":""},null,"","","",null,0,0,1,null,null,0,{"$f":"IF(C34=\"\",\"\",VLOOKUP($C34,Dimensionen!$B$3:$D$23,3)/1000)","v":""},{"$f":"IF(C34=\"\",\"\",VLOOKUP(C34,Dimensionen!$B$3:$E$23,4)/1000)","v":""},{"$f":"IF(K34=0,0,Reynoldszahl($Z34, $L34, $AB$8))","v":{"$error":"#VALUE!"}},{"$f":"IF(K34=0,0,Lambdawertberechnung($AB34, $AA34, $Z34))","v":{"$error":"#VALUE!"}},{"$f":"IF(K34=0,0,Strömungsart($AB34,$AA34,$Z34))","v":{"$error":"#VALUE!"}}]
[21,21,null,{"$f":"IF(C35=\"\",\"\",VLOOKUP($C35,Dimensionen!$B$3:$F$23,5))","v":""},{"$f":"IF(D35=\"\",\"\",VLOOKUP($C35,Dimensionen!$B$3:$F$23,2))","v":""},null,"",{"$f":"IF(C35=\"\",\"\",IF('Portata volumetrica'!B82=0,\"\",'Portata volumetrica'!B82))","v":""},{"$f":"IF(D35=\"\",\"\",IF('Portata volumetrica'!C82=0,\"\",'Portata volumetrica'!C82))","v":""},null,{"$f":"IF(C35=\"\",\"\",F35/$T$6+'Portata volumetrica'!B82+'Portata volumetrica'!C82+J35)","v":""},0,null,{"$f":"IF(C35=\"\",\"\",'Valori zeta'!AA$5)","v":""},null,"","","",null,0,0,1,null,null,0,{"$f":"IF(C35=\"\",\"\",VLOOKUP($C35,Dimensionen!$B$3:$D$23,3)/1000)","v":""},{"$f":"IF(C35=\"\",\"\",VLOOKUP(C35,Dimensionen!$B$3:$E$23,4)/1000)","v":""},{"$f":"IF(K35=0,0,Reynoldszahl($Z35, $L35, $AB$8))","v":{"$error":"#VALUE!"}},{"$f":"IF(K35=0,0,Lambdawertberechnung($AB35, $AA35, $Z35))","v":{"$error":"#VALUE!"}},{"$f":"IF(K35=0,0,Strömungsart($AB35,$AA35,$Z35))","v":{"$error":"#VALUE!"}}]
[22,22,null,{"$f":"IF(C36=\"\",\"\",VLOOKUP($C36,Dimensionen!$B$3:$F$23,5))","v":""},{"$f":"IF(D36=\"\",\"\",VLOOKUP($C36,Dimensionen!$B$3:$F$23,2))","v":""},null,"",{"$f":"IF(C36=\"\",\"\",IF('Portata volumetrica'!B83=0,\"\",'Portata volumetrica'!B83))","v":""},{"$f":"IF(D36=\"\",\"\",IF('Portata volumetrica'!C83=0,\"\",'Portata volumetrica'!C83))","v":""},null,{"$f":"IF(C36=\"\",\"\",F36/$T$6+'Portata volumetrica'!B83+'Portata volumetrica'!C83+J36)","v":""},0,null,{"$f":"IF(C36=\"\",\"\",'Valori zeta'!AB$5)","v":""},null,"","","",null,0,0,1,null,null,0,{"$f":"IF(C36=\"\",\"\",VLOOKUP($C36,Dimensionen!$B$3:$D$23,3)/1000)","v":""},{"$f":"IF(C36=\"\",\"\",VLOOKUP(C36,Dimensionen!$B$3:$E$23,4)/1000)","v":""},{"$f":"IF(K36=0,0,Reynoldszahl($Z36, $L36, $AB$8))","v":{"$error":"#VALUE!"}},{"$f":"IF(K36=0,0,Lambdawertberechnung($AB36, $AA36, $Z36))","v":{"$error":"#VALUE!"}},{"$f":"IF(K36=0,0,Strömungsart($AB36,$AA36,$Z36))","v":{"$error":"#VALUE!"}}]
[23,23,null,{"$f":"IF(C37=\"\",\"\",VLOOKUP($C37,Dimensionen!$B$3:$F$23,5))","v":""},{"$f":"IF(D37=\"\",\"\",VLOOKUP($C37,Dimensionen!$B$3:$F$23,2))","v":""},null,"",{"$f":"IF(C37=\"\",\"\",IF('Portata volumetrica'!B84=0,\"\",'Portata volumetrica'!B84))","v":""},{"$f":"IF(D37=\"\",\"\",IF('Portata volumetrica'!C84=0,\"\",'Portata volumetrica'!C84))","v":""},null,{"$f":"IF(C37=\"\",\"\",F37/$T$6+'Portata volumetrica'!B84+'Portata volumetrica'!C84+J37)","v":""},0,null,{"$f":"IF(C37=\"\",\"\",'Valori zeta'!AC$5)","v":""},null,"","","",null,0,0,1,null,null,0,{"$f":"IF(C37=\"\",\"\",VLOOKUP($C37,Dimensionen!$B$3:$D$23,3)/1000)","v":""},{"$f":"IF(C37=\"\",\"\",VLOOKUP(C37,Dimensionen!$B$3:$E$23,4)/1000)","v":""},{"$f":"IF(K37=0,0,Reynoldszahl($Z37, $L37, $AB$8))","v":{"$error":"#VALUE!"}},{"$f":"IF(K37=0,0,Lambdawertberechnung($AB37, $AA37, $Z37))","v":{"$error":"#VALUE!"}},{"$f":"IF(K37=0,0,Strömungsart($AB37,$AA37,$Z37))","v":{"$error":"#VALUE!"}}]
[24,24,null,{"$f":"IF(C38=\"\",\"\",VLOOKUP($C38,Dimensionen!$B$3:$F$23,5))","v":""},{"$f":"IF(D38=\"\",\"\",VLOOKUP($C38,Dimensionen!$B$3:$F$23,2))","v":""},null,"",{"$f":"IF(C38=\"\",\"\",IF('Portata volumetrica'!B85=0,\"\",'Portata volumetrica'!B85))","v":""},{"$f":"IF(D38=\"\",\"\",IF('Portata volumetrica'!C85=0,\"\",'Portata volumetrica'!C85))","v":""},null,{"$f":"IF(C38=\"\",\"\",F38/$T$6+'Portata volumetrica'!B85+'Portata volumetrica'!C85+J38)","v":""},0,null,{"$f":"IF(C38=\"\",\"\",'Valori zeta'!AD$5)","v":""},null,"","","",null,0,0,1,null,null,0,{"$f":"IF(C38=\"\",\"\",VLOOKUP($C38,Dimensionen!$B$3:$D$23,3)/1000)","v":""},{"$f":"IF(C38=\"\",\"\",VLOOKUP(C38,Dimensionen!$B$3:$E$23,4)/1000)","v":""},{"$f":"IF(K38=0,0,Reynoldszahl($Z38, $L38, $AB$8))","v":{"$error":"#VALUE!"}},{"$f":"IF(K38=0,0,Lambdawertberechnung($AB38, $AA38, $Z38))","v":{"$error":"#VALUE!"}},{"$f":"IF(K38=0,0,Strömungsart($AB38,$AA38,$Z38))","v":{"$error":"#VALUE!"}}]
[25,25,null,{"$f":"IF(C39=\"\",\"\",VLOOKUP($C39,Dimensionen!$B$3:$F$23,5))","v":""},{"$f":"IF(D39=\"\",\"\",VLOOKUP($C39,Dimensionen!$B$3:$F$23,2))","v":""},null,"",{"$f":"IF(C39=\"\",\"\",IF('Portata volumetrica'!B86=0,\"\",'Portata volumetrica'!B86))","v":""},{"$f":"IF(D39=\"\",\"\",IF('Portata volumetrica'!C86=0,\"\",'Portata volumetrica'!C86))","v":""},null,{"$f":"IF(C39=\"\",\"\",F39/$T$6+'Portata volumetrica'!B86+'Portata volumetrica'!C86+J39)","v":""},0,null,{"$f":"IF(C39=\"\",\"\",'Valori zeta'!AE$5)","v":""},null,"","","",null,0,0,1,null,null,0,{"$f":"IF(C39=\"\",\"\",VLOOKUP($C39,Dimensionen!$B$3:$D$23,3)/1000)","v":""},{"$f":"IF(C39=\"\",\"\",VLOOKUP(C39,Dimensionen!$B$3:$E$23,4)/1000)","v":""},{"$f":"IF(K39=0,0,Reynoldszahl($Z39, $L39, $AB$8))","v":{"$error":"#VALUE!"}},{"$f":"IF(K39=0,0,Lambdawertberechnung($AB39, $AA39, $Z39))","v":{"$error":"#VALUE!"}},{"$f":"IF(K39=0,0,Strömungsart($AB39,$AA39,$Z39))","v":{"$error":"#VALUE!"}}]
[26,26,null,{"$f":"IF(C40=\"\",\"\",VLOOKUP($C40,Dimensionen!$B$3:$F$23,5))","v":""},{"$f":"IF(D40=\"\",\"\",VLOOKUP($C40,Dimensionen!$B$3:$F$23,2))","v":""},null,"",{"$f":"IF(C40=\"\",\"\",IF('Portata volumetrica'!B87=0,\"\",'Portata volumetrica'!B87))","v":""},{"$f":"IF(D40=\"\",\"\",IF('Portata volumetrica'!C87=0,\"\",'Portata volumetrica'!C87))","v":""},null,{"$f":"IF(C40=\"\",\"\",F40/$T$6+'Portata volumetrica'!B87+'Portata volumetrica'!C87+J40)","v":""},0,null,{"$f":"IF(C40=\"\",\"\",'Valori zeta'!AF$5)","v":""},null,"","","",null,0,0,1,null,null,0,{"$f":"IF(C40=\"\",\"\",VLOOKUP($C40,Dimensionen!$B$3:$D$23,3)/1000)","v":""},{"$f":"IF(C40=\"\",\"\",VLOOKUP(C40,Dimensionen!$B$3:$E$23,4)/1000)","v":""},{"$f":"IF(K40=0,0,Reynoldszahl($Z40, $L40, $AB$8))","v":{"$error":"#VALUE!"}},{"$f":"IF(K40=0,0,Lambdawertberechnung($AB40, $AA40, $Z40))","v":{"$error":"#VALUE!"}},{"$f":"IF(K40=0,0,Strömungsart($AB40,$AA40,$Z40))","v":{"$error":"#VALUE!"}}]
[27,27,null,{"$f":"IF(C41=\"\",\"\",VLOOKUP($C41,Dimensionen!$B$3:$F$23,5))","v":""},{"$f":"IF(D41=\"\",\"\",VLOOKUP($C41,Dimensionen!$B$3:$F$23,2))","v":""},null,"",{"$f":"IF(C41=\"\",\"\",IF('Portata volumetrica'!B88=0,\"\",'Portata volumetrica'!B88))","v":""},{"$f":"IF(D41=\"\",\"\",IF('Portata volumetrica'!C88=0,\"\",'Portata volumetrica'!C88))","v":""},null,{"$f":"IF(C41=\"\",\"\",F41/$T$6+'Portata volumetrica'!B88+'Portata volumetrica'!C88+J41)","v":""},0,null,{"$f":"IF(C41=\"\",\"\",'Valori zeta'!AG$5)","v":""},null,"","","",null,0,0,1,null,null,0,{"$f":"IF(C41=\"\",\"\",VLOOKUP($C41,Dimensionen!$B$3:$D$23,3)/1000)","v":""},{"$f":"IF(C41=\"\",\"\",VLOOKUP(C41,Dimensionen!$B$3:$E$23,4)/1000)","v":""},{"$f":"IF(K41=0,0,Reynoldszahl($Z41, $L41, $AB$8))","v":{"$error":"#VALUE!"}},{"$f":"IF(K41=0,0,Lambdawertberechnung($AB41, $AA41, $Z41))","v":{"$error":"#VALUE!"}},{"$f":"IF(K41=0,0,Strömungsart($AB41,$AA41,$Z41))","v":{"$error":"#VALUE!"}}]
[28,28,null,{"$f":"IF(C42=\"\",\"\",VLOOKUP($C42,Dimensionen!$B$3:$F$23,5))","v":""},{"$f":"IF(D42=\"\",\"\",VLOOKUP($C42,Dimensionen!$B$3:$F$23,2))","v":""},null,"",{"$f":"IF(C42=\"\",\"\",IF('Portata volumetrica'!B89=0,\"\",'Portata volumetrica'!B89))","v":""},{"$f":"IF(D42=\"\",\"\",IF('Portata volumetrica'!C89=0,\"\",'Portata volumetrica'!C89))","v":""},null,{"$f":"IF(C42=\"\",\"\",F42/$T$6+'Portata volumetrica'!B89+'Portata volumetrica'!C89+J42)","v":""},0,null,{"$f":"IF(C42=\"\",\"\",'Valori zeta'!AH$5)","v":""},null,"","","",null,0,0,1,null,null,0,{"$f":"IF(C42=\"\",\"\",VLOOKUP($C42,Dimensionen!$B$3:$D$23,3)/1000)","v":""},{"$f":"IF(C42=\"\",\"\",VLOOKUP(C42,Dimensionen!$B$3:$E$23,4)/1000)","v":""},{"$f":"IF(K42=0,0,Reynoldszahl($Z42, $L42, $AB$8))","v":{"$error":"#VALUE!"}},{"$f":"IF(K42=0,0,Lambdawertberechnung($AB42, $AA42, $Z42))","v":{"$error":"#VALUE!"}},{"$f":"IF(K42=0,0,Strömungsart($AB42,$AA42,$Z42))","v":{"$error":"#VALUE!"}}]
[29,29,null,{"$f":"IF(C43=\"\",\"\",VLOOKUP($C43,Dimensionen!$B$3:$F$23,5))","v":""},{"$f":"IF(D43=\"\",\"\",VLOOKUP($C43,Dimensionen!$B$3:$F$23,2))","v":""},null,"",{"$f":"IF(C43=\"\",\"\",IF('Portata volumetrica'!B90=0,\"\",'Portata volumetrica'!B90))","v":""},{"$f":"IF(D43=\"\",\"\",IF('Portata volumetrica'!C90=0,\"\",'Portata volumetrica'!C90))","v":""},null,{"$f":"IF(C43=\"\",\"\",F43/$T$6+'Portata volumetrica'!B90+'Portata volumetrica'!C90+J43)","v":""},0,null,{"$f":"IF(C43=\"\",\"\",'Valori zeta'!AI$5)","v":""},null,"","","",null,0,0,1,null,null,0,{"$f":"IF(C43=\"\",\"\",VLOOKUP($C43,Dimensionen!$B$3:$D$23,3)/1000)","v":""},{"$f":"IF(C43=\"\",\"\",VLOOKUP(C43,Dimensionen!$B$3:$E$23,4)/1000)","v":""},{"$f":"IF(K43=0,0,Reynoldszahl($Z43, $L43, $AB$8))","v":{"$error":"#VALUE!"}},{"$f":"IF(K43=0,0,Lambdawertberechnung($AB43, $AA43, $Z43))","v":{"$error":"#VALUE!"}},{"$f":"IF(K43=0,0,Strömungsart($AB43,$AA43,$Z43))","v":{"$error":"#VALUE!"}}]
[30,30,null,{"$f":"IF(C44=\"\",\"\",VLOOKUP($C44,Dimensionen!$B$3:$F$23,5))","v":""},{"$f":"IF(D44=\"\",\"\",VLOOKUP($C44,Dimensionen!$B$3:$F$23,2))","v":""},null,"",{"$f":"IF(C44=\"\",\"\",IF('Portata volumetrica'!B91=0,\"\",'Portata volumetrica'!B91))","v":""},{"$f":"IF(D44=\"\",\"\",IF('Portata volumetrica'!C91=0,\"\",'Portata volumetrica'!C91))","v":""},null,{"$f":"IF(C44=\"\",\"\",F44/$T$6+'Portata volumetrica'!B91+'Portata volumetrica'!C91+J44)","v":""},0,null,{"$f":"IF(C44=\"\",\"\",'Valori zeta'!AJ$5)","v":""},null,"","","",null,0,0,1,null,null,0,{"$f":"IF(C44=\"\",\"\",VLOOKUP($C44,Dimensionen!$B$3:$D$23,3)/1000)","v":""},{"$f":"IF(C44=\"\",\"\",VLOOKUP(C44,Dimensionen!$B$3:$E$23,4)/1000)","v":""},{"$f":"IF(K44=0,0,Reynoldszahl($Z44, $L44, $AB$8))","v":{"$error":"#VALUE!"}},{"$f":"IF(K44=0,0,Lambdawertberechnung($AB44, $AA44, $Z44))","v":{"$error":"#VALUE!"}},{"$f":"IF(K44=0,0,Strömungsart($AB44,$AA44,$Z44))","v":{"$error":"#VALUE!"}}]
[31,31,null,{"$f":"IF(C45=\"\",\"\",VLOOKUP($C45,Dimensionen!$B$3:$F$23,5))","v":""},{"$f":"IF(D45=\"\",\"\",VLOOKUP($C45,Dimensionen!$B$3:$F$23,2))","v":""},null,"",{"$f":"IF(C45=\"\",\"\",IF('Portata volumetrica'!B92=0,\"\",'Portata volumetrica'!B92))","v":""},{"$f":"IF(D45=\"\",\"\",IF('Portata volumetrica'!C92=0,\"\",'Portata volumetrica'!C92))","v":""},null,{"$f":"IF(C45=\"\",\"\",F45/$T$6+'Portata volumetrica'!B92+'Portata volumetrica'!C92+J45)","v":""},0,null,{"$f":"IF(C45=\"\",\"\",'Valori zeta'!AK$5)","v":""},null,"","","",null,0,0,1,null,null,0,{"$f":"IF(C45=\"\",\"\",VLOOKUP($C45,Dimensionen!$B$3:$D$23,3)/1000)","v":""},{"$f":"IF(C45=\"\",\"\",VLOOKUP(C45,Dimensionen!$B$3:$E$23,4)/1000)","v":""},{"$f":"IF(K45=0,0,Reynoldszahl($Z45, $L45, $AB$8))","v":{"$error":"#VALUE!"}},{"$f":"IF(K45=0,0,Lambdawertberechnung($AB45, $AA45, $Z45))","v":{"$error":"#VALUE!"}},{"$f":"IF(K45=0,0,Strömungsart($AB45,$AA45,$Z45))","v":{"$error":"#VALUE!"}}]
[32,32,null,{"$f":"IF(C46=\"\",\"\",VLOOKUP($C46,Dimensionen!$B$3:$F$23,5))","v":""},{"$f":"IF(D46=\"\",\"\",VLOOKUP($C46,Dimensionen!$B$3:$F$23,2))","v":""},null,"",{"$f":"IF(C46=\"\",\"\",IF('Portata volumetrica'!B93=0,\"\",'Portata volumetrica'!B93))","v":""},{"$f":"IF(D46=\"\",\"\",IF('Portata volumetrica'!C93=0,\"\",'Portata volumetrica'!C93))","v":""},null,{"$f":"IF(C46=\"\",\"\",F46/$T$6+'Portata volumetrica'!B93+'Portata volumetrica'!C93+J46)","v":""},0,null,{"$f":"IF(C46=\"\",\"\",'Valori zeta'!AL$5)","v":""},null,"","","",null,0,0,1,null,null,0,{"$f":"IF(C46=\"\",\"\",VLOOKUP($C46,Dimensionen!$B$3:$D$23,3)/1000)","v":""},{"$f":"IF(C46=\"\",\"\",VLOOKUP(C46,Dimensionen!$B$3:$E$23,4)/1000)","v":""},{"$f":"IF(K46=0,0,Reynoldszahl($Z46, $L46, $AB$8))","v":{"$error":"#VALUE!"}},{"$f":"IF(K46=0,0,Lambdawertberechnung($AB46, $AA46, $Z46))","v":{"$error":"#VALUE!"}},{"$f":"IF(K46=0,0,Strömungsart($AB46,$AA46,$Z46))","v":{"$error":"#VALUE!"}}]
[33,33,null,{"$f":"IF(C47=\"\",\"\",VLOOKUP($C47,Dimensionen!$B$3:$F$23,5))","v":""},{"$f":"IF(D47=\"\",\"\",VLOOKUP($C47,Dimensionen!$B$3:$F$23,2))","v":""},null,"",{"$f":"IF(C47=\"\",\"\",IF('Portata volumetrica'!B94=0,\"\",'Portata volumetrica'!B94))","v":""},{"$f":"IF(D47=\"\",\"\",IF('Portata volumetrica'!C94=0,\"\",'Portata volumetrica'!C94))","v":""},null,{"$f":"IF(C47=\"\",\"\",F47/$T$6+'Portata volumetrica'!B94+'Portata volumetrica'!C94+J47)","v":""},{"$f":"IF(C47=0,0,(K47/3600)/((Z47/2)^2*PI()))","v":0},null,{"$f":"IF(C47=\"\",\"\",'Valori zeta'!AM$5)","v":""},null,{"$f":"IF(C47=0,\"\",($AC47/$Z47*$AA$8*$L47^2/200))","v":""},{"$f":"IF(C47=0,\"\",P47*$M47)","v":""},{"$f":"IF(C47=0,\"\",((($N47+$O47)*$AA$8/200*$L47^2)))","v":""},null,0,{"$f":"IF(C47=\"\",0,IF(T47=0,0,Y47+U46))","v":0},1,null,null,0,{"$f":"IF(C47=\"\",\"\",VLOOKUP($C47,Dimensionen!$B$3:$D$23,3)/1000)","v":""},{"$f":"IF(C47=\"\",\"\",VLOOKUP(C47,Dimensionen!$B$3:$E$23,4)/1000)","v":""},{"$f":"IF(K47=0,0,Reynoldszahl($Z47, $L47, $AB$8))","v":{"$error":"#VALUE!"}},{"$f":"IF(K47=0,0,Lambdawertberechnung($AB47, $AA47, $Z47))","v":{"$error":"#VALUE!"}},{"$f":"IF(K47=0,0,Strömungsart($AB47,$AA47,$Z47))","v":{"$error":"#VALUE!"}}]
[34,34,null,{"$f":"IF(C48=\"\",\"\",VLOOKUP($C48,Dimensionen!$B$3:$F$23,5))","v":""},{"$f":"IF(D48=\"\",\"\",VLOOKUP($C48,Dimensionen!$B$3:$F$23,2))","v":""},null,"",{"$f":"IF(C48=\"\",\"\",IF('Portata volumetrica'!B95=0,\"\",'Portata volumetrica'!B95))","v":""},{"$f":"IF(D48=\"\",\"\",IF('Portata volumetrica'!C95=0,\"\",'Portata volumetrica'!C95))","v":""},null,{"$f":"IF(C48=\"\",\"\",F48/$T$6+'Portata volumetrica'!B95+'Portata volumetrica'!C95+J48)","v":""},0,null,{"$f":"IF(C48=\"\",\"\",'Valori zeta'!AN$5)","v":""},null,"","","",null,0,0,1,null,null,0,{"$f":"IF(C48=\"\",\"\",VLOOKUP($C48,Dimensionen!$B$3:$D$23,3)/1000)","v":""},{"$f":"IF(C48=\"\",\"\",VLOOKUP(C48,Dimensionen!$B$3:$E$23,4)/1000)","v":""},{"$f":"IF(K48=0,0,Reynoldszahl($Z48, $L48, $AB$8))","v":{"$error":"#VALUE!"}},{"$f":"IF(K48=0,0,Lambdawertberechnung($AB48, $AA48, $Z48))","v":{"$error":"#VALUE!"}},{"$f":"IF(K48=0,0,Strömungsart($AB48,$AA48,$Z48))","v":{"$error":"#VALUE!"}}]
[35,35,null,{"$f":"IF(C49=\"\",\"\",VLOOKUP($C49,Dimensionen!$B$3:$F$23,5))","v":""},{"$f":"IF(D49=\"\",\"\",VLOOKUP($C49,Dimensionen!$B$3:$F$23,2))","v":""},null,"",{"$f":"IF(C49=\"\",\"\",IF('Portata volumetrica'!B96=0,\"\",'Portata volumetrica'!B96))","v":""},{"$f":"IF(D49=\"\",\"\",IF('Portata volumetrica'!C96=0,\"\",'Portata volumetrica'!C96))","v":""},null,{"$f":"IF(C49=\"\",\"\",F49/$T$6+'Portata volumetrica'!B96+'Portata volumetrica'!C96+J49)","v":""},0,null,{"$f":"IF(C49=\"\",\"\",'Valori zeta'!AO$5)","v":""},null,"","","",null,0,0,1,null,null,0,{"$f":"IF(C49=\"\",\"\",VLOOKUP($C49,Dimensionen!$B$3:$D$23,3)/1000)","v":""},{"$f":"IF(C49=\"\",\"\",VLOOKUP(C49,Dimensionen!$B$3:$E$23,4)/1000)","v":""},{"$f":"IF(K49=0,0,Reynoldszahl($Z49, $L49, $AB$8))","v":{"$error":"#VALUE!"}},{"$f":"IF(K49=0,0,Lambdawertberechnung($AB49, $AA49, $Z49))","v":{"$error":"#VALUE!"}},{"$f":"IF(K49=0,0,Strömungsart($AB49,$AA49,$Z49))","v":{"$error":"#VALUE!"}}]
[36,36,null,{"$f":"IF(C50=\"\",\"\",VLOOKUP($C50,Dimensionen!$B$3:$F$23,5))","v":""},{"$f":"IF(D50=\"\",\"\",VLOOKUP($C50,Dimensionen!$B$3:$F$23,2))","v":""},null,"",{"$f":"IF(C50=\"\",\"\",IF('Portata volumetrica'!B97=0,\"\",'Portata volumetrica'!B97))","v":""},{"$f":"IF(D50=\"\",\"\",IF('Portata volumetrica'!C97=0,\"\",'Portata volumetrica'!C97))","v":""},null,{"$f":"IF(C50=\"\",\"\",F50/$T$6+'Portata volumetrica'!B97+'Portata volumetrica'!C97+J50)","v":""},0,null,{"$f":"IF(C50=\"\",\"\",'Valori zeta'!AP$5)","v":""},null,"","","",null,0,0,1,null,null,0,{"$f":"IF(C50=\"\",\"\",VLOOKUP($C50,Dimensionen!$B$3:$D$23,3)/1000)","v":""},{"$f":"IF(C50=\"\",\"\",VLOOKUP(C50,Dimensionen!$B$3:$E$23,4)/1000)","v":""},{"$f":"IF(K50=0,0,Reynoldszahl($Z50, $L50, $AB$8))","v":{"$error":"#VALUE!"}},{"$f":"IF(K50=0,0,Lambdawertberechnung($AB50, $AA50, $Z50))","v":{"$error":"#VALUE!"}},{"$f":"IF(K50=0,0,Strömungsart($AB50,$AA50,$Z50))","v":{"$error":"#VALUE!"}}]
[37,37,null,{"$f":"IF(C51=\"\",\"\",VLOOKUP($C51,Dimensionen!$B$3:$F$23,5))","v":""},{"$f":"IF(D51=\"\",\"\",VLOOKUP($C51,Dimensionen!$B$3:$F$23,2))","v":""},null,"",{"$f":"IF(C51=\"\",\"\",IF('Portata volumetrica'!B98=0,\"\",'Portata volumetrica'!B98))","v":""},{"$f":"IF(D51=\"\",\"\",IF('Portata volumetrica'!C98=0,\"\",'Portata volumetrica'!C98))","v":""},null,{"$f":"IF(C51=\"\",\"\",F51/$T$6+'Portata volumetrica'!B98+'Portata volumetrica'!C98+J51)","v":""},0,null,{"$f":"IF(C51=\"\",\"\",'Valori zeta'!AQ$5)","v":""},null,"","","",null,0,0,1,null,null,0,{"$f":"IF(C51=\"\",\"\",VLOOKUP($C51,Dimensionen!$B$3:$D$23,3)/1000)","v":""},{"$f":"IF(C51=\"\",\"\",VLOOKUP(C51,Dimensionen!$B$3:$E$23,4)/1000)","v":""},{"$f":"IF(K51=0,0,Reynoldszahl($Z51, $L51, $AB$8))","v":{"$error":"#VALUE!"}},{"$f":"IF(K51=0,0,Lambdawertberechnung($AB51, $AA51, $Z51))","v":{"$error":"#VALUE!"}},{"$f":"IF(K51=0,0,Strömungsart($AB51,$AA51,$Z51))","v":{"$error":"#VALUE!"}}]
[38,38,null,{"$f":"IF(C52=\"\",\"\",VLOOKUP($C52,Dimensionen!$B$3:$F$23,5))","v":""},{"$f":"IF(D52=\"\",\"\",VLOOKUP($C52,Dimensionen!$B$3:$F$23,2))","v":""},null,"",{"$f":"IF(C52=\"\",\"\",IF('Portata volumetrica'!B99=0,\"\",'Portata volumetrica'!B99))","v":""},{"$f":"IF(D52=\"\",\"\",IF('Portata volumetrica'!C99=0,\"\",'Portata volumetrica'!C99))","v":""},null,{"$f":"IF(C52=\"\",\"\",F52/$T$6+'Portata volumetrica'!B99+'Portata volumetrica'!C99+J52)","v":""},0,null,{"$f":"IF(C52=\"\",\"\",'Valori zeta'!AR$5)","v":""},null,"","","",null,0,0,1,null,null,0,{"$f":"IF(C52=\"\",\"\",VLOOKUP($C52,Dimensionen!$B$3:$D$23,3)/1000)","v":""},{"$f":"IF(C52=\"\",\"\",VLOOKUP(C52,Dimensionen!$B$3:$E$23,4)/1000)","v":""},{"$f":"IF(K52=0,0,Reynoldszahl($Z52, $L52, $AB$8))","v":{"$error":"#VALUE!"}},{"$f":"IF(K52=0,0,Lambdawertberechnung($AB52, $AA52, $Z52))","v":{"$error":"#VALUE!"}},{"$f":"IF(K52=0,0,Strömungsart($AB52,$AA52,$Z52))","v":{"$error":"#VALUE!"}}]
[39,39,null,{"$f":"IF(C53=\"\",\"\",VLOOKUP($C53,Dimensionen!$B$3:$F$23,5))","v":""},{"$f":"IF(D53=\"\",\"\",VLOOKUP($C53,Dimensionen!$B$3:$F$23,2))","v":""},null,"",{"$f":"IF(C53=\"\",\"\",IF('Portata volumetrica'!B100=0,\"\",'Portata volumetrica'!B100))","v":""},{"$f":"IF(D53=\"\",\"\",IF('Portata volumetrica'!C100=0,\"\",'Portata volumetrica'!C100))","v":""},null,{"$f":"IF(C53=\"\",\"\",F53/$T$6+'Portata volumetrica'!B100+'Portata volumetrica'!C100+J53)","v":""},0,null,{"$f":"IF(C53=\"\",\"\",'Valori zeta'!AS$5)","v":""},null,"","","",null,0,0,1,null,null,0,{"$f":"IF(C53=\"\",\"\",VLOOKUP($C53,Dimensionen!$B$3:$D$23,3)/1000)","v":""},{"$f":"IF(C53=\"\",\"\",VLOOKUP(C53,Dimensionen!$B$3:$E$23,4)/1000)","v":""},{"$f":"IF(K53=0,0,Reynoldszahl($Z53, $L53, $AB$8))","v":{"$error":"#VALUE!"}},{"$f":"IF(K53=0,0,Lambdawertberechnung($AB53, $AA53, $Z53))","v":{"$error":"#VALUE!"}},{"$f":"IF(K53=0,0,Strömungsart($AB53,$AA53,$Z53))","v":{"$error":"#VALUE!"}}]
[40,40,null,{"$f":"IF(C54=\"\",\"\",VLOOKUP($C54,Dimensionen!$B$3:$F$23,5))","v":""},{"$f":"IF(D54=\"\",\"\",VLOOKUP($C54,Dimensionen!$B$3:$F$23,2))","v":""},null,"",{"$f":"IF(C54=\"\",\"\",IF('Portata volumetrica'!B101=0,\"\",'Portata volumetrica'!B101))","v":""},{"$f":"IF(D54=\"\",\"\",IF('Portata volumetrica'!C101=0,\"\",'Portata volumetrica'!C101))","v":""},null,{"$f":"IF(C54=\"\",\"\",F54/$T$6+'Portata volumetrica'!B101+'Portata volumetrica'!C101+J54)","v":""},0,null,{"$f":"IF(C54=\"\",\"\",'Valori zeta'!AT$5)","v":""},null,"","","",null,0,0,1,null,null,0,{"$f":"IF(C54=\"\",\"\",VLOOKUP($C54,Dimensionen!$B$3:$D$23,3)/1000)","v":""},{"$f":"IF(C54=\"\",\"\",VLOOKUP(C54,Dimensionen!$B$3:$E$23,4)/1000)","v":""},{"$f":"IF(K54=0,0,Reynoldszahl($Z54, $L54, $AB$8))","v":{"$error":"#VALUE!"}},{"$f":"IF(K54=0,0,Lambdawertberechnung($AB54, $AA54, $Z54))","v":{"$error":"#VALUE!"}},{"$f":"IF(K54=0,0,Strömungsart($AB54,$AA54,$Z54))","v":{"$error":"#VALUE!"}}]
[41,41,null,{"$f":"IF(C55=\"\",\"\",VLOOKUP($C55,Dimensionen!$B$3:$F$23,5))","v":""},{"$f":"IF(D55=\"\",\"\",VLOOKUP($C55,Dimensionen!$B$3:$F$23,2))","v":""},null,"",{"$f":"IF(C55=\"\",\"\",IF('Portata volumetrica'!B102=0,\"\",'Portata volumetrica'!B102))","v":""},{"$f":"IF(D55=\"\",\"\",IF('Portata volumetrica'!C102=0,\"\",'Portata volumetrica'!C102))","v":""},null,{"$f":"IF(C55=\"\",\"\",F55/$T$6+'Portata volumetrica'!B102+'Portata volumetrica'!C102+J55)","v":""},0,null,{"$f":"IF(C55=\"\",\"\",'Valori zeta'!AU$5)","v":""},null,"","","",null,0,0,1,null,null,0,{"$f":"IF(C55=\"\",\"\",VLOOKUP($C55,Dimensionen!$B$3:$D$23,3)/1000)","v":""},{"$f":"IF(C55=\"\",\"\",VLOOKUP(C55,Dimensionen!$B$3:$E$23,4)/1000)","v":""},{"$f":"IF(K55=0,0,Reynoldszahl($Z55, $L55, $AB$8))","v":{"$error":"#VALUE!"}},{"$f":"IF(K55=0,0,Lambdawertberechnung($AB55, $AA55, $Z55))","v":{"$error":"#VALUE!"}},{"$f":"IF(K55=0,0,Strömungsart($AB55,$AA55,$Z55))","v":{"$error":"#VALUE!"}}]
[42,42,null,{"$f":"IF(C56=\"\",\"\",VLOOKUP($C56,Dimensionen!$B$3:$F$23,5))","v":""},{"$f":"IF(D56=\"\",\"\",VLOOKUP($C56,Dimensionen!$B$3:$F$23,2))","v":""},null,"",{"$f":"IF(C56=\"\",\"\",IF('Portata volumetrica'!B103=0,\"\",'Portata volumetrica'!B103))","v":""},{"$f":"IF(D56=\"\",\"\",IF('Portata volumetrica'!C103=0,\"\",'Portata volumetrica'!C103))","v":""},null,{"$f":"IF(C56=\"\",\"\",F56/$T$6+'Portata volumetrica'!B103+'Portata volumetrica'!C103+J56)","v":""},0,null,{"$f":"IF(C56=\"\",\"\",'Valori zeta'!AV$5)","v":""},null,"","","",null,0,0,1,null,null,0,{"$f":"IF(C56=\"\",\"\",VLOOKUP($C56,Dimensionen!$B$3:$D$23,3)/1000)","v":""},{"$f":"IF(C56=\"\",\"\",VLOOKUP(C56,Dimensionen!$B$3:$E$23,4)/1000)","v":""},{"$f":"IF(K56=0,0,Reynoldszahl($Z56, $L56, $AB$8))","v":{"$error":"#VALUE!"}},{"$f":"IF(K56=0,0,Lambdawertberechnung($AB56, $AA56, $Z56))","v":{"$error":"#VALUE!"}},{"$f":"IF(K56=0,0,Strömungsart($AB56,$AA56,$Z56))","v":{"$error":"#VALUE!"}}]
[43,43,null,{"$f":"IF(C57=\"\",\"\",VLOOKUP($C57,Dimensionen!$B$3:$F$23,5))","v":""},{"$f":"IF(D57=\"\",\"\",VLOOKUP($C57,Dimensionen!$B$3:$F$23,2))","v":""},null,"",{"$f":"IF(C57=\"\",\"\",IF('Portata volumetrica'!B104=0,\"\",'Portata volumetrica'!B104))","v":""},{"$f":"IF(D57=\"\",\"\",IF('Portata volumetrica'!C104=0,\"\",'Portata volumetrica'!C104))","v":""},null,{"$f":"IF(C57=\"\",\"\",F57/$T$6+'Portata volumetrica'!B104+'Portata volumetrica'!C104+J57)","v":""},0,null,{"$f":"IF(C57=\"\",\"\",'Valori zeta'!AW$5)","v":""},null,"","","",null,0,0,1,null,null,0,{"$f":"IF(C57=\"\",\"\",VLOOKUP($C57,Dimensionen!$B$3:$D$23,3)/1000)","v":""},{"$f":"IF(C57=\"\",\"\",VLOOKUP(C57,Dimensionen!$B$3:$E$23,4)/1000)","v":""},{"$f":"IF(K57=0,0,Reynoldszahl($Z57, $L57, $AB$8))","v":{"$error":"#VALUE!"}},{"$f":"IF(K57=0,0,Lambdawertberechnung($AB57, $AA57, $Z57))","v":{"$error":"#VALUE!"}},{"$f":"IF(K57=0,0,Strömungsart($AB57,$AA57,$Z57))","v":{"$error":"#VALUE!"}}]
[44,44,null,{"$f":"IF(C58=\"\",\"\",VLOOKUP($C58,Dimensionen!$B$3:$F$23,5))","v":""},{"$f":"IF(D58=\"\",\"\",VLOOKUP($C58,Dimensionen!$B$3:$F$23,2))","v":""},null,"",{"$f":"IF(C58=\"\",\"\",IF('Portata volumetrica'!B105=0,\"\",'Portata volumetrica'!B105))","v":""},{"$f":"IF(D58=\"\",\"\",IF('Portata volumetrica'!C105=0,\"\",'Portata volumetrica'!C105))","v":""},null,{"$f":"IF(C58=\"\",\"\",F58/$T$6+'Portata volumetrica'!B105+'Portata volumetrica'!C105+J58)","v":""},0,null,{"$f":"IF(C58=\"\",\"\",'Valori zeta'!AX$5)","v":""},null,"","","",null,0,0,1,null,null,0,{"$f":"IF(C58=\"\",\"\",VLOOKUP($C58,Dimensionen!$B$3:$D$23,3)/1000)","v":""},{"$f":"IF(C58=\"\",\"\",VLOOKUP(C58,Dimensionen!$B$3:$E$23,4)/1000)","v":""},{"$f":"IF(K58=0,0,Reynoldszahl($Z58, $L58, $AB$8))","v":{"$error":"#VALUE!"}},{"$f":"IF(K58=0,0,Lambdawertberechnung($AB58, $AA58, $Z58))","v":{"$error":"#VALUE!"}},{"$f":"IF(K58=0,0,Strömungsart($AB58,$AA58,$Z58))","v":{"$error":"#VALUE!"}}]
[45,45,null,{"$f":"IF(C59=\"\",\"\",VLOOKUP($C59,Dimensionen!$B$3:$F$23,5))","v":""},{"$f":"IF(D59=\"\",\"\",VLOOKUP($C59,Dimensionen!$B$3:$F$23,2))","v":""},null,"",{"$f":"IF(C59=\"\",\"\",IF('Portata volumetrica'!B106=0,\"\",'Portata volumetrica'!B106))","v":""},{"$f":"IF(D59=\"\",\"\",IF('Portata volumetrica'!C106=0,\"\",'Portata volumetrica'!C106))","v":""},null,{"$f":"IF(C59=\"\",\"\",F59/$T$6+'Portata volumetrica'!B106+'Portata volumetrica'!C106+J59)","v":""},0,null,{"$f":"IF(C59=\"\",\"\",'Valori zeta'!AY$5)","v":""},null,"","","",null,0,0,1,null,null,0,{"$f":"IF(C59=\"\",\"\",VLOOKUP($C59,Dimensionen!$B$3:$D$23,3)/1000)","v":""},{"$f":"IF(C59=\"\",\"\",VLOOKUP(C59,Dimensionen!$B$3:$E$23,4)/1000)","v":""},{"$f":"IF(K59=0,0,Reynoldszahl($Z59, $L59, $AB$8))","v":{"$error":"#VALUE!"}},{"$f":"IF(K59=0,0,Lambdawertberechnung($AB59, $AA59, $Z59))","v":{"$error":"#VALUE!"}},{"$f":"IF(K59=0,0,Strömungsart($AB59,$AA59,$Z59))","v":{"$error":"#VALUE!"}}]
[46,46,null,{"$f":"IF(C60=\"\",\"\",VLOOKUP($C60,Dimensionen!$B$3:$F$23,5))","v":""},{"$f":"IF(D60=\"\",\"\",VLOOKUP($C60,Dimensionen!$B$3:$F$23,2))","v":""},null,"",{"$f":"IF(C60=\"\",\"\",IF('Portata volumetrica'!B107=0,\"\",'Portata volumetrica'!B107))","v":""},{"$f":"IF(D60=\"\",\"\",IF('Portata volumetrica'!C107=0,\"\",'Portata volumetrica'!C107))","v":""},null,{"$f":"IF(C60=\"\",\"\",F60/$T$6+'Portata volumetrica'!B107+'Portata volumetrica'!C107+J60)","v":""},0,null,{"$f":"IF(C60=\"\",\"\",'Valori zeta'!AZ$5)","v":""},null,"","","",null,0,0,1,null,null,0,{"$f":"IF(C60=\"\",\"\",VLOOKUP($C60,Dimensionen!$B$3:$D$23,3)/1000)","v":""},{"$f":"IF(C60=\"\",\"\",VLOOKUP(C60,Dimensionen!$B$3:$E$23,4)/1000)","v":""},{"$f":"IF(K60=0,0,Reynoldszahl($Z60, $L60, $AB$8))","v":{"$error":"#VALUE!"}},{"$f":"IF(K60=0,0,Lambdawertberechnung($AB60, $AA60, $Z60))","v":{"$error":"#VALUE!"}},{"$f":"IF(K60=0,0,Strömungsart($AB60,$AA60,$Z60))","v":{"$error":"#VALUE!"}}]
[47,47,null,{"$f":"IF(C61=\"\",\"\",VLOOKUP($C61,Dimensionen!$B$3:$F$23,5))","v":""},{"$f":"IF(D61=\"\",\"\",VLOOKUP($C61,Dimensionen!$B$3:$F$23,2))","v":""},null,"",{"$f":"IF(C61=\"\",\"\",IF('Portata volumetrica'!B108=0,\"\",'Portata volumetrica'!B108))","v":""},{"$f":"IF(D61=\"\",\"\",IF('Portata volumetrica'!C108=0,\"\",'Portata volumetrica'!C108))","v":""},null,{"$f":"IF(C61=\"\",\"\",F61/$T$6+'Portata volumetrica'!B108+'Portata volumetrica'!C108+J61)","v":""},0,null,{"$f":"IF(C61=\"\",\"\",'Valori zeta'!BA$5)","v":""},null,"","","",null,0,0,1,null,null,0,{"$f":"IF(C61=\"\",\"\",VLOOKUP($C61,Dimensionen!$B$3:$D$23,3)/1000)","v":""},{"$f":"IF(C61=\"\",\"\",VLOOKUP(C61,Dimensionen!$B$3:$E$23,4)/1000)","v":""},{"$f":"IF(K61=0,0,Reynoldszahl($Z61, $L61, $AB$8))","v":{"$error":"#VALUE!"}},{"$f":"IF(K61=0,0,Lambdawertberechnung($AB61, $AA61, $Z61))","v":{"$error":"#VALUE!"}},{"$f":"IF(K61=0,0,Strömungsart($AB61,$AA61,$Z61))","v":{"$error":"#VALUE!"}}]
[48,48,null,{"$f":"IF(C62=\"\",\"\",VLOOKUP($C62,Dimensionen!$B$3:$F$23,5))","v":""},{"$f":"IF(D62=\"\",\"\",VLOOKUP($C62,Dimensionen!$B$3:$F$23,2))","v":""},null,"",{"$f":"IF(C62=\"\",\"\",IF('Portata volumetrica'!B109=0,\"\",'Portata volumetrica'!B109))","v":""},{"$f":"IF(D62=\"\",\"\",IF('Portata volumetrica'!C109=0,\"\",'Portata volumetrica'!C109))","v":""},null,{"$f":"IF(C62=\"\",\"\",F62/$T$6+'Portata volumetrica'!B109+'Portata volumetrica'!C109+J62)","v":""},0,null,{"$f":"IF(C62=\"\",\"\",'Valori zeta'!BB$5)","v":""},null,"","","",null,0,0,1,null,null,0,{"$f":"IF(C62=\"\",\"\",VLOOKUP($C62,Dimensionen!$B$3:$D$23,3)/1000)","v":""},{"$f":"IF(C62=\"\",\"\",VLOOKUP(C62,Dimensionen!$B$3:$E$23,4)/1000)","v":""},{"$f":"IF(K62=0,0,Reynoldszahl($Z62, $L62, $AB$8))","v":{"$error":"#VALUE!"}},{"$f":"IF(K62=0,0,Lambdawertberechnung($AB62, $AA62, $Z62))","v":{"$error":"#VALUE!"}},{"$f":"IF(K62=0,0,Strömungsart($AB62,$AA62,$Z62))","v":{"$error":"#VALUE!"}}]
[49,49,null,{"$f":"IF(C63=\"\",\"\",VLOOKUP($C63,Dimensionen!$B$3:$F$23,5))","v":""},{"$f":"IF(D63=\"\",\"\",VLOOKUP($C63,Dimensionen!$B$3:$F$23,2))","v":""},null,"",{"$f":"IF(C63=\"\",\"\",IF('Portata volumetrica'!B110=0,\"\",'Portata volumetrica'!B110))","v":""},{"$f":"IF(D63=\"\",\"\",IF('Portata volumetrica'!C110=0,\"\",'Portata volumetrica'!C110))","v":""},null,{"$f":"IF(C63=\"\",\"\",F63/$T$6+'Portata volumetrica'!B110+'Portata volumetrica'!C110+J63)","v":""},0,null,{"$f":"IF(C63=\"\",\"\",'Valori zeta'!BC$5)","v":""},null,"","","",null,0,0,1,null,null,0,{"$f":"IF(C63=\"\",\"\",VLOOKUP($C63,Dimensionen!$B$3:$D$23,3)/1000)","v":""},{"$f":"IF(C63=\"\",\"\",VLOOKUP(C63,Dimensionen!$B$3:$E$23,4)/1000)","v":""},{"$f":"IF(K63=0,0,Reynoldszahl($Z63, $L63, $AB$8))","v":{"$error":"#VALUE!"}},{"$f":"IF(K63=0,0,Lambdawertberechnung($AB63, $AA63, $Z63))","v":{"$error":"#VALUE!"}},{"$f":"IF(K63=0,0,Strömungsart($AB63,$AA63,$Z63))","v":{"$error":"#VALUE!"}}]
[null,"Eliminare: solo con tasto Delete!"]
[null,"10.2024 V3.1. ©  R. Nussbaum SA"]
[null,"L'utilizzatore è esclusivo responsabile della correttezza."]

{"sheet":"Portata volumetrica","index":1,"n_rows":110,"n_cols":103,"rows_kept":110,"cut":false,"hidden":false,"merged":[[2,0,3,1],[43,1,43,2],[44,1,44,2],[45,1,45,2],[16,1,16,2],[34,1,34,2],[35,1,35,2],[36,1,36,2],[37,1,37,2],[38,1,38,2],[39,1,39,2],[40,1,40,2],[41,1,41,2],[42,1,42,2],[25,1,25,2],[26,1,26,2],[27,1,27,2],[28,1,28,2],[29,1,29,2],[30,1,30,2],[31,1,31,2],[32,1,32,2],[33,1,33,2],[2,100,3,100],[2,101,3,101],[2,102,3,102],[2,95,3,95],[2,96,3,96],[2,97,3,97],[2,98,3,98],[2,99,3,99],[2,90,3,90],[2,91,3,91],[2,92,3,92],[2,93,3,93],[2,94,3,94],[2,85,3,85],[2,86,3,86],[2,87,3,87],[2,88,3,88],[2,89,3,89],[2,80,3,80],[2,81,3,81],[2,82,3,82],[2,83,3,83],[2,84,3,84],[2,75,3,75],[2,76,3,76],[2,77,3,77],[2,78,3,78],[2,79,3,79],[2,70,3,70],[2,71,3,71],[2,72,3,72],[2,73,3,73],[2,74,3,74],[2,65,3,65],[2,66,3,66],[2,67,3,67],[2,68,3,68],[2,69,3,69],[2,60,3,60],[2,61,3,61],[2,62,3,62],[2,63,3,63],[2,64,3,64],[2,55,3,55],[2,56,3,56],[2,57,3,57],[2,58,3,58],[2,59,3,59],[2,50,3,50],[2,51,3,51],[2,52,3,52],[2,53,3,53],[2,54,3,54],[2,45,3,45],[2,46,3,46],[2,47,3,47],[2,48,3,48],[2,49,3,49],[2,40,3,40],[2,41,3,41],[2,42,3,42],[2,43,3,43],[2,44,3,44],[2,35,3,35],[2,36,3,36],[2,37,3,37],[2,38,3,38],[2,39,3,39],[2,30,3,30],[2,31,3,31],[2,32,3,32],[2,33,3,33],[2,34,3,34],[1,101,1,102],[0,95,0,96],[0,97,0,98],[0,99,0,100],[0,101,0,102],[0,87,0,88],[0,89,0,90],[1,95,1,96],[1,97,1,98],[1,99,1,100],[1,77,1,78],[0,79,0,80],[0,77,0,78],[0,91,0,92],[0,93,0,94],[1,79,1,80],[1,81,1,82],[1,83,1,84],[1,85,1,86],[1,87,1,88],[1,89,1,90],[1,91,1,92],[1,93,1,94],[0,81,0,82],[0,83,0,84],[0,85,0,86],[1,71,1,72],[1,73,1,74],[1,75,1,76],[1,51,1,52],[1,53,1,54],[1,55,1,56],[1,57,1,58],[1,59,1,60],[1,61,1,62],[1,63,1,64],[1,65,1,66],[1,67,1,68],[1,69,1,70],[0,67,0,68],[0,69,0,70],[0,71,0,72],[0,73,0,74],[0,75,0,76],[0,57,0,58],[0,59,0,60],[0,61,0,62],[0,63,0,64],[0,65,0,66],[0,51,0,52],[0,53,0,54],[0,55,0,56],[0,39,0,40],[1,39,1,40],[0,41,0,42],[0,43,0,44],[0,45,0,46],[1,41,1,42],[1,43,1,44],[1,45,1,46],[1,47,1,48],[1,49,1,50],[0,15,0,16],[0,5,0,6],[0,7,0,8],[0,9,0,10],[0,11,0,12],[0,13,0,14],[0,37,0,38],[0,47,0,48],[0,49,0,50],[1,37,1,38],[1,17,1,18],[1,19,1,20],[1,21,1,22],[1,23,1,24],[1,25,1,26],[1,27,1,28],[0,27,0,28],[0,29,0,30],[0,31,0,32],[0,33,0,34],[0,35,0,36],[0,17,0,18],[0,19,0,20],[0,21,0,22],[0,23,0,24],[0,25,0,26],[1,35,1,36],[1,33,1,34],[2,18,3,18],[2,19,3,19],[2,10,3,10],[2,11,3,11],[2,12,3,12],[2,13,3,13],[2,14,3,14],[2,25,3,25],[1,5,1,6],[1,7,1,8],[1,9,1,10],[1,11,1,12],[1,13,1,14],[1,15,1,16],[2,5,3,5],[2,6,3,6],[2,7,3,7],[2,8,3,8],[2,9,3,9],[2,15,3,15],[2,16,3,16],[2,26,3,26],[4,0,5,0],[6,0,8,0],[12,0,15,0],[18,0,45,0],[2,4,3,4],[1,29,1,30],[1,31,1,32],[2,27,3,27],[2,28,3,28],[2,29,3,29],[2,20,3,20],[2,21,3,21],[2,22,3,22],[2,23,3,23],[2,24,3,24],[18,1,18,2],[19,1,19,2],[20,1,20,2],[21,1,21,2],[22,1,22,2],[23,1,23,2],[24,1,24,2],[2,17,3,17]]}
[null,null,null,null,null,"N° TP",null,"N° TP",null,"N° TP",null,"N° TP",null,"N° TP",null,"N° TP",null,"N° TP",null,"N° TP",null,"N° TP",null,"N° TP",null,"N° TP",null,"N° TP",null,"N° TP",null,"N° TP",null,"N° TP",null,"N° TP",null,"N° TP",null,"N° TP",null,"N° TP",null,"N° TP",null,"N° TP",null,"N° TP",null,"N° TP",null,"N° TP",null,"N° TP",null,"N° TP",null,"N° TP",null,"N° TP",null,"N° TP",null,"N° TP",null,"N° TP",null,"N° TP",null,"N° TP",null,"N° TP",null,"N° TP",null,"N° TP",null,"N° TP",null,"N° TP",null,"N° TP",null,"N° TP",null,"N° TP",null,"N° TP",null,"N° TP",null,"N° TP",null,"N° TP",null,"N° TP",null,"N° TP",null,"N° TP",null,"N° TP"]
[null,null,null,null,"VA",{"$f":"'Perdita di pressione'!$B15","v":"1"},null,{"$f":"'Perdita di pressione'!$B16","v":2},null,{"$f":"'Perdita di pressione'!$B17","v":3},null,{"$f":"'Perdita di pressione'!$B18","v":4},null,{"$f":"'Perdita di pressione'!$B19","v":5},null,{"$f":"'Perdita di pressione'!$B20","v":6},null,{"$f":"'Perdita di pressione'!$B21","v":7},null,{"$f":"'Perdita di pressione'!$B22","v":8},null,{"$f":"'Perdita di pressione'!$B23","v":9},null,{"$f":"'Perdita di pressione'!$B24","v":10},null,{"$f":"'Perdita di pressione'!$B25","v":11},null,{"$f":"'Perdita di pressione'!$B26","v":12},null,{"$f":"'Perdita di pressione'!$B27","v":13},null,{"$f":"'Perdita di pressione'!$B28","v":14},null,{"$f":"'Perdita di pressione'!$B29","v":15},null,{"$f":"'Perdita di pressione'!$B30","v":16},null,{"$f":"'Perdita di pressione'!$B31","v":17},null,{"$f":"'Perdita di pressione'!$B32","v":18},null,{"$f":"'Perdita di pressione'!$B33","v":19},null,{"$f":"'Perdita di pressione'!$B34","v":20},null,{"$f":"'Perdita di pressione'!$B35","v":21},null,{"$f":"'Perdita di pressione'!$B36","v":22},null,{"$f":"'Perdita di pressione'!$B37","v":23},null,{"$f":"'Perdita di pressione'!$B38","v":24},null,{"$f":"'Perdita di pressione'!$B39","v":25},null,{"$f":"'Perdita di pressione'!$B40","v":26},null,{"$f":"'Perdita di pressione'!$B41","v":27},null,{"$f":"'Perdita di pressione'!$B42","v":28},null,{"$f":"'Perdita di pressione'!$B43","v":29},null,{"$f":"'Perdita di pressione'!$B44","v":30},null,{"$f":"'Perdita di pressione'!$B45","v":31},null,{"$f":"'Perdita di pressione'!$B46","v":32},null,{"$f":"'Perdita di pressione'!$B47","v":33},null,{"$f":"'Perdita di pressione'!$B48","v":34},null,{"$f":"'Perdita di pressione'!$B49","v":35},null,{"$f":"'Perdita di pressione'!$B50","v":36},null,{"$f":"'Perdita di pressione'!$B51","v":37},null,{"$f":"'Perdita di pressione'!$B52","v":38},null,{"$f":"'Perdita di pressione'!$B53","v":39},null,{"$f":"'Perdita di pressione'!$B54","v":40},null,{"$f":"'Perdita di pressione'!$B55","v":41},null,{"$f":"'Perdita di pressione'!$B56","v":42},null,{"$f":"'Perdita di pressione'!B57","v":43},null,{"$f":"'Perdita di pressione'!$B58","v":44},null,{"$f":"'Perdita di pressione'!$B59","v":45},null,{"$f":"'Perdita di pressione'!$B60","v":46},null,{"$f":"'Perdita di pressione'!$B61","v":47},null,{"$f":"'Perdita di pressione'!$B62","v":48},null,{"$f":"'Perdita di pressione'!B63","v":49}]
["Apparecchio",null,null,null,"m3/h","pz.","ΣVA","pz.","ΣVA","pz.","ΣVA","pz.","ΣVA","pz.","ΣVA","pz.","ΣVA","pz.","ΣVA","pz.","ΣVA","pz.","ΣVA","pz.","ΣVA","pz.","ΣVA","pz.","ΣVA","pz.","ΣVA","pz.","ΣVA","pz.","ΣVA","pz.","ΣVA","pz.","ΣVA","pz.","ΣVA","pz.","ΣVA","pz.","ΣVA","pz.","ΣVA","pz.","ΣVA","pz.","ΣVA","pz.","ΣVA","pz.","ΣVA","pz.","ΣVA","pz.","ΣVA","pz.","ΣVA","pz.","ΣVA","pz.","ΣVA","pz.","ΣVA","pz.","ΣVA","pz.","ΣVA","pz.","ΣVA","pz.","ΣVA","pz.","ΣVA","pz.","ΣVA","pz.","ΣVA","pz.","ΣVA","pz.","ΣVA","pz.","ΣVA","pz.","ΣVA","pz.","ΣVA","pz.","ΣVA","pz.","ΣVA","pz.","ΣVA","pz.","ΣVA","pz.","ΣVA","pz.","ΣVA"]
[]
["Cucina a gas","3 fuochi","10 kW",null,1.1000000000000001,null,{"$f":"IF($E5*F5=0,\"\",$E5*F5)","v":""},null,{"$f":"IF($E5*H5=0,\"\",$E5*H5)","v":""},null,{"$f":"IF($E5*J5=0,\"\",$E5*J5)","v":""},null,{"$f":"IF($E5*L5=0,\"\",$E5*L5)","v":""},null,{"$f":"IF($E5*N5=0,\"\",$E5*N5)","v":""},null,{"$f":"IF($E5*P5=0,\"\",$E5*P5)","v":""},null,{"$f":"IF($E5*R5=0,\"\",$E5*R5)","v":""},null,{"$f":"IF($E5*T5=0,\"\",$E5*T5)","v":""},null,{"$f":"IF($E5*V5=0,\"\",$E5*V5)","v":""},null,{"$f":"IF($E5*X5=0,\"\",$E5*X5)","v":""},null,{"$f":"IF($E5*Z5=0,\"\",$E5*Z5)","v":""},null,{"$f":"IF($E5*AB5=0,\"\",$E5*AB5)","v":""},null,{"$f":"IF($E5*AD5=0,\"\",$E5*AD5)","v":""},null,{"$f":"IF($E5*AF5=0,\"\",$E5*AF5)","v":""},null,{"$f":"IF($E5*AH5=0,\"\",$E5*AH5)","v":""},null,{"$f":"IF($E5*AJ5=0,\"\",$E5*AJ5)","v":""},null,{"$f":"IF($E5*AL5=0,\"\",$E5*AL5)","v":""}]
[null,"4 fuochi","12 kW",null,1.3,null,"",null,"",null,"",null,"",null,"",null,"",null,"",null,"",null,"",null,"",null,"",null,"",null,"",null,"",null,"",null,"",null,""]
["Scaldavivande","2 fuochi","4 kW",null,0.4,null,"",null,"",null,"",null,"",null,"",null,"",null,"",null,"",null,"",null,"",null,"",null,"",null,"",null,"",null,"",null,"",null,""]
[null,"3 fuochi","7 kW",null,0.8,null,"",null,"",null,"",null,"",null,"",null,"",null,"",null,"",null,"",null,"",null,"",null,"",null,"",null,"",null,"",null,"",null,""]
[null,"4 fuochi","9 kW",null,1,null,"",null,"",null,"",null,"",null,"",null,"",null,"",null,"",null,"",null,"",null,"",null,"",null,"",null,"",null,"",null,"",null,""]
["Forno",null,"3 kW",null,0.3,null,"",null,"",null,"",null,"",null,"",null,"",null,"",null,"",null,"",null,"",null,"",null,"",null,"",null,"",null,"",null,"",null,""]
["Lavatrice",null,"7.5 kW",null,0.8,null,"",null,"",null,"",null,"",null,"",null,"",null,"",null,"",null,"",null,"",null,"",null,"",null,"",null,"",null,"",null,"",null,""]
["Asciugatrice",null,"7.5 kW",null,0.8,null,"",null,"",null,"",null,"",null,"",null,"",null,"",null,"",null,"",null,"",null,"",null,"",null,"",null,"",null,"",null,"",null,""]
["Scaldacqua di passaggio","  5 l/min","10.5 kW",null,1.2,null,"",null,"",null,"",null,"",null,"",null,"",null,"",null,"",null,"",null,"",null,"",null,"",null,"",null,"",null,"",null,"",null,""]
[null,"10 l/min","21.0 kW",null,2.2999999999999998,null,"",null,"",null,"",null,"",null,"",null,"",null,"",null,"",null,"",null,"",null,"",null,"",null,"",null,"",null,"",null,"",null,""]
[null,"13 l/min","27.0 kW",null,3,null,"",null,"",null,"",null,"",null,"",null,"",null,"",null,"",null,"",null,"",null,"",null,"",null,"",null,"",null,"",null,"",null,""]
[null,"16 l/min","33.0 kW",null,3.7,null,"",null,"",null,"",null,"",null,"",null,"",null,"",null,"",null,"",null,"",null,"",null,"",null,"",null,"",null,"",null,"",null,""]
["T O T A LE S ","(VA)",null,null,null,null,{"$f":"SUM(G5:G16)","v":0},null,{"$f":"SUM(I5:I16)","v":0},null,{"$f":"SUM(K5:K16)","v":0},null,{"$f":"SUM(M5:M16)","v":0},null,{"$f":"SUM(O5:O16)","v":0},null,{"$f":"SUM(Q5:Q16)","v":0},null,{"$f":"SUM(S5:S16)","v":0},null,{"$f":"SUM(U5:U16)","v":0},null,{"$f":"SUM(W5:W16)","v":0},null,{"$f":"SUM(Y5:Y16)","v":0},null,{"$f":"SUM(AA5:AA16)","v":0},null,{"$f":"SUM(AC5:AC16)","v":0},null,{"$f":"SUM(AE5:AE16)","v":0},null,{"$f":"SUM(AG5:AG16)","v":0},null,{"$f":"SUM(AI5:AI16)","v":0},null,{"$f":"SUM(AK5:AK16)","v":0},null,{"$f":"SUM(AM5:AM16)","v":0},null,{"$f":"SUM(AO5:AO16)","v":0},null,{"$f":"SUM(AQ5:AQ16)","v":0},null,{"$f":"SUM(AS5:AS16)","v":0},null,{"$f":"SUM(AU5:AU16)","v":0},null,{"$f":"SUM(AW5:AW16)","v":0},null,{"$f":"SUM(AY5:AY16)","v":0},null,{"$f":"SUM(BA5:BA16)","v":0},null,{"$f":"SUM(BC5:BC16)","v":0},null,{"$f":"SUM(BE5:BE16)","v":0},null,{"$f":"SUM(BG5:BG16)","v":0},null,{"$f":"SUM(BI5:BI16)","v":0},null,{"$f":"SUM(BK5:BK16)","v":0},null,{"$f":"SUM(BM5:BM16)","v":0},null,{"$f":"SUM(BO5:BO16)","v":0},null,{"$f":"SUM(BQ5:BQ16)","v":0},null,{"$f":"SUM(BS5:BS16)","v":0},null,{"$f":"SUM(BU5:BU16)","v":0},null,{"$f":"SUM(BW5:BW16)","v":0},null,{"$f":"SUM(BY5:BY16)","v":0},null,{"$f":"SUM(CA5:CA16)","v":0},null,{"$f":"SUM(CC5:CC16)","v":0},null,{"$f":"SUM(CE5:CE16)","v":0},null,{"$f":"SUM(CG5:CG16)","v":0},null,{"$f":"SUM(CI5:CI16)","v":0},null,{"$f":"SUM(CK5:CK16)","v":0},null,{"$f":"SUM(CM5:CM16)","v":0},null,{"$f":"SUM(CO5:CO16)","v":0},null,{"$f":"SUM(CQ5:CQ16)","v":0},null,{"$f":"SUM(CS5:CS16)","v":0},null,{"$f":"SUM(CU5:CU16)","v":0},null,{"$f":"SUM(CW5:CW16)","v":0},null,{"$f":"SUM(CY5:CY16)","v":0}]
[null,null,null,null,"VA max"]
["Portata volumetrica massima con più cucine (VA max)","3 cucine",null,null,3.6,null,"",null,"",null,"",null,"",null,"",null,"",null,"",null,"",null,"",null,"",null,"",null,"",null,"",null,"",null,"",null,"",null,"",null,{"$f":"IF($E19*AN19=0,\"\",$E19*AN19)","v":""},null,{"$f":"IF($E19*AP19=0,\"\",$E19*AP19)","v":""},null,{"$f":"IF($E19*AR19=0,\"\",$E19*AR19)","v":""},null,{"$f":"IF($E19*AT19=0,\"\",$E19*AT19)","v":""},null,{"$f":"IF($E19*AV19=0,\"\",$E19*AV19)","v":""},null,{"$f":"IF($E19*AX19=0,\"\",$E19*AX19)","v":""},null,{"$f":"IF($E19*AZ19=0,\"\",$E19*AZ19)","v":""},null,{"$f":"IF($E19*BB19=0,\"\",$E19*BB19)","v":""},null,{"$f":"IF($E19*BD19=0,\"\",$E19*BD19)","v":""},null,{"$f":"IF($E19*BF19=0,\"\",$E19*BF19)","v":""},null,{"$f":"IF($E19*BH19=0,\"\",$E19*BH19)","v":""},null,{"$f":"IF($E19*BJ19=0,\"\",$E19*BJ19)","v":""},null,{"$f":"IF($E19*BL19=0,\"\",$E19*BL19)","v":""},null,{"$f":"IF($E19*BN19=0,\"\",$E19*BN19)","v":""},null,{"$f":"IF($E19*BP19=0,\"\",$E19*BP19)","v":""},null,{"$f":"IF($E19*BR19=0,\"\",$E19*BR19)","v":""},null,{"$f":"IF($E19*BT19=0,\"\",$E19*BT19)","v":""},null,{"$f":"IF($E19*BV19=0,\"\",$E19*BV19)","v":""},null,{"$f":"IF($E19*BX19=0,\"\",$E19*BX19)","v":""},null,{"$f":"IF($E19*BZ19=0,\"\",$E19*BZ19)","v":""},null,{"$f":"IF($E19*CB19=0,\"\",$E19*CB19)","v":""},null,{"$f":"IF($E19*CD19=0,\"\",$E19*CD19)","v":""},null,{"$f":"IF($E19*CF19=0,\"\",$E19*CF19)","v":""},null,{"$f":"IF($E19*CH19=0,\"\",$E19*CH19)","v":""},null,{"$f":"IF($E19*CJ19=0,\"\",$E19*CJ19)","v":""},null,{"$f":"IF($E19*CL19=0,\"\",$E19*CL19)","v":""},null,{"$f":"IF($E19*CN19=0,\"\",$E19*CN19)","v":""},null,{"$f":"IF($E19*CP19=0,\"\",$E19*CP19)","v":""},null,{"$f":"IF($E19*CR19=0,\"\",$E19*CR19)","v":""},null,{"$f":"IF($E19*CT19=0,\"\",$E19*CT19)","v":""},null,{"$f":"IF($E19*CV19=0,\"\",$E19*CV19)","v":""},null,{"$f":"IF($E19*CX19=0,\"\",$E19*CX19)","v":""}]
[null,"4 cucine",null,null,4,null,"",null,"",null,"",null,"",null,"",null,"",null,"",null,"",null,"",null,"",null,"",null,"",null,"",null,"",null,"",null,"",null,"",null,"",null,"",null,"",null,"",null,"",null,"",null,"",null,"",null,"",null,"",null,"",null,"",null,"",null,"",null,"",null,"",null,"",null,"",null,"",null,"",null,"",null,"",null,"",null,"",null,"",null,"",null,"",null,"",null,"",null,"",null,"",null,""]
[null,"5 cucine",null,null,4.3,null,"",null,"",null,"",null,"",null,"",null,"",null,"",null,"",null,"",null,"",null,"",null,"",null,"",null,"",null,"",null,"",null,"",null,"",null,"",null,"",null,"",null,"",null,"",null,"",null,"",null,"",null,"",null,"",null,"",null,"",null,"",null,"",null,"",null,"",null,"",null,"",null,"",null,"",null,"",null,"",null,"",null,"",null,"",null,"",null,"",null,"",null,"",null,"",null,""]
[null,"6 cucine",null,null,4.5999999999999996,null,"",null,"",null,"",null,"",null,"",null,"",null,"",null,"",null,"",null,"",null,"",null,"",null,"",null,"",null,"",null,"",null,"",null,"",null,"",null,"",null,"",null,"",null,"",null,"",null,"",null,"",null,"",null,"",null,"",null,"",null,"",null,"",null,"",null,"",null,"",null,"",null,"",null,"",null,"",null,"",null,"",null,"",null,"",null,"",null,"",null,"",null,"",null,"",null,""]
[null,"7 cucine",null,null,4.9000000000000004,null,"",null,"",null,"",null,"",null,"",null,"",null,"",null,"",null,"",null,"",null,"",null,"",null,"",null,"",null,"",null,"",null,"",null,"",null,"",null,"",null,"",null,"",null,"",null,"",null,"",null,"",null,"",null,"",null,"",null,"",null,"",null,"",null,"",null,"",null,"",null,"",null,"",null,"",null,"",null,"",null,"",null,"",null,"",null,"",null,"",null,"",null,"",null,"",null,""]
[null,"8 cucine",null,null,5.2,null,"",null,"",null,"",null,"",null,"",null,"",null,"",null,"",null,"",null,"",null,"",null,"",null,"",null,"",null,"",null,"",null,"",null,"",null,"",null,"",null,"",null,"",null,"",null,"",null,"",null,"",null,"",null,"",null,"",null,"",null,"",null,"",null,"",null,"",null,"",null,"",null,"",null,"",null,"",null,"",null,"",null,"",null,"",null,"",null,"",null,"",null,"",null,"",null,""]
[null,"9 cucine",null,null,5.5,null,"",null,"",null,"",null,"",null,"",null,"",null,"",null,"",null,"",null,"",null,"",null,"",null,"",null,"",null,"",null,"",null,"",null,"",null,"",null,"",null,"",null,"",null,"",null,"",null,"",null,"",null,"",null,"",null,"",null,"",null,"",null,"",null,"",null,"",null,"",null,"",null,"",null,"",null,"",null,"",null,"",null,"",null,"",null,"",null,"",null,"",null,"",null,"",null,""]
[null,"10 cucine",null,null,5.8,null,"",null,"",null,"",null,"",null,"",null,"",null,"",null,"",null,"",null,"",null,"",null,"",null,"",null,"",null,"",null,"",null,"",null,"",null,"",null,"",null,"",null,"",null,"",null,"",null,"",null,"",null,"",null,"",null,"",null,"",null,"",null,"",null,"",null,"",null,"",null,"",null,"",null,"",null,"",null,"",null,"",null,"",null,"",null,"",null,"",null,"",null,"",null,"",null,""]
[null,"11 cucine",null,null,6.1,null,"",null,"",null,"",null,"",null,"",null,"",null,"",null,"",null,"",null,"",null,"",null,"",null,"",null,"",null,"",null,"",null,"",null,"",null,"",null,"",null,"",null,"",null,"",null,"",null,"",null,"",null,"",null,"",null,"",null,"",null,"",null,"",null,"",null,"",null,"",null,"",null,"",null,"",null,"",null,"",null,"",null,"",null,"",null,"",null,"",null,"",null,"",null,"",null,""]
[null,"12 cucine",null,null,6.4,null,"",null,"",null,"",null,"",null,"",null,"",null,"",null,"",null,"",null,"",null,"",null,"",null,"",null,"",null,"",null,"",null,"",null,"",null,"",null,"",null,"",null,"",null,"",null,"",null,"",null,"",null,"",null,"",null,"",null,"",null,"",null,"",null,"",null,"",null,"",null,"",null,"",null,"",null,"",null,"",null,"",null,"",null,"",null,"",null,"",null,"",null,"",null,"",null,""]
[null,"13 cucine",null,null,6.6,null,"",null,"",null,"",null,"",null,"",null,"",null,"",null,"",null,"",null,"",null,"",null,"",null,"",null,"",null,"",null,"",null,"",null,"",null,"",null,"",null,"",null,"",null,"",null,"",null,"",null,"",null,"",null,"",null,"",null,"",null,"",null,"",null,"",null,"",null,"",null,"",null,"",null,"",null,"",null,"",null,"",null,"",null,"",null,"",null,"",null,"",null,"",null,"",null,""]
[null,"14 cucine",null,null,6.8,null,"",null,"",null,"",null,"",null,"",null,"",null,"",null,"",null,"",null,"",null,"",null,"",null,"",null,"",null,"",null,"",null,"",null,"",null,"",null,"",null,"",null,"",null,"",null,"",null,"",null,"",null,"",null,"",null,"",null,"",null,"",null,"",null,"",null,"",null,"",null,"",null,"",null,"",null,"",null,"",null,"",null,"",null,"",null,"",null,"",null,"",null,"",null,"",null,""]
[null,"15 cucine",null,null,7,null,"",null,"",null,"",null,"",null,"",null,"",null,"",null,"",null,"",null,"",null,"",null,"",null,"",null,"",null,"",null,"",null,"",null,"",null,"",null,"",null,"",null,"",null,"",null,"",null,"",null,"",null,"",null,"",null,"",null,"",null,"",null,"",null,"",null,"",null,"",null,"",null,"",null,"",null,"",null,"",null,"",null,"",null,"",null,"",null,"",null,"",null,"",null,"",null,""]
[null,"20 cucine",null,null,8,null,"",null,"",null,"",null,"",null,"",null,"",null,"",null,"",null,"",null,"",null,"",null,"",null,"",null,"",null,"",null,"",null,"",null,"",null,"",null,"",null,"",null,"",null,"",null,"",null,"",null,"",null,"",null,"",null,"",null,"",null,"",null,"",null,"",null,"",null,"",null,"",null,"",null,"",null,"",null,"",null,"",null,"",null,"",null,"",null,"",null,"",null,"",null,"",null,""]
[null,"25 cucine",null,null,9.1999999999999993,null,"",null,"",null,"",null,"",null,"",null,"",null,"",null,"",null,"",null,"",null,"",null,"",null,"",null,"",null,"",null,"",null,"",null,"",null,"",null,"",null,"",null,"",null,"",null,"",null,"",null,"",null,"",null,"",null,"",null,"",null,"",null,"",null,"",null,"",null,"",null,"",null,"",null,"",null,"",null,"",null,"",null,"",null,"",null,"",null,"",null,"",null,"",null,"",null,""]
[null,"30 cucine",null,null,10.3,null,"",null,"",null,"",null,"",null,"",null,"",null,"",null,"",null,"",null,"",null,"",null,"",null,"",null,"",null,"",null,"",null,"",null,"",null,"",null,"",null,"",null,"",null,"",null,"",null,"",null,"",null,"",null,"",null,"",null,"",null,"",null,"",null,"",null,"",null,"",null,"",null,"",null,"",null,"",null,"",null,"",null,"",null,"",null,"",null,"",null,"",null,"",null,"",null,""]
[null,"35 cucine",null,null,11.3,null,"",null,"",null,"",null,"",null,"",null,"",null,"",null,"",null,"",null,"",null,"",null,"",null,"",null,"",null,"",null,"",null,"",null,"",null,"",null,"",null,"",null,"",null,"",null,"",null,"",null,"",null,"",null,"",null,"",null,"",null,"",null,"",null,"",null,"",null,"",null,"",null,"",null,"",null,"",null,"",null,"",null,"",null,"",null,"",null,"",null,"",null,"",null,"",null,""]
[null,"40 cucine",null,null,12.3,null,"",null,"",null,"",null,"",null,"",null,"",null,"",null,"",null,"",null,"",null,"",null,"",null,"",null,"",null,"",null,"",null,"",null,"",null,"",null,"",null,"",null,"",null,"",null,"",null,"",null,"",null,"",null,"",null,"",null,"",null,"",null,"",null,"",null,"",null,"",null,"",null,"",null,"",null,"",null,"",null,"",null,"",null,"",null,"",null,"",null,"",null,"",null,"",null,""]
[null,"45 cucine",null,null,13.2,null,"",null,"",null,"",null,"",null,"",null,"",null,"",null,"",null,"",null,"",null,"",null,"",null,"",null,"",null,"",null,"",null,"",null,"",null,"",null,"",null,"",null,"",null,"",null,"",null,"",null,"",null,"",null,"",null,"",null,"",null,"",null,"",null,"",null,"",null,"",null,"",null,"",null,"",null,"",null,"",null,"",null,"",null,"",null,"",null,"",null,"",null,"",null,"",null,""]
[null,"50 cucine",null,null,14.1,null,"",null,"",null,"",null,"",null,"",null,"",null,"",null,"",null,"",null,"",null,"",null,"",null,"",null,"",null,"",null,"",null,"",null,"",null,"",null,"",null,"",null,"",null,"",null,"",null,"",null,"",null,"",null,"",null,"",null,"",null,"",null,"",null,"",null,"",null,"",null,"",null,"",null,"",null,"",null,"",null,"",null,"",null,"",null,"",null,"",null,"",null,"",null,"",null,""]
[null,"60 cucine",null,null,15.8,null,"",null,"",null,"",null,"",null,"",null,"",null,"",null,"",null,"",null,"",null,"",null,"",null,"",null,"",null,"",null,"",null,"",null,"",null,"",null,"",null,"",null,"",null,"",null,"",null,"",null,"",null,"",null,"",null,"",null,"",null,"",null,"",null,"",null,"",null,"",null,"",null,"",null,"",null,"",null,"",null,"",null,"",null,"",null,"",null,"",null,"",null,"",null,"",null,""]
[null,"70 cucine",null,null,17.399999999999999,null,"",null,"",null,"",null,"",null,"",null,"",null,"",null,"",null,"",null,"",null,"",null,"",null,"",null,"",null,"",null,"",null,"",null,"",null,"",null,"",null,"",null,"",null,"",null,"",null,"",null,"",null,"",null,"",null,"",null,"",null,"",null,"",null,"",null,"",null,"",null,"",null,"",null,"",null,"",null,"",null,"",null,"",null,"",null,"",null,"",null,"",null,"",null,"",null,""]
[null,"80 cucine",null,null,18.899999999999999,null,"",null,"",null,"",null,"",null,"",null,"",null,"",null,"",null,"",null,"",null,"",null,"",null,"",null,"",null,"",null,"",null,"",null,"",null,"",null,"",null,"",null,"",null,"",null,"",null,"",null,"",null,"",null,"",null,"",null,"",null,"",null,"",null,"",null,"",null,"",null,"",null,"",null,"",null,"",null,"",null,"",null,"",null,"",null,"",null,"",null,"",null,"",null,"",null,""]
[null,"90 cucine",null,null,20.3,null,"",null,"",null,"",null,"",null,"",null,"",null,"",null,"",null,"",null,"",null,"",null,"",null,"",null,"",null,"",null,"",null,"",null,"",null,"",null,"",null,"",null,"",null,"",null,"",null,"",null,"",null,"",null,"",null,"",null,"",null,"",null,"",null,"",null,"",null,"",null,"",null,"",null,"",null,"",null,"",null,"",null,"",null,"",null,"",null,"",null,"",null,"",null,"",null,""]
[null,"100 cucine",null,null,21.6,null,"",null,"",null,"",null,"",null,"",null,"",null,"",null,"",null,"",null,"",null,"",null,"",null,"",null,"",null,"",null,"",null,"",null,"",null,"",null,"",null,"",null,"",null,"",null,"",null,"",null,"",null,"",null,"",null,"",null,"",null,"",null,"",null,"",null,"",null,"",null,"",null,"",null,"",null,"",null,"",null,"",null,"",null,"",null,"",null,"",null,"",null,"",null,"",null,""]
[null,"150 cucine",null,null,27.8,null,"",null,"",null,"",null,"",null,"",null,"",null,"",null,"",null,"",null,"",null,"",null,"",null,"",null,"",null,"",null,"",null,"",null,"",null,"",null,"",null,"",null,"",null,"",null,"",null,"",null,"",null,"",null,"",null,"",null,"",null,"",null,"",null,"",null,"",null,"",null,"",null,"",null,"",null,"",null,"",null,"",null,"",null,"",null,"",null,"",null,"",null,"",null,"",null,""]
[null,"200 cucine",null,null,33.299999999999997,null,"",null,"",null,"",null,"",null,"",null,"",null,"",null,"",null,"",null,"",null,"",null,"",null,"",null,"",null,"",null,"",null,"",null,"",null,"",null,"",null,"",null,"",null,"",null,"",null,"",null,"",null,"",null,"",null,"",null,"",null,"",null,"",null,"",null,"",null,"",null,"",null,"",null,"",null,"",null,"",null,"",null,"",null,"",null,"",null,"",null,"",null,"",null,"",null,""]
[null,"250 cucine",null,null,38.5,null,"",null,"",null,"",null,"",null,"",null,"",null,"",null,"",null,"",null,"",null,"",null,"",null,"",null,"",null,"",null,"",null,"",null,"",null,"",null,"",null,"",null,"",null,"",null,"",null,"",null,"",null,"",null,"",null,"",null,"",null,"",null,"",null,"",null,"",null,"",null,"",null,"",null,"",null,"",null,"",null,"",null,"",null,"",null,"",null,"",null,"",null,"",null,"",null,""]
["T O T A L E S ",null,null,null,null,null,{"$f":"SUM(G19:G46)","v":0},null,{"$f":"SUM(I19:I46)","v":0},null,{"$f":"SUM(K19:K46)","v":0},null,{"$f":"SUM(M19:M46)","v":0},null,{"$f":"SUM(O19:O46)","v":0},null,{"$f":"SUM(Q19:Q46)","v":0},null,{"$f":"SUM(S19:S46)","v":0},null,{"$f":"SUM(U19:U46)","v":0},null,{"$f":"SUM(W19:W46)","v":0},null,{"$f":"SUM(Y19:Y46)","v":0},null,{"$f":"SUM(AA19:AA46)","v":0},null,{"$f":"SUM(AC19:AC46)","v":0},null,{"$f":"SUM(AE19:AE46)","v":0},null,{"$f":"SUM(AG19:AG46)","v":0},null,{"$f":"SUM(AI19:AI46)","v":0},null,{"$f":"SUM(AK19:AK46)","v":0},null,{"$f":"SUM(AM19:AM46)","v":0},null,{"$f":"SUM(AO19:AO46)","v":0},null,{"$f":"SUM(AQ19:AQ46)","v":0},null,{"$f":"SUM(AS19:AS46)","v":0},null,{"$f":"SUM(AU19:AU46)","v":0},null,{"$f":"SUM(AW19:AW46)","v":0},null,{"$f":"SUM(AY19:AY46)","v":0},null,{"$f":"SUM(BA19:BA46)","v":0},null,{"$f":"SUM(BC19:BC46)","v":0},null,{"$f":"SUM(BE19:BE46)","v":0},null,{"$f":"SUM(BG19:BG46)","v":0},null,{"$f":"SUM(BI19:BI46)","v":0},null,{"$f":"SUM(BK19:BK46)","v":0},null,{"$f":"SUM(BM19:BM46)","v":0},null,{"$f":"SUM(BO19:BO46)","v":0},null,{"$f":"SUM(BQ19:BQ46)","v":0},null,{"$f":"SUM(BS19:BS46)","v":0},null,{"$f":"SUM(BU19:BU46)","v":0},null,{"$f":"SUM(BW19:BW46)","v":0},null,{"$f":"SUM(BY19:BY46)","v":0},null,{"$f":"SUM(CA19:CA46)","v":0},null,{"$f":"SUM(CC19:CC46)","v":0},null,{"$f":"SUM(CE19:CE46)","v":0},null,{"$f":"SUM(CG19:CG46)","v":0},null,{"$f":"SUM(CI19:CI46)","v":0},null,{"$f":"SUM(CK19:CK46)","v":0},null,{"$f":"SUM(CM19:CM46)","v":0},null,{"$f":"SUM(CO19:CO46)","v":0},null,{"$f":"SUM(CQ19:CQ46)","v":0},null,{"$f":"SUM(CS19:CS46)","v":0},null,{"$f":"SUM(CU19:CU46)","v":0},null,{"$f":"SUM(CW19:CW46)","v":0},null,{"$f":"SUM(CY19:CY46)","v":0}]
[]
[]
[]
[]
[]
[]
[]
[]
[]
[]
[]
[]
["Summe der Volumenströme Hilfszusammenstellung"]
[null,"VA","VA Max"]
["TS 1",{"$f":"$G$17","v":0},{"$f":"$G$47","v":0}]
["TS 2",{"$f":"$I$17","v":0},{"$f":"$I$47","v":0}]
["TS 3",{"$f":"$K$17","v":0},{"$f":"$K$47","v":0}]
["TS 4",{"$f":"$M$17","v":0},{"$f":"$M$47","v":0}]
["TS 5",{"$f":"$O$17","v":0},{"$f":"$O$47","v":0}]
["TS 6",{"$f":"$Q$17","v":0},{"$f":"$Q$47","v":0}]
["TS 7",{"$f":"$S$17","v":0},{"$f":"$S$47","v":0}]
["TS 8",{"$f":"$U$17","v":0},{"$f":"$U$47","v":0}]
["TS 9",{"$f":"$W$17","v":0},{"$f":"$W$47","v":0}]
["TS 10",{"$f":"$Y$17","v":0},{"$f":"$Y$47","v":0}]
["TS 11",{"$f":"$AA$17","v":0},{"$f":"$AA$47","v":0}]
["TS 12",{"$f":"$AC$17","v":0},{"$f":"$AC$47","v":0}]
["TS 13",{"$f":"$AE$17","v":0},{"$f":"$AE$47","v":0}]
["TS 14",{"$f":"$AG$17","v":0},{"$f":"$AG$47","v":0}]
["TS 15",{"$f":"$AI$17","v":0},{"$f":"$AI$47","v":0}]
["TS 16",{"$f":"$AK$17","v":0},{"$f":"$AK$47","v":0}]
["TS 17",{"$f":"$AM$17","v":0},{"$f":"$AM$47","v":0}]
["TS 18",{"$f":"$AO$17","v":0},{"$f":"$AO$47","v":0}]
["TS 19",{"$f":"$AQ$17","v":0},{"$f":"$AQ$47","v":0}]
["TS 20",{"$f":"$AS$17","v":0},{"$f":"$AS$47","v":0}]
["TS 21",{"$f":"$AU$17","v":0},{"$f":"$AU$47","v":0}]
["TS 22",{"$f":"$AW$17","v":0},{"$f":"$AW$47","v":0}]
["TS 23",{"$f":"$AY$17","v":0},{"$f":"$AY$47","v":0}]
["TS 24",{"$f":"$BA$17","v":0},{"$f":"$BA$47","v":0}]
["TS 25",{"$f":"$BC$17","v":0},{"$f":"$BC$47","v":0}]
["TS 26",{"$f":"$BE$17","v":0},{"$f":"$BE$47","v":0}]
["TS 27",{"$f":"$BG$17","v":0},{"$f":"$BG$47","v":0}]
["TS 28",{"$f":"$BI$17","v":0},{"$f":"$BI$47","v":0}]
["TS 29",{"$f":"$BK$17","v":0},{"$f":"$BK$47","v":0}]
["TS 30",{"$f":"$BM$17","v":0},{"$f":"$BM$47","v":0}]
["TS 31",{"$f":"$BO$17","v":0},{"$f":"$BO$47","v":0}]
["TS 32",{"$f":"$BP$17","v":0},{"$f":"$BP$47","v":0}]
["TS 33",{"$f":"$BS$17","v":0},{"$f":"$BS$47","v":0}]
["TS 34",{"$f":"$BU$17","v":0},{"$f":"$BU$47","v":0}]
["TS 35",{"$f":"$BW$17","v":0},{"$f":"$BW$47","v":0}]
["TS 36",{"$f":"$BY$17","v":0},{"$f":"$BY$47","v":0}]
["TS 37",{"$f":"$CA$17","v":0},{"$f":"$CA$47","v":0}]
["TS 38",{"$f":"$CC$17","v":0},{"$f":"$CC$47","v":0}]
["TS 39",{"$f":"$CE$17","v":0},{"$f":"$CE$47","v":0}]
["TS 40",{"$f":"$CG$17","v":0},{"$f":"$CG$47","v":0}]
["TS 41",{"$f":"$CI$17","v":0},{"$f":"$CI$47","v":0}]
["TS 42",{"$f":"$CK$17","v":0},{"$f":"$CK$47","v":0}]
["TS 43",{"$f":"$CM$17","v":0},{"$f":"$CM$47","v":0}]
["TS 44",{"$f":"$CO$17","v":0},{"$f":"$CO$47","v":0}]
["TS 45",{"$f":"$CQ$17","v":0},{"$f":"$CQ$47","v":0}]
["TS 46",{"$f":"$CS$17","v":0},{"$f":"$CS$47","v":0}]
["TS 47",{"$f":"$CU$17","v":0},{"$f":"$CU$47","v":0}]
["TS 48",{"$f":"$CW$17","v":0},{"$f":"$CW$47","v":0}]
["TS 49",{"$f":"$CY$17","v":0},{"$f":"$CY$47","v":0}]

{"sheet":"Valori zeta","index":2,"n_rows":83,"n_cols":107,"rows_kept":83,"cut":false,"hidden":false,"merged":[[27,106,37,106],[49,2,59,2],[49,3,59,3],[2,5,3,5],[5,1,15,1],[5,2,15,2],[5,3,15,3],[2,1,3,1],[2,2,3,2],[2,3,3,3],[2,4,3,4],[16,1,26,1],[16,2,26,2],[16,3,26,3],[27,1,48,1],[27,2,37,2],[27,3,37,3],[38,2,48,2],[38,3,48,3],[78,1,78,5],[60,1,70,1],[60,2,70,2],[60,3,70,3],[71,1,75,1],[71,2,75,2],[71,3,75,3],[76,2,76,3]]}
[]
[null,null,null,null,null,null,"TP","TP","TP","TP","TP","TP","TP","TP","TP","TP","TP","TP","TP","TP","TP","TP","TP","TP","TP","TP","TP","TP","TP","TP","TP","TP","TP","TP","TP","TP","TP","TP","TP","TP","TP","TP","TP","TP","TP","TP","TP","TP","TP","TP","TP","TP","TP","TP","TP","TP","TP","TP","TP","TP","TP","TP","TP","TP","TP","TP","TP","TP","TP","TP","TP","TP","TP","TP","TP","TP","TP","TP","TP","TP","TP","TP","TP","TP","TP","TP","TP","TP","TP","TP","TP","TP","TP","TP","TP","TP","TP","TP","TP","TP","TP","TP","TP","TP","TP","TP"]
[null,"N°","Simbolo","Denominazione","d","z",1,2,3,4,5,6,7,8,9,10,11,12,13,14,15,16,17,18,19,20,21,22,23,24,25,26,27,28,29,30,31,32,33,34,35,36,37,38,39,40,41,42,43,44,45,46,47,48,49]
[null,null,null,null,null,null,"pz.","pz.","pz.","pz.","pz.","pz.","pz.","pz.","pz.","pz.","pz.","pz.","pz.","pz.","pz.","pz.","pz.","pz.","pz.","pz.","pz.","pz.","pz.","pz.","pz.","pz.","pz.","pz.","pz.","pz.","pz.","pz.","pz.","pz.","pz.","pz.","pz.","pz.","pz.","pz.","pz.","pz.","pz.","pz.","pz.","pz.","pz.","pz.","pz.","pz.","pz.","pz.","pz.","pz.","pz.","pz.","pz.","pz.","pz.","pz.","pz.","pz.","pz.","pz.","pz.","pz.","pz.","pz.","pz.","pz.","pz.","pz.","pz.","pz.","pz.","pz.","pz.","pz.","pz.","pz.","pz.","pz.","pz.","pz.","pz.","pz.","pz.","pz.","pz.","pz.","pz.","pz.","pz.","pz.","pz.","pz.","pz.","pz.","pz.","pz."]
[null,null,null,"Totale zeta Optipress",null,null,{"$f":"G79","v":0},{"$f":"H79","v":0},0,0,0,0,0,0,0,0,0,0,0,0,0,0,0,0,0,{"$f":"Z79","v":0},{"$f":"AA79","v":0},0,0,0,0,0,0,0,0,0,0,0,0,0,0,0,0,0,0,0,0,0,0,0,0,0,0,0,0]
[null,88000,null,"Optipress-Gaz-Curva 90°",15,0.8,null,null,null,null,null,null,null,null,null,null,null,null,null,null,null,null,null,null,null,null,null,null,null,null,null,null,null,null,null,null,null,null,null,null,null,null,null,null,null,null,null,null,null,null,null,null,null,null,null,null,{"$f":"$F6*G6","v":0},{"$f":"$F6*H6","v":0},{"$f":"$F6*I6","v":0},{"$f":"$F6*J6","v":0},{"$f":"$F6*K6","v":0},{"$f":"$F6*L6","v":0},{"$f":"$F6*M6","v":0},{"$f":"$F6*N6","v":0},{"$f":"$F6*O6","v":0},{"$f":"$F6*P6","v":0},{"$f":"$F6*Q6","v":0},{"$f":"$F6*R6","v":0},{"$f":"$F6*S6","v":0},{"$f":"$F6*T6","v":0},{"$f":"$F6*U6","v":0},{"$f":"$F6*V6","v":0},{"$f":"$F6*W6","v":0},{"$f":"$F6*X6","v":0},{"$f":"$F6*Y6","v":0},{"$f":"$F6*Z6","v":0},{"$f":"$F6*AA6","v":0},{"$f":"$F6*AB6","v":0},{"$f":"$F6*AC6","v":0},{"$f":"$F6*AD6","v":0},{"$f":"$F6*AE6","v":0},{"$f":"$F6*AF6","v":0},{"$f":"$F6*AG6","v":0},{"$f":"$F6*AH6","v":0},{"$f":"$F6*AI6","v":0},{"$f":"$F6*AJ6","v":0},{"$f":"$F6*AK6","v":0},{"$f":"$F6*AL6","v":0},{"$f":"$F6*AM6","v":0},{"$f":"$F6*AN6","v":0},{"$f":"$F6*AO6","v":0},{"$f":"$F6*AP6","v":0},{"$f":"$F6*AQ6","v":0},{"$f":"$F6*AR6","v":0},{"$f":"$F6*AS6","v":0},{"$f":"$F6*AT6","v":0},{"$f":"$F6*AU6","v":0},{"$f":"$F6*AV6","v":0},{"$f":"$F6*AW6","v":0},{"$f":"$F6*AX6","v":0},{"$f":"$F6*AY6","v":0},{"$f":"$F6*AZ6","v":0},{"$f":"$F6*BA6","v":0},{"$f":"$F6*BB6","v":0},{"$f":"$F6*BC6","v":0},0]
[null,null,null,null,18,0.5,null,null,null,null,null,null,null,null,null,null,null,null,null,null,null,null,null,null,null,null,null,null,null,null,null,null,null,null,null,null,null,null,null,null,null,null,null,null,null,null,null,null,null,null,null,null,null,null,null,null,{"$f":"$F7*G7","v":0},0,0,0,0,0,0,0,0,0,0,0,0,0,0,0,0,0,0,0,0,0,0,0,0,0,0,0,0,0,0,0,0,0,0,0,0,0,0,0,0,0,0,0,0,0,0,0,0,0]
[null,null,null,null,22,0.3,null,null,null,null,null,null,null,null,null,null,null,null,null,null,null,null,null,null,null,null,null,null,null,null,null,null,null,null,null,null,null,null,null,null,null,null,null,null,null,null,null,null,null,null,null,null,null,null,null,null,{"$f":"$F8*G8","v":0},0,0,0,0,0,0,0,0,0,0,0,0,0,0,0,0,0,0,0,0,0,0,0,0,0,0,0,0,0,0,0,0,0,0,0,0,0,0,0,0,0,0,0,0,0,0,0,0,0]
[null,null,null,null,28,0.4,null,null,null,null,null,null,null,null,null,null,null,null,null,null,null,null,null,null,null,null,null,null,null,null,null,null,null,null,null,null,null,null,null,null,null,null,null,null,null,null,null,null,null,null,null,null,null,null,null,null,{"$f":"$F9*G9","v":0},0,0,0,0,0,0,0,0,0,0,0,0,0,0,0,0,0,0,0,0,0,0,0,0,0,0,0,0,0,0,0,0,0,0,0,0,0,0,0,0,0,0,0,0,0,0,0,0,0]
[null,null,null,null,35,0.2,null,null,null,null,null,null,null,null,null,null,null,null,null,null,null,null,null,null,null,null,null,null,null,null,null,null,null,null,null,null,null,null,null,null,null,null,null,null,null,null,null,null,null,null,null,null,null,null,null,null,{"$f":"$F10*G10","v":0},0,0,0,0,0,0,0,0,0,0,0,0,0,0,0,0,0,0,0,0,0,0,0,0,0,0,0,0,0,0,0,0,0,0,0,0,0,0,0,0,0,0,0,0,0,0,0,0,0]
[null,null,null,null,42,0.3,null,null,null,null,null,null,null,null,null,null,null,null,null,null,null,null,null,null,null,null,null,null,null,null,null,null,null,null,null,null,null,null,null,null,null,null,null,null,null,null,null,null,null,null,null,null,null,null,null,null,0,0,0,0,0,0,0,0,0,0,0,0,0,0,0,0,0,0,0,0,0,0,0,0,0,0,0,0,0,0,0,0,0,0,0,0,0,0,0,0,0,0,0,0,0,0,0,0,0,0]
[null,null,null,null,54,0.3,null,null,null,null,null,null,null,null,null,null,null,null,null,null,null,null,null,null,null,null,null,null,null,null,null,null,null,null,null,null,null,null,null,null,null,null,null,null,null,null,null,null,null,null,null,null,null,null,null,null,0,0,0,0,0,0,0,0,0,0,0,0,0,0,0,0,0,0,0,0,0,0,0,0,0,0,0,0,0,0,0,0,0,0,0,0,0,0,0,0,0,0,0,0,0,0,0,0,0,0]
[null,null,null,null,64,0.3,null,null,null,null,null,null,null,null,null,null,null,null,null,null,null,null,null,null,null,null,null,null,null,null,null,null,null,null,null,null,null,null,null,null,null,null,null,null,null,null,null,null,null,null,null,null,null,null,null,null,0,0,0,0,0,0,0,0,0,0,0,0,0,0,0,0,0,0,0,0,0,0,0,0,0,0,0,0,0,0,0,0,0,0,0,0,0,0,0,0,0,0,0,0,0,0,0,0,0,0]
[null,null,null,null,76.099999999999994,0.2,null,null,null,null,null,null,null,null,null,null,null,null,null,null,null,null,null,null,null,null,null,null,null,null,null,null,null,null,null,null,null,null,null,null,null,null,null,null,null,null,null,null,null,null,null,null,null,null,null,null,0,0,0,0,0,0,0,0,0,0,0,0,0,0,0,0,0,0,0,0,0,0,0,0,0,0,0,0,0,0,0,0,0,0,0,0,0,0,0,0,0,0,0,0,0,0,0,0,0,0]
[null,null,null,null,88.9,0.2,null,null,null,null,null,null,null,null,null,null,null,null,null,null,null,null,null,null,null,null,null,null,null,null,null,null,null,null,null,null,null,null,null,null,null,null,null,null,null,null,null,null,null,null,null,null,null,null,null,null,0,0,0,0,0,0,0,0,0,0,0,0,0,0,0,0,0,0,0,0,0,0,0,0,0,0,0,0,0,0,0,0,0,0,0,0,0,0,0,0,0,0,0,0,0,0,0,0,0,0]
[null,null,null,null,108,0.2,null,null,null,null,null,null,null,null,null,null,null,null,null,null,null,null,null,null,null,null,null,null,null,null,null,null,null,null,null,null,null,null,null,null,null,null,null,null,null,null,null,null,null,null,null,null,null,null,null,null,0,0,0,0,0,0,0,0,0,0,0,0,0,0,0,0,0,0,0,0,0,0,0,0,0,0,0,0,0,0,0,0,0,0,0,0,0,0,0,0,0,0,0,0,0,0,0,0,0,0]
[null,88004,null,"Optipress-Gaz-Curva 45°",15,0.5,null,null,null,null,null,null,null,null,null,null,null,null,null,null,null,null,null,null,null,null,null,null,null,null,null,null,null,null,null,null,null,null,null,null,null,null,null,null,null,null,null,null,null,null,null,null,null,null,null,null,0,0,0,0,0,0,0,0,0,0,0,0,0,0,0,0,0,0,0,0,0,0,0,0,0,0,0,0,0,0,0,0,0,0,0,0,0,0,0,0,0,0,0,0,0,0,0,0,0,0]
[null,null,null,null,18,0.3,null,null,null,null,null,null,null,null,null,null,null,null,null,null,null,null,null,null,null,null,null,null,null,null,null,null,null,null,null,null,null,null,null,null,null,null,null,null,null,null,null,null,null,null,null,null,null,null,null,null,0,0,0,0,0,0,0,0,0,0,0,0,0,0,0,0,0,0,0,0,0,0,0,0,0,0,0,0,0,0,0,0,0,0,0,0,0,0,0,0,0,0,0,0,0,0,0,0,0,0]
[null,null,null,null,22,0.7,null,null,null,null,null,null,null,null,null,null,null,null,null,null,null,null,null,null,null,null,null,null,null,null,null,null,null,null,null,null,null,null,null,null,null,null,null,null,null,null,null,null,null,null,null,null,null,null,null,null,0,0,0,0,0,0,0,0,0,0,0,0,0,0,0,0,0,0,0,0,0,0,0,0,0,0,0,0,0,0,0,0,0,0,0,0,0,0,0,0,0,0,0,0,0,0,0,0,0,0]
[null,null,null,null,28,0.4,null,null,null,null,null,null,null,null,null,null,null,null,null,null,null,null,null,null,null,null,null,null,null,null,null,null,null,null,null,null,null,null,null,null,null,null,null,null,null,null,null,null,null,null,null,null,null,null,null,null,0,0,0,0,0,0,0,0,0,0,0,0,0,0,0,0,0,0,0,0,0,0,0,0,0,0,0,0,0,0,0,0,0,0,0,0,0,0,0,0,0,0,0,0,0,0,0,0,0,0]
[null,null,null,null,35,0.3,null,null,null,null,null,null,null,null,null,null,null,null,null,null,null,null,null,null,null,null,null,null,null,null,null,null,null,null,null,null,null,null,null,null,null,null,null,null,null,null,null,null,null,null,null,null,null,null,null,null,0,0,0,0,0,0,0,0,0,0,0,0,0,0,0,0,0,0,0,0,0,0,0,0,0,0,0,0,0,0,0,0,0,0,0,0,0,0,0,0,0,0,0,0,0,0,0,0,0,0]
[null,null,null,null,42,0.2,null,null,null,null,null,null,null,null,null,null,null,null,null,null,null,null,null,null,null,null,null,null,null,null,null,null,null,null,null,null,null,null,null,null,null,null,null,null,null,null,null,null,null,null,null,null,null,null,null,null,0,0,0,0,0,0,0,0,0,0,0,0,0,0,0,0,0,0,0,0,0,0,0,0,0,0,0,0,0,0,0,0,0,0,0,0,0,0,0,0,0,0,0,0,0,0,0,0,0,0]
[null,null,null,null,54,0.2,null,null,null,null,null,null,null,null,null,null,null,null,null,null,null,null,null,null,null,null,null,null,null,null,null,null,null,null,null,null,null,null,null,null,null,null,null,null,null,null,null,null,null,null,null,null,null,null,null,null,0,0,0,0,0,0,0,0,0,0,0,0,0,0,0,0,0,0,0,0,0,0,0,0,0,0,0,0,0,0,0,0,0,0,0,0,0,0,0,0,0,0,0,0,0,0,0,0,0,0]
[null,null,null,null,64,0.2,null,null,null,null,null,null,null,null,null,null,null,null,null,null,null,null,null,null,null,null,null,null,null,null,null,null,null,null,null,null,null,null,null,null,null,null,null,null,null,null,null,null,null,null,null,null,null,null,null,null,0,0,0,0,0,0,0,0,0,0,0,0,0,0,0,0,0,0,0,0,0,0,0,0,0,0,0,0,0,0,0,0,0,0,0,0,0,0,0,0,0,0,0,0,0,0,0,0,0,0]
[null,null,null,null,76.099999999999994,0.2,null,null,null,null,null,null,null,null,null,null,null,null,null,null,null,null,null,null,null,null,null,null,null,null,null,null,null,null,null,null,null,null,null,null,null,null,null,null,null,null,null,null,null,null,null,null,null,null,null,null,0,0,0,0,0,0,0,0,0,0,0,0,0,0,0,0,0,0,0,0,0,0,0,0,0,0,0,0,0,0,0,0,0,0,0,0,0,0,0,0,0,0,0,0,0,0,0,0,0,0]
[null,null,null,null,88.9,0.2,null,null,null,null,null,null,null,null,null,null,null,null,null,null,null,null,null,null,null,null,null,null,null,null,null,null,null,null,null,null,null,null,null,null,null,null,null,null,null,null,null,null,null,null,null,null,null,null,null,null,0,0,0,0,0,0,0,0,0,0,0,0,0,0,0,0,0,0,0,0,0,0,0,0,0,0,0,0,0,0,0,0,0,0,0,0,0,0,0,0,0,0,0,0,0,0,0,0,0,0]
[null,null,null,null,108,0.1,null,null,null,null,null,null,null,null,null,null,null,null,null,null,null,null,null,null,null,null,null,null,null,null,null,null,null,null,null,null,null,null,null,null,null,null,null,null,null,null,null,null,null,null,null,null,null,null,null,null,0,0,0,0,0,0,0,0,0,0,0,0,0,0,0,0,0,0,0,0,0,0,0,0,0,0,0,0,0,0,0,0,0,0,0,0,0,0,0,0,0,0,0,0,0,0,0,0,0,0]
[null,88010,"Portata","Optipress-Gaz-Pezzo a Ti",15,0.3,null,null,null,null,null,null,null,null,null,null,null,null,null,null,null,null,null,null,null,null,null,null,null,null,null,null,null,null,null,null,null,null,null,null,null,null,null,null,null,null,null,null,null,null,null,null,null,null,null,null,0,0,0,0,0,0,0,0,0,0,0,0,0,0,0,0,0,0,0,0,0,0,0,0,0,0,0,0,0,0,0,0,0,0,0,0,0,0,0,0,0,0,0,0,0,0,0,0,0,0,"Per il calcolo del percorso di flusso in caso di pezzi a Ti ridotti si applica il valore della resistenza del pezzo a Ti uguale con la dimensione minima del pezzo a Ti ridotto."]
[null,null,null,null,18,0.3,null,null,null,null,null,null,null,null,null,null,null,null,null,null,null,null,null,null,null,null,null,null,null,null,null,null,null,null,null,null,null,null,null,null,null,null,null,null,null,null,null,null,null,null,null,null,null,null,null,null,0,0,0,0,0,0,0,0,0,0,0,0,0,0,0,0,0,0,0,0,0,0,0,0,0,0,0,0,0,0,0,0,0,0,0,0,0,0,0,0,0,0,0,0,0,0,0,0,0,0]
[null,null,null,null,22,0.2,null,null,null,null,null,null,null,null,null,null,null,null,null,null,null,null,null,null,null,null,null,null,null,null,null,null,null,null,null,null,null,null,null,null,null,null,null,null,null,null,null,null,null,null,null,null,null,null,null,null,0,0,0,0,0,0,0,0,0,0,0,0,0,0,0,0,0,0,0,0,0,0,0,0,0,0,0,0,0,0,0,0,0,0,0,0,0,0,0,0,0,0,0,0,0,0,0,0,0,0]
[null,null,null,null,28,0.1,null,null,null,null,null,null,null,null,null,null,null,null,null,null,null,null,null,null,null,null,null,null,null,null,null,null,null,null,null,null,null,null,null,null,null,null,null,null,null,null,null,null,null,null,null,null,null,null,null,null,0,0,0,0,0,0,0,0,0,0,0,0,0,0,0,0,0,0,0,0,0,0,0,0,0,0,0,0,0,0,0,0,0,0,0,0,0,0,0,0,0,0,0,0,0,0,0,0,0,0]
[null,null,null,null,35,0.1,null,null,null,null,null,null,null,null,null,null,null,null,null,null,null,null,null,null,null,null,null,null,null,null,null,null,null,null,null,null,null,null,null,null,null,null,null,null,null,null,null,null,null,null,null,null,null,null,null,null,0,0,0,0,0,0,0,0,0,0,0,0,0,0,0,0,0,0,0,0,0,0,0,0,0,0,0,0,0,0,0,0,0,0,0,0,0,0,0,0,0,0,0,0,0,0,0,0,0,0]
[null,null,null,null,42,0.1,null,null,null,null,null,null,null,null,null,null,null,null,null,null,null,null,null,null,null,null,null,null,null,null,null,null,null,null,null,null,null,null,null,null,null,null,null,null,null,null,null,null,null,null,null,null,null,null,null,null,0,0,0,0,0,0,0,0,0,0,0,0,0,0,0,0,0,0,0,0,0,0,0,0,0,0,0,0,0,0,0,0,0,0,0,0,0,0,0,0,0,0,0,0,0,0,0,0,0,0]
[null,null,null,null,54,0.1,null,null,null,null,null,null,null,null,null,null,null,null,null,null,null,null,null,null,null,null,null,null,null,null,null,null,null,null,null,null,null,null,null,null,null,null,null,null,null,null,null,null,null,null,null,null,null,null,null,null,0,0,0,0,0,0,0,0,0,0,0,0,0,0,0,0,0,0,0,0,0,0,0,0,0,0,0,0,0,0,0,0,0,0,0,0,0,0,0,0,0,0,0,0,0,0,0,0,0,0]
[null,null,null,null,64,0.1,null,null,null,null,null,null,null,null,null,null,null,null,null,null,null,null,null,null,null,null,null,null,null,null,null,null,null,null,null,null,null,null,null,null,null,null,null,null,null,null,null,null,null,null,null,null,null,null,null,null,0,0,0,0,0,0,0,0,0,0,0,0,0,0,0,0,0,0,0,0,0,0,0,0,0,0,0,0,0,0,0,0,0,0,0,0,0,0,0,0,0,0,0,0,0,0,0,0,0,0]
[null,null,null,null,76.099999999999994,0.1,null,null,null,null,null,null,null,null,null,null,null,null,null,null,null,null,null,null,null,null,null,null,null,null,null,null,null,null,null,null,null,null,null,null,null,null,null,null,null,null,null,null,null,null,null,null,null,null,null,null,0,0,0,0,0,0,0,0,0,0,0,0,0,0,0,0,0,0,0,0,0,0,0,0,0,0,0,0,0,0,0,0,0,0,0,0,0,0,0,0,0,0,0,0,0,0,0,0,0,0]
[null,null,null,null,88.9,0.1,null,null,null,null,null,null,null,null,null,null,null,null,null,null,null,null,null,null,null,null,null,null,null,null,null,null,null,null,null,null,null,null,null,null,null,null,null,null,null,null,null,null,null,null,null,null,null,null,null,null,0,0,0,0,0,0,0,0,0,0,0,0,0,0,0,0,0,0,0,0,0,0,0,0,0,0,0,0,0,0,0,0,0,0,0,0,0,0,0,0,0,0,0,0,0,0,0,0,0,0]
[null,null,null,null,108,0.1,null,null,null,null,null,null,null,null,null,null,null,null,null,null,null,null,null,null,null,null,null,null,null,null,null,null,null,null,null,null,null,null,null,null,null,null,null,null,null,null,null,null,null,null,null,null,null,null,null,null,{"$f":"$F38*G38","v":0},0,0,0,0,0,0,0,0,0,0,0,0,0,0,0,0,0,0,0,0,0,0,0,0,0,0,0,0,0,0,0,0,0,0,0,0,0,0,0,0,0,0,0,0,0,0,0,0,0]
[null,null,"Derivazione","Optipress-Gaz-Pezzo a Ti",15,1.3,null,null,null,null,null,null,null,null,null,null,null,null,null,null,null,null,null,null,null,null,null,null,null,null,null,null,null,null,null,null,null,null,null,null,null,null,null,null,null,null,null,null,null,null,null,null,null,null,null,null,0,0,0,0,0,0,0,0,0,0,0,0,0,0,0,0,0,0,0,0,0,0,0,0,0,0,0,0,0,0,0,0,0,0,0,0,0,0,0,0,0,0,0,0,0,0,0,0,0,0]
[null,null,null,null,18,1.2,null,null,null,null,null,null,null,null,null,null,null,null,null,null,null,null,null,null,null,null,null,null,null,null,null,null,null,null,null,null,null,null,null,null,null,null,null,null,null,null,null,null,null,null,null,null,null,null,null,null,0,0,0,0,0,0,0,0,0,0,0,0,0,0,0,0,0,0,0,0,0,0,0,0,0,0,0,0,0,0,0,0,0,0,0,0,0,0,0,0,0,0,0,0,0,0,0,0,0,0]
[null,null,null,null,22,1.1000000000000001,null,null,null,null,null,null,null,null,null,null,null,null,null,null,null,null,null,null,null,null,null,null,null,null,null,null,null,null,null,null,null,null,null,null,null,null,null,null,null,null,null,null,null,null,null,null,null,null,null,null,0,0,0,0,0,0,0,0,0,0,0,0,0,0,0,0,0,0,0,0,0,0,0,0,0,0,0,0,0,0,0,0,0,0,0,0,0,0,0,0,0,0,0,0,0,0,0,0,0,0]
[null,null,null,null,28,1.1000000000000001,null,null,null,null,null,null,null,null,null,null,null,null,null,null,null,null,null,null,null,null,null,null,null,null,null,null,null,null,null,null,null,null,null,null,null,null,null,null,null,null,null,null,null,null,null,null,null,null,null,null,0,0,0,0,0,0,0,0,0,0,0,0,0,0,0,0,0,0,0,0,0,0,0,0,0,0,0,0,0,0,0,0,0,0,0,0,0,0,0,0,0,0,0,0,0,0,0,0,0,0]
[null,null,null,null,35,0.9,null,null,null,null,null,null,null,null,null,null,null,null,null,null,null,null,null,null,null,null,null,null,null,null,null,null,null,null,null,null,null,null,null,null,null,null,null,null,null,null,null,null,null,null,null,null,null,null,null,null,0,0,0,0,0,0,0,0,0,0,0,0,0,0,0,0,0,0,0,0,0,0,0,0,0,0,0,0,0,0,0,0,0,0,0,0,0,0,0,0,0,0,0,0,0,0,0,0,0,0]
[null,null,null,null,42,0.9,null,null,null,null,null,null,null,null,null,null,null,null,null,null,null,null,null,null,null,null,null,null,null,null,null,null,null,null,null,null,null,null,null,null,null,null,null,null,null,null,null,null,null,null,null,null,null,null,null,null,0,0,0,0,0,0,0,0,0,0,0,0,0,0,0,0,0,0,0,0,0,0,0,0,0,0,0,0,0,0,0,0,0,0,0,0,0,0,0,0,0,0,0,0,0,0,0,0,0,0]
[null,null,null,null,54,0.9,null,null,null,null,null,null,null,null,null,null,null,null,null,null,null,null,null,null,null,null,null,null,null,null,null,null,null,null,null,null,null,null,null,null,null,null,null,null,null,null,null,null,null,null,null,null,null,null,null,null,0,0,0,0,0,0,0,0,0,0,0,0,0,0,0,0,0,0,0,0,0,0,0,0,0,0,0,0,0,0,0,0,0,0,0,0,0,0,0,0,0,0,0,0,0,0,0,0,0,0]
[null,null,null,null,64,0.8,null,null,null,null,null,null,null,null,null,null,null,null,null,null,null,null,null,null,null,null,null,null,null,null,null,null,null,null,null,null,null,null,null,null,null,null,null,null,null,null,null,null,null,null,null,null,null,null,null,null,0,0,0,0,0,0,0,0,0,0,0,0,0,0,0,0,0,0,0,0,0,0,0,0,0,0,0,0,0,0,0,0,0,0,0,0,0,0,0,0,0,0,0,0,0,0,0,0,0,0]
[null,null,null,null,76.099999999999994,0.8,null,null,null,null,null,null,null,null,null,null,null,null,null,null,null,null,null,null,null,null,null,null,null,null,null,null,null,null,null,null,null,null,null,null,null,null,null,null,null,null,null,null,null,null,null,null,null,null,null,null,0,0,0,0,0,0,0,0,0,0,0,0,0,0,0,0,0,0,0,0,0,0,0,0,0,0,0,0,0,0,0,0,0,0,0,0,0,0,0,0,0,0,0,0,0,0,0,0,0,0]
[null,null,null,null,88.9,0.7,null,null,null,null,null,null,null,null,null,null,null,null,null,null,null,null,null,null,null,null,null,null,null,null,null,null,null,null,null,null,null,null,null,null,null,null,null,null,null,null,null,null,null,null,null,null,null,null,null,null,0,0,0,0,0,0,0,0,0,0,0,0,0,0,0,0,0,0,0,0,0,0,0,0,0,0,0,0,0,0,0,0,0,0,0,0,0,0,0,0,0,0,0,0,0,0,0,0,0,0]
[null,null,null,null,108,0.6,null,null,null,null,null,null,null,null,null,null,null,null,null,null,null,null,null,null,null,null,null,null,null,null,null,null,null,null,null,null,null,null,null,null,null,null,null,null,null,null,null,null,null,null,null,null,null,null,null,null,0,0,0,0,0,0,0,0,0,0,0,0,0,0,0,0,0,0,0,0,0,0,0,0,0,0,0,0,0,0,0,0,0,0,0,0,0,0,0,0,0,0,0,0,0,0,0,0,0,0]
[null,null,"Derivazione","Optipress-Gaz-Pezzo a Ti",15,1.1000000000000001,null,null,null,null,null,null,null,null,null,null,null,null,null,null,null,null,null,null,null,null,null,null,null,null,null,null,null,null,null,null,null,null,null,null,null,null,null,null,null,null,null,null,null,null,null,null,null,null,null,null,0,0,0,0,0,0,0,0,0,0,0,0,0,0,0,0,0,0,0,0,0,0,0,0,0,0,0,0,0,0,0,0,0,0,0,0,0,0,0,0,0,0,0,0,0,0,0,0,0,0]
[null,null,null,null,18,0.7,null,null,null,null,null,null,null,null,null,null,null,null,null,null,null,null,null,null,null,null,null,null,null,null,null,null,null,null,null,null,null,null,null,null,null,null,null,null,null,null,null,null,null,null,null,null,null,null,null,null,0,0,0,0,0,0,0,0,0,0,0,0,0,0,0,0,0,0,0,0,0,0,0,0,0,0,0,0,0,0,0,0,0,0,0,0,0,0,0,0,0,0,0,0,0,0,0,0,0,0]
[null,null,null,null,22,0.7,null,null,null,null,null,null,null,null,null,null,null,null,null,null,null,null,null,null,null,null,null,null,null,null,null,null,null,null,null,null,null,null,null,null,null,null,null,null,null,null,null,null,null,null,null,null,null,null,null,null,0,0,0,0,0,0,0,0,0,0,0,0,0,0,0,0,0,0,0,0,0,0,0,0,0,0,0,0,0,0,0,0,0,0,0,0,0,0,0,0,0,0,0,0,0,0,0,0,0,0]
[null,null,null,null,28,0.8,null,null,null,null,null,null,null,null,null,null,null,null,null,null,null,null,null,null,null,null,null,null,null,null,null,null,null,null,null,null,null,null,null,null,null,null,null,null,null,null,null,null,null,null,null,null,null,null,null,null,0,0,0,0,0,0,0,0,0,0,0,0,0,0,0,0,0,0,0,0,0,0,0,0,0,0,0,0,0,0,0,0,0,0,0,0,0,0,0,0,0,0,0,0,0,0,0,0,0,0]
[null,88010,null,null,35,0.6,null,null,null,null,null,null,null,null,null,null,null,null,null,null,null,null,null,null,null,null,null,null,null,null,null,null,null,null,null,null,null,null,null,null,null,null,null,null,null,null,null,null,null,null,null,null,null,null,null,null,0,0,0,0,0,0,0,0,0,0,0,0,0,0,0,0,0,0,0,0,0,0,0,0,0,0,0,0,0,0,0,0,0,0,0,0,0,0,0,0,0,0,0,0,0,0,0,0,0,0]
[null,null,null,null,42,0.8,null,null,null,null,null,null,null,null,null,null,null,null,null,null,null,null,null,null,null,null,null,null,null,null,null,null,null,null,null,null,null,null,null,null,null,null,null,null,null,null,null,null,null,null,null,null,null,null,null,null,0,0,0,0,0,0,0,0,0,0,0,0,0,0,0,0,0,0,0,0,0,0,0,0,0,0,0,0,0,0,0,0,0,0,0,0,0,0,0,0,0,0,0,0,0,0,0,0,0,0]
[null,null,null,null,54,0.8,null,null,null,null,null,null,null,null,null,null,null,null,null,null,null,null,null,null,null,null,null,null,null,null,null,null,null,null,null,null,null,null,null,null,null,null,null,null,null,null,null,null,null,null,null,null,null,null,null,null,0,0,0,0,0,0,0,0,0,0,0,0,0,0,0,0,0,0,0,0,0,0,0,0,0,0,0,0,0,0,0,0,0,0,0,0,0,0,0,0,0,0,0,0,0,0,0,0,0,0]
[null,null,null,null,64,0.8,null,null,null,null,null,null,null,null,null,null,null,null,null,null,null,null,null,null,null,null,null,null,null,null,null,null,null,null,null,null,null,null,null,null,null,null,null,null,null,null,null,null,null,null,null,null,null,null,null,null,0,0,0,0,0,0,0,0,0,0,0,0,0,0,0,0,0,0,0,0,0,0,0,0,0,0,0,0,0,0,0,0,0,0,0,0,0,0,0,0,0,0,0,0,0,0,0,0,0,0]
[null,null,null,null,76.099999999999994,0.8,null,null,null,null,null,null,null,null,null,null,null,null,null,null,null,null,null,null,null,null,null,null,null,null,null,null,null,null,null,null,null,null,null,null,null,null,null,null,null,null,null,null,null,null,null,null,null,null,null,null,0,0,0,0,0,0,0,0,0,0,0,0,0,0,0,0,0,0,0,0,0,0,0,0,0,0,0,0,0,0,0,0,0,0,0,0,0,0,0,0,0,0,0,0,0,0,0,0,0,0]
[null,null,null,null,88.9,0.8,null,null,null,null,null,null,null,null,null,null,null,null,null,null,null,null,null,null,null,null,null,null,null,null,null,null,null,null,null,null,null,null,null,null,null,null,null,null,null,null,null,null,null,null,null,null,null,null,null,null,0,0,0,0,0,0,0,0,0,0,0,0,0,0,0,0,0,0,0,0,0,0,0,0,0,0,0,0,0,0,0,0,0,0,0,0,0,0,0,0,0,0,0,0,0,0,0,0,0,0]
[null,null,null,null,108,0.8,null,null,null,null,null,null,null,null,null,null,null,null,null,null,null,null,null,null,null,null,null,null,null,null,null,null,null,null,null,null,null,null,null,null,null,null,null,null,null,null,null,null,null,null,null,null,null,null,null,null,0,0,0,0,0,0,0,0,0,0,0,0,0,0,0,0,0,0,0,0,0,0,0,0,0,0,0,0,0,0,0,0,0,0,0,0,0,0,0,0,0,0,0,0,0,0,0,0,0,0]
[null,88020,null,"Optipress-Gaz-Manicotto",15,0.4,null,null,null,null,null,null,null,null,null,null,null,null,null,null,null,null,null,null,null,null,null,null,null,null,null,null,null,null,null,null,null,null,null,null,null,null,null,null,null,null,null,null,null,null,null,null,null,null,null,null,0,0,0,0,0,0,0,0,0,0,0,0,0,0,0,0,0,0,0,0,0,0,0,0,0,0,0,0,0,0,0,0,0,0,0,0,0,0,0,0,0,0,0,0,0,0,0,0,0,0]
[null,null,null,null,18,0.2,null,null,null,null,null,null,null,null,null,null,null,null,null,null,null,null,null,null,null,null,null,null,null,null,null,null,null,null,null,null,null,null,null,null,null,null,null,null,null,null,null,null,null,null,null,null,null,null,null,null,0,0,0,0,0,0,0,0,0,0,0,0,0,0,0,0,0,0,0,0,0,0,0,0,0,0,0,0,0,0,0,0,0,0,0,0,0,0,0,0,0,0,0,0,0,0,0,0,0,0]
[null,null,null,null,22,0.2,null,null,null,null,null,null,null,null,null,null,null,null,null,null,null,null,null,null,null,null,null,null,null,null,null,null,null,null,null,null,null,null,null,null,null,null,null,null,null,null,null,null,null,null,null,null,null,null,null,null,0,0,0,0,0,0,0,0,0,0,0,0,0,0,0,0,0,0,0,0,0,0,0,0,0,0,0,0,0,0,0,0,0,0,0,0,0,0,0,0,0,0,0,0,0,0,0,0,0,0]
[null,null,null,null,28,0.2,null,null,null,null,null,null,null,null,null,null,null,null,null,null,null,null,null,null,null,null,null,null,null,null,null,null,null,null,null,null,null,null,null,null,null,null,null,null,null,null,null,null,null,null,null,null,null,null,null,null,0,0,0,0,0,0,0,0,0,0,0,0,0,0,0,0,0,0,0,0,0,0,0,0,0,0,0,0,0,0,0,0,0,0,0,0,0,0,0,0,0,0,0,0,0,0,0,0,0,0]
[null,null,null,null,35,0.2,null,null,null,null,null,null,null,null,null,null,null,null,null,null,null,null,null,null,null,null,null,null,null,null,null,null,null,null,null,null,null,null,null,null,null,null,null,null,null,null,null,null,null,null,null,null,null,null,null,null,0,0,0,0,0,0,0,0,0,0,0,0,0,0,0,0,0,0,0,0,0,0,0,0,0,0,0,0,0,0,0,0,0,0,0,0,0,0,0,0,0,0,0,0,0,0,0,0,0,0]
[null,null,null,null,42,0.1,null,null,null,null,null,null,null,null,null,null,null,null,null,null,null,null,null,null,null,null,null,null,null,null,null,null,null,null,null,null,null,null,null,null,null,null,null,null,null,null,null,null,null,null,null,null,null,null,null,null,0,0,0,0,0,0,0,0,0,0,0,0,0,0,0,0,0,0,0,0,0,0,0,0,0,0,0,0,0,0,0,0,0,0,0,0,0,0,0,0,0,0,0,0,0,0,0,0,0,0]
[null,null,null,null,54,0.1,null,null,null,null,null,null,null,null,null,null,null,null,null,null,null,null,null,null,null,null,null,null,null,null,null,null,null,null,null,null,null,null,null,null,null,null,null,null,null,null,null,null,null,null,null,null,null,null,null,null,0,0,0,0,0,0,0,0,0,0,0,0,0,0,0,0,0,0,0,0,0,0,0,0,0,0,0,0,0,0,0,0,0,0,0,0,0,0,0,0,0,0,0,0,0,0,0,0,0,0]
[null,null,null,null,64,0.1,null,null,null,null,null,null,null,null,null,null,null,null,null,null,null,null,null,null,null,null,null,null,null,null,null,null,null,null,null,null,null,null,null,null,null,null,null,null,null,null,null,null,null,null,null,null,null,null,null,null,0,0,0,0,0,0,0,0,0,0,0,0,0,0,0,0,0,0,0,0,0,0,0,0,0,0,0,0,0,0,0,0,0,0,0,0,0,0,0,0,0,0,0,0,0,0,0,0,0,0]
[null,null,null,null,76.099999999999994,0.1,null,null,null,null,null,null,null,null,null,null,null,null,null,null,null,null,null,null,null,null,null,null,null,null,null,null,null,null,null,null,null,null,null,null,null,null,null,null,null,null,null,null,null,null,null,null,null,null,null,null,0,0,0,0,0,0,0,0,0,0,0,0,0,0,0,0,0,0,0,0,0,0,0,0,0,0,0,0,0,0,0,0,0,0,0,0,0,0,0,0,0,0,0,0,0,0,0,0,0,0]
[null,null,null,null,88.9,0.1,null,null,null,null,null,null,null,null,null,null,null,null,null,null,null,null,null,null,null,null,null,null,null,null,null,null,null,null,null,null,null,null,null,null,null,null,null,null,null,null,null,null,null,null,null,null,null,null,null,null,0,0,0,0,0,0,0,0,0,0,0,0,0,0,0,0,0,0,0,0,0,0,0,0,0,0,0,0,0,0,0,0,0,0,0,0,0,0,0,0,0,0,0,0,0,0,0,0,0,0]
[null,null,null,null,108,0.1,null,null,null,null,null,null,null,null,null,null,null,null,null,null,null,null,null,null,null,null,null,null,null,null,null,null,null,null,null,null,null,null,null,null,null,null,null,null,null,null,null,null,null,null,null,null,null,null,null,null,0,0,0,0,0,0,0,0,0,0,0,0,0,0,0,0,0,0,0,0,0,0,0,0,0,0,0,0,0,0,0,0,0,0,0,0,0,0,0,0,0,0,0,0,0,0,0,0,0,0]
[null,88040,null,"Optipress-Gaz-Gomito","15 x ½",1.6,null,null,null,null,null,null,null,null,null,null,null,null,null,null,null,null,null,null,null,null,null,null,null,null,null,null,null,null,null,null,null,null,null,null,null,null,null,null,null,null,null,null,null,null,null,null,null,null,null,null,0,0,0,0,0,0,0,0,0,0,0,0,0,0,0,0,0,0,0,0,0,0,0,0,0,0,0,0,0,0,0,0,0,0,0,0,0,0,0,0,0,0,0,0,0,0,0,0,0,0]
[null,null,null,null,"18 x ½",2,null,null,null,null,null,null,null,null,null,null,null,null,null,null,null,null,null,null,null,null,null,null,null,null,null,null,null,null,null,null,null,null,null,null,null,null,null,null,null,null,null,null,null,null,null,null,null,null,null,null,0,0,0,0,0,0,0,0,0,0,0,0,0,0,0,0,0,0,0,0,0,0,0,0,0,0,0,0,0,0,0,0,0,0,0,0,0,0,0,0,0,0,0,0,0,0,0,0,0,0]
[null,null,null,null,"22 x ½",1.6,null,null,null,null,null,null,null,null,null,null,null,null,null,null,null,null,null,null,null,null,null,null,null,null,null,null,null,null,null,null,null,null,null,null,null,null,null,null,null,null,null,null,null,null,null,null,null,null,null,null,0,0,0,0,0,0,0,0,0,0,0,0,0,0,0,0,0,0,0,0,0,0,0,0,0,0,0,0,0,0,0,0,0,0,0,0,0,0,0,0,0,0,0,0,0,0,0,0,0,0]
[null,null,null,null,null,null,null,null,null,null,null,null,null,null,null,null,null,null,null,null,null,null,null,null,null,null,null,null,null,null,null,null,null,null,null,null,null,null,null,null,null,null,null,null,null,null,null,null,null,null,null,null,null,null,null,null,0,0,0,0,0,0,0,0,0,0,0,0,0,0,0,0,0,0,0,0,0,0,0,0,0,0,0,0,0,0,0,0,0,0,0,0,0,0,0,0,0,0,0,0,0,0,0,0,0,0]
[null,null,null,null,null,null,null,null,null,null,null,null,null,null,null,null,null,null,null,null,null,null,null,null,null,null,null,null,null,null,null,null,null,null,null,null,null,null,null,null,null,null,null,null,null,null,null,null,null,null,null,null,null,null,null,null,0,0,0,0,0,0,0,0,0,0,0,0,0,0,0,0,0,0,0,0,0,0,0,0,0,0,0,0,0,0,0,0,0,0,0,0,0,0,0,0,0,0,0,0,0,0,0,0,0,0]
[null,null,"Collegamento dell'apparecchio",null,null,2,null,null,null,null,null,null,null,null,null,null,null,null,null,null,null,null,null,null,null,null,null,null,null,null,null,null,null,null,null,null,null,null,null,null,null,null,null,null,null,null,null,null,null,null,null,null,null,null,null,null,0,0,0,0,0,0,0,0,0,0,0,0,0,0,0,0,0,0,0,0,0,0,0,0,0,0,0,0,0,0,0,0,0,0,0,0,0,0,0,0,0,0,0,0,0,0,0,0,0,0]
[null,89004,null,"Rubinetto a sfera",null,0.5,null,null,null,null,null,null,null,null,null,null,null,null,null,null,null,null,null,null,null,null,null,null,null,null,null,null,null,null,null,null,null,null,null,null,null,null,null,null,null,null,null,null,null,null,null,null,null,null,null,null,0,{"$f":"$F78*H78","v":0},{"$f":"$F78*I78","v":0},{"$f":"$F78*J78","v":0},{"$f":"$F78*K78","v":0},{"$f":"$F78*L78","v":0},{"$f":"$F78*M78","v":0},{"$f":"$F78*N78","v":0},{"$f":"$F78*O78","v":0},{"$f":"$F78*P78","v":0},{"$f":"$F78*Q78","v":0},{"$f":"$F78*R78","v":0},{"$f":"$F78*S78","v":0},{"$f":"$F78*T78","v":0},{"$f":"$F78*U78","v":0},{"$f":"$F78*V78","v":0},{"$f":"$F78*W78","v":0},{"$f":"$F78*X78","v":0},{"$f":"$F78*Y78","v":0},{"$f":"$F78*Z78","v":0},{"$f":"$F78*AA78","v":0},{"$f":"$F78*AB78","v":0},{"$f":"$F78*AC78","v":0},{"$f":"$F78*AD78","v":0},{"$f":"$F78*AE78","v":0},{"$f":"$F78*AF78","v":0},{"$f":"$F78*AG78","v":0},{"$f":"$F78*AH78","v":0},{"$f":"$F78*AI78","v":0},{"$f":"$F78*AJ78","v":0},{"$f":"$F78*AK78","v":0},{"$f":"$F78*AL78","v":0},{"$f":"$F78*AM78","v":0},{"$f":"$F78*AN78","v":0},{"$f":"$F78*AO78","v":0},{"$f":"$F78*AP78","v":0},{"$f":"$F78*AQ78","v":0},{"$f":"$F78*AR78","v":0},{"$f":"$F78*AS78","v":0},{"$f":"$F78*AT78","v":0},{"$f":"$F78*AU78","v":0},{"$f":"$F78*AV78","v":0},{"$f":"$F78*AW78","v":0},{"$f":"$F78*AX78","v":0},{"$f":"$F78*AY78","v":0},{"$f":"$F78*AZ78","v":0},{"$f":"$F78*BA78","v":0},{"$f":"$F78*BB78","v":0},{"$f":"$F78*BC78","v":0},0]
[null,"Totale z",null,null,null,null,{"$f":"BE79","v":0},{"$f":"BF79","v":0},{"$f":"BG79","v":0},{"$f":"BH79","v":0},{"$f":"BI79","v":0},{"$f":"BJ79","v":0},{"$f":"BK79","v":0},{"$f":"BL79","v":0},{"$f":"BM79","v":0},{"$f":"BN79","v":0},{"$f":"BO79","v":0},{"$f":"BP79","v":0},{"$f":"BQ79","v":0},{"$f":"BR79","v":0},{"$f":"BS79","v":0},{"$f":"BT79","v":0},{"$f":"BU79","v":0},{"$f":"BV79","v":0},{"$f":"BW79","v":0},{"$f":"BX79","v":0},{"$f":"BY79","v":0},{"$f":"BZ79","v":0},{"$f":"CA79","v":0},{"$f":"CB79","v":0},{"$f":"CC79","v":0},{"$f":"CD79","v":0},{"$f":"CE79","v":0},{"$f":"CF79","v":0},{"$f":"CG79","v":0},{"$f":"CH79","v":0},{"$f":"CI79","v":0},{"$f":"CJ79","v":0},{"$f":"CK79","v":0},{"$f":"CL79","v":0},{"$f":"CM79","v":0},{"$f":"CN79","v":0},{"$f":"CO79","v":0},{"$f":"CP79","v":0},{"$f":"CQ79","v":0},{"$f":"CR79","v":0},{"$f":"CS79","v":0},{"$f":"CT79","v":0},{"$f":"CU79","v":0},{"$f":"CV79","v":0},{"$f":"CW79","v":0},{"$f":"CX79","v":0},{"$f":"CY79","v":0},{"$f":"CZ79","v":0},{"$f":"DA79","v":0},null,{"$f":"SUM(BE6:BE78)","v":0},0,0,0,0,0,0,0,0,0,0,0,0,0,0,0,0,0,0,0,0,0,0,0,0,0,0,0,0,0,0,0,{"$f":"SUM(CK6:CK78)","v":0},0,0,0,0,0,0,0,0,0,0,0,0,0,0,0,0,0]
[]
[]
[null,"10.2024 V3.1. © R. Nussbaum SA"]
[null,"L'utilizzatore è esclusivo responsabile della correttezza."]

{"sheet":"Optiflex-Profix","index":3,"n_rows":47,"n_cols":108,"rows_kept":47,"cut":false,"hidden":true,"merged":[[27,107,37,107],[2,5,3,5],[5,1,6,1],[5,2,6,2],[5,3,6,3],[2,1,3,1],[2,2,3,2],[2,3,3,3],[2,4,3,4],[13,1,17,1],[13,2,17,2],[13,3,17,3],[18,1,23,1],[18,2,20,2],[18,3,20,3],[21,2,23,2],[21,3,23,3],[7,1,12,1],[7,2,9,2],[7,3,9,3],[10,2,12,2],[10,3,12,3],[24,1,26,1],[24,2,26,2],[24,3,26,3],[41,1,41,5],[27,1,32,1],[27,2,29,2],[27,3,29,3],[30,2,32,2],[30,3,32,3],[38,1,40,1],[38,2,40,2],[38,3,40,3],[33,1,37,1],[33,2,37,2],[33,3,37,3]]}
[]
[null,"Zum Löschen: Namensfeld auswählen und «Delete» drücken",null,null,null,null,"TS","TS","TS","TS","TS","TS","TS","TS","TS","TS","TS","TS","TS","TS","TS","TS","TS","TS","TS","TS","TS","TS","TS","TS","TS","TS","TS","TS","TS","TS","TS","TS","TS","TS","TS","TS","TS","TS","TS","TS","TS","TS","TS","TS","TS","TS","TS","TS","TS","TS"]
[null,"Nr.","Symbol","Bezeichnung","d","z",1,2,3,4,5,6,7,8,9,10,11,12,13,14,15,16,17,18,19,20,21,22,23,24,25,26,27,28,29,30,31,32,33,34,35,36,37,38,39,40,41,42,43,44,45,46,47,48,49,50]
[null,null,null,null,null,null,"Stk.","Stk.","Stk.","Stk.","Stk.","Stk.","Stk.","Stk.","Stk.","Stk.","Stk.","Stk.","Stk.","Stk.","Stk.","Stk.","Stk.","Stk.","Stk.","Stk.","Stk","Stk","Stk","Stk","Stk","Stk","Stk","Stk","Stk","Stk","Stk","Stk","Stk","Stk","Stk","Stk","Stk","Stk","Stk","Stk","Stk","Stk","Stk","Stk","Stk","Stk","Stk","Stk","Stk","Stk"]
[null,null,null,"Zeta-Total Optiflex-Profix",null,null,{"$f":"G42","v":0},{"$f":"H42","v":0},0,0,0,0,0,0,0,0,0,0,0,0,0,0,0,0,0,0,0,0,0,0,0,0,0,0,0,0,0,0,0,0,0,0,0,0,0,0,0,0,0,{"$f":"AX42","v":0},0,0,0,0,0,0]
[null,"85100 /  85105 ",null,"Optiflex-Profix-Dose 90° ","½ x 16",1.4,null,null,null,null,null,null,null,null,null,null,null,null,null,null,null,null,null,null,null,null,null,null,null,null,null,null,null,null,null,null,null,null,null,null,null,null,null,null,null,null,null,null,null,null,null,null,null,null,null,null,null,{"$f":"$F6*G6","v":0},0,0,0,0,0,0,0,0,0,0,0,0,0,0,0,0,0,0,0,{"$f":"$F6*AA6","v":0},0,0,0,0,0,0,0,0,0,0,0,0,0,0,0,0,0,0,0,0,0,0,{"$f":"$F6*AX6","v":0},0,0,0,0,0,0]
[null,null,null,null,"½ x 20",1.4,null,null,null,null,null,null,null,null,null,null,null,null,null,null,null,null,null,null,null,null,null,null,null,null,null,null,null,null,null,null,null,null,null,null,null,null,null,null,null,null,null,null,null,null,null,null,null,null,null,null,null,{"$f":"$F7*G7","v":0},{"$f":"$F7*H7","v":0},0,0,0,0,0,0,0,0,0,{"$f":"$F7*R7","v":0},0,0,0,0,0,0,0,0,0,0,0,0,0,0,0,0,0,0,0,0,0,0,0,0,0,0,0,0,0,0,0,0,0,0,0,0,0,0]
[null,"85110 / 85111","Durchfluss","Optiflex-Profix-Doppeldose 90°","½ x 16 x 16",1.2,null,null,null,null,null,null,null,null,null,null,null,null,null,null,null,null,null,null,null,null,null,null,null,null,null,null,null,null,null,null,null,null,null,null,null,null,null,null,null,null,null,null,null,null,null,null,null,null,null,null,null,0,0,0,0,0,0,0,0,0,0,0,0,0,0,0,0,0,0,0,0,0,0,0,0,0,0,0,0,0,0,0,0,0,0,0,0,0,0,0,0,0,0,0,0,0,0,0,0,0,0]
[null,null,null,null,"½ x 20 x 16",1.3,null,null,null,null,null,null,null,null,null,null,null,null,null,null,null,null,null,null,null,null,null,null,null,null,null,null,null,null,null,null,null,null,null,null,null,null,null,null,null,null,null,null,null,null,null,null,null,null,null,null,null,0,0,0,0,0,0,0,0,0,0,0,0,0,0,0,0,0,0,0,0,0,0,0,0,0,0,0,0,0,0,0,0,0,0,0,0,0,0,0,0,0,0,{"$f":"$F9*AW9","v":0},0,0,0,0,0,0,0]
[null,null,null,null,"½ x 20 x 20",1.4,null,null,null,null,null,null,null,null,null,null,null,null,null,null,null,null,null,null,null,null,null,null,null,null,null,null,null,null,null,null,null,null,null,null,null,null,null,null,null,null,null,null,null,null,null,null,null,null,null,null,null,0,{"$f":"$F10*H10","v":0},{"$f":"$F10*I10","v":0},{"$f":"$F10*J10","v":0},{"$f":"$F10*K10","v":0},{"$f":"$F10*L10","v":0},{"$f":"$F10*M10","v":0},{"$f":"$F10*N10","v":0},{"$f":"$F10*O10","v":0},{"$f":"$F10*P10","v":0},{"$f":"$F10*Q10","v":0},{"$f":"$F10*R10","v":0},{"$f":"$F10*S10","v":0},{"$f":"$F10*T10","v":0},{"$f":"$F10*U10","v":0},{"$f":"$F10*V10","v":0},{"$f":"$F10*W10","v":0},{"$f":"$F10*X10","v":0},{"$f":"$F10*Y10","v":0},{"$f":"$F10*Z10","v":0},{"$f":"$F10*AA10","v":0},{"$f":"$F10*AB10","v":0},{"$f":"$F10*AC10","v":0},{"$f":"$F10*AD10","v":0},{"$f":"$F10*AE10","v":0},{"$f":"$F10*AF10","v":0},{"$f":"$F10*AG10","v":0},{"$f":"$F10*AH10","v":0},{"$f":"$F10*AI10","v":0},{"$f":"$F10*AJ10","v":0},{"$f":"$F10*AK10","v":0},{"$f":"$F10*AL10","v":0},{"$f":"$F10*AM10","v":0},{"$f":"$F10*AN10","v":0},{"$f":"$F10*AO10","v":0},{"$f":"$F10*AP10","v":0},{"$f":"$F10*AQ10","v":0},{"$f":"$F10*AR10","v":0},{"$f":"$F10*AS10","v":0},{"$f":"$F10*AT10","v":0},{"$f":"$F10*AU10","v":0},{"$f":"$F10*AV10","v":0},0,0,0,0,0,0,0,0]
[null,null,"Ausfluss","Optiflex-Profix-Doppeldose     90°","½ x 16 x 16",1.3,null,null,null,null,null,null,null,null,null,null,null,null,null,null,null,null,null,null,null,null,null,null,null,null,null,null,null,null,null,null,null,null,null,null,null,null,null,null,null,null,null,null,null,null,null,null,null,null,null,null,null,0,0,0,0,0,0,0,0,0,0,0,0,0,0,0,0,0,0,0,0,0,0,0,0,0,0,0,0,0,0,0,0,0,0,0,0,0,0,0,0,0,0,0,0,0,0,0,0,0,0]
[null,null,null,null,"½ x 16 x 16",2.1,null,null,null,null,null,null,null,null,null,null,null,null,null,null,null,null,null,null,null,null,null,null,null,null,null,null,null,null,null,null,null,null,null,null,null,null,null,null,null,null,null,null,null,null,null,null,null,null,null,null,null,0,0,0,0,0,0,0,0,0,0,0,0,0,0,0,0,0,0,0,0,0,0,0,0,0,0,0,0,0,0,0,0,0,0,0,0,0,0,0,0,0,0,0,0,0,0,0,0,0,0]
[null,null,null,null,"½ x 20 x 20",2.1,null,null,null,null,null,null,null,null,null,null,null,null,null,null,null,null,null,null,null,null,null,null,null,null,null,null,null,null,null,null,null,null,null,null,null,null,null,null,null,null,null,null,null,null,null,null,null,null,null,null,null,0,0,0,0,0,0,0,0,0,0,0,0,0,0,0,0,0,0,0,0,0,0,0,0,0,0,0,0,0,0,0,0,0,0,0,0,0,0,0,0,0,0,0,0,0,0,0,0,0,0]
[null,85115,null,"Optiflex-Profix-Anschlusswinkel","½ x 16-25 mm",1.4,null,null,null,null,null,null,null,null,null,null,null,null,null,null,null,null,null,null,null,null,null,null,null,null,null,null,null,null,null,null,null,null,null,null,null,null,null,null,null,null,null,null,null,null,null,null,null,null,null,null,null,0,0,0,0,0,0,0,0,0,0,0,0,0,0,0,0,0,0,0,0,0,0,0,0,0,0,0,0,0,0,0,0,0,0,0,0,0,0,0,0,0,0,0,0,0,0,0,0,0,0]
[null,null,null,null,"½ x 20-25 mm",1.4,null,null,null,null,null,null,null,null,null,null,null,null,null,null,null,null,null,null,null,null,null,null,null,null,null,null,null,null,null,null,null,null,null,null,null,null,null,null,null,null,null,null,null,null,null,null,null,null,null,null,null,0,0,0,0,0,0,0,0,0,0,0,0,0,0,0,0,0,0,0,0,0,0,0,0,0,0,0,0,0,0,0,0,0,0,0,0,0,0,0,0,0,0,0,0,0,0,0,0,0,0]
[null,null,null,null,"¾ x 20-27 mm",1.3,null,null,null,null,null,null,null,null,null,null,null,null,null,null,null,null,null,null,null,null,null,null,null,null,null,null,null,null,null,null,null,null,null,null,null,null,null,null,null,null,null,null,null,null,null,null,null,null,null,null,null,0,0,0,0,0,0,0,0,0,0,0,0,0,0,0,0,0,0,0,0,0,0,0,0,0,0,0,0,0,0,0,0,0,0,0,0,0,0,0,0,0,0,0,0,0,0,0,0,0,0]
[null,null,null,null,"½ x 16-39 mm",1,null,null,null,null,null,null,null,null,null,null,null,null,null,null,null,null,null,null,null,null,null,null,null,null,null,null,null,null,null,null,null,null,null,null,null,null,null,null,null,null,null,null,null,null,null,null,null,null,null,null,null,0,0,0,0,0,0,0,0,0,0,0,0,0,0,0,0,0,0,0,0,0,0,0,0,0,0,0,0,0,0,0,0,0,0,0,0,0,0,0,0,0,0,0,0,0,0,0,0,0,0]
[null,null,null,null,"½ x 20-39 mm",3.6,null,null,null,null,null,null,null,null,null,null,null,null,null,null,null,null,null,null,null,null,null,null,null,null,null,null,null,null,null,null,null,null,null,null,null,null,null,null,null,null,null,null,null,null,null,null,null,null,null,null,null,0,0,0,0,0,0,0,0,0,0,0,0,0,0,0,0,0,0,0,0,0,0,0,0,0,0,0,0,0,0,0,0,0,0,0,0,0,0,0,0,0,0,0,0,0,0,0,0,0,0]
[null,85119,"Durchfluss","Optiflex-Profix-Doppel-An-schlusswinkel","½ x 16 x 16-39 mm",0.7,null,null,null,null,null,null,null,null,null,null,null,null,null,null,null,null,null,null,null,null,null,null,null,null,null,null,null,null,null,null,null,null,null,null,null,null,null,null,null,null,null,null,null,null,null,null,null,null,null,null,null,0,0,0,0,0,0,0,0,0,0,0,0,0,0,0,0,0,0,0,0,0,0,0,0,0,0,0,0,0,0,0,0,0,0,0,0,0,0,0,0,0,0,0,0,0,0,0,0,0,0]
[null,null,null,null,"½ x 20 x 16-39 mm",1,null,null,null,null,null,null,null,null,null,null,null,null,null,null,null,null,null,null,null,null,null,null,null,null,null,null,null,null,null,null,null,null,null,null,null,null,null,null,null,null,null,null,null,null,null,null,null,null,null,null,null,0,0,0,0,0,0,0,0,0,0,0,0,0,0,0,0,0,0,0,0,0,0,0,0,0,0,0,0,0,0,0,0,0,0,0,0,0,0,0,0,0,0,0,0,0,0,0,0,0,0]
[null,null,null,null,"½ x 20 x 20-39 mm",0.9,null,null,null,null,null,null,null,null,null,null,null,null,null,null,null,null,null,null,null,null,null,null,null,null,null,null,null,null,null,null,null,null,null,null,null,null,null,null,null,null,null,null,null,null,null,null,null,null,null,null,null,0,0,0,0,0,0,0,0,0,0,0,0,0,0,0,0,0,0,0,0,0,0,0,0,0,0,0,0,0,0,0,0,0,0,0,0,0,0,0,0,0,0,0,0,0,0,0,0,0,0]
[null,null,"Ausfluss","Optiflex-Profix-Doppel-An-schlusswinkel","½ x 16 x 16-39 mm",1.6,null,null,null,null,null,null,null,null,null,null,null,null,null,null,null,null,null,null,null,null,null,null,null,null,null,null,null,null,null,null,null,null,null,null,null,null,null,null,null,null,null,null,null,null,null,null,null,null,null,null,null,0,0,0,0,0,0,0,0,0,0,0,0,0,0,0,0,0,0,0,0,0,0,0,0,0,0,0,0,0,0,0,0,0,0,0,0,0,0,0,0,0,0,0,{"$f":"$F22*AX22","v":0},{"$f":"$F22*AY22","v":0},{"$f":"$F22*AZ22","v":0},{"$f":"$F22*BA22","v":0},{"$f":"$F22*BB22","v":0},{"$f":"$F22*BC22","v":0},{"$f":"$F22*BD22","v":0}]
[null,null,null,null,"½ x 20 x 16-39 mm",3.1,null,null,null,null,null,null,null,null,null,null,null,null,null,null,null,null,null,null,null,null,null,null,null,null,null,null,null,null,null,null,null,null,null,null,null,null,null,null,null,null,null,null,null,null,null,null,null,null,null,null,null,0,0,0,0,0,0,0,0,0,0,0,0,0,0,0,0,0,0,0,0,0,0,0,0,0,0,0,0,0,0,0,0,0,0,0,0,0,0,0,0,0,0,0,0,0,0,0,0,0,0]
[null,null,null,null,"½ x 20 x 20-39 mm",3.1,null,null,null,null,null,null,null,null,null,null,null,null,null,null,null,null,null,null,null,null,null,null,null,null,null,null,null,null,null,null,null,null,null,null,null,null,null,null,null,null,null,null,null,null,null,null,null,null,null,null,null,0,0,0,0,0,0,0,0,0,0,0,0,0,0,0,0,0,0,0,0,0,0,0,0,0,0,0,0,0,0,0,0,0,0,0,0,0,0,0,0,0,0,0,0,0,0,0,0,0,0]
[null,85140,null,"Optiflex-Profix-Bogen 90°","16 x 16",0.6,null,null,null,null,null,null,null,null,null,null,null,null,null,null,null,null,null,null,null,null,null,null,null,null,null,null,null,null,null,null,null,null,null,null,null,null,null,null,null,null,null,null,null,null,null,null,null,null,null,null,null,0,0,0,0,0,0,0,0,0,0,0,0,0,0,0,0,0,0,0,0,0,0,0,0,0,0,0,0,0,0,0,0,0,0,0,0,0,0,0,0,0,0,0,0,0,0,0,0,0,0]
[null,null,null,null,"20 x 20",0.5,null,null,null,null,null,null,null,null,null,null,null,null,null,null,null,null,null,null,null,null,null,null,null,null,null,null,null,null,null,null,null,null,null,null,null,null,null,null,null,null,null,null,null,null,null,null,null,null,null,null,null,0,0,0,0,0,0,0,0,0,0,0,0,0,0,0,0,0,0,0,0,0,0,0,0,0,0,0,0,0,0,0,0,0,0,0,0,0,0,0,0,0,0,0,0,0,0,0,0,0,0]
[null,null,null,null,"25 x 25",0.5,null,null,null,null,null,null,null,null,null,null,null,null,null,null,null,null,null,null,null,null,null,null,null,null,null,null,null,null,null,null,null,null,null,null,null,null,null,null,null,null,null,null,null,null,null,null,null,null,null,null,null,0,0,0,0,0,0,0,0,0,0,0,0,0,0,0,0,0,0,0,0,0,0,0,0,0,0,0,0,0,0,0,0,0,0,0,0,0,0,0,0,0,0,0,0,0,0,0,0,0,0]
[null,85142,"Durchfluss","Optiflex-Profix-    T-Stück",16,0.4,null,null,null,null,null,null,null,null,null,null,null,null,null,null,null,null,null,null,null,null,null,null,null,null,null,null,null,null,null,null,null,null,null,null,null,null,null,null,null,null,null,null,null,null,null,null,null,null,null,null,null,0,0,0,0,0,0,0,0,0,0,0,0,0,0,0,0,0,0,0,0,0,0,0,0,0,0,0,0,0,0,0,0,0,0,0,0,0,0,0,0,0,0,0,0,0,0,0,0,0,0,"Bei reduzierten T-Stücken wird der Widerstandswert des egalen T-Stückes mit der kleinsten Dimension des reduzierten T-Stückes für den zu berechnenden Fliessweg angesetzt."]
[null,null,null,null,20,0.3,null,null,null,null,null,null,null,null,null,null,null,null,null,null,null,null,null,null,null,null,null,null,null,null,null,null,null,null,null,null,null,null,null,null,null,null,null,null,null,null,null,null,null,null,null,null,null,null,null,null,null,0,0,0,0,0,0,0,0,0,0,0,0,0,0,0,0,0,0,0,0,0,0,0,0,0,0,0,0,0,0,0,0,0,0,0,0,0,0,0,0,0,0,0,0,0,0,0,0,0,0]
[null,null,null,null,25,0.2,null,null,null,null,null,null,null,null,null,null,null,null,null,null,null,null,null,null,null,null,null,null,null,null,null,null,null,null,null,null,null,null,null,null,null,null,null,null,null,null,null,null,null,null,null,null,null,null,null,null,null,0,0,0,0,0,0,0,0,0,0,0,0,0,0,0,0,0,0,0,0,0,0,0,0,0,0,0,0,0,0,0,0,0,0,0,0,0,0,0,0,0,0,0,0,0,0,0,0,0,0]
[null,null,"Abzweig","Optiflex-Profix-    T-Stück",16,0.9,null,null,null,null,null,null,null,null,null,null,null,null,null,null,null,null,null,null,null,null,null,null,null,null,null,null,null,null,null,null,null,null,null,null,null,null,null,null,null,null,null,null,null,null,null,null,null,null,null,null,null,0,0,0,0,0,0,0,0,0,0,0,0,0,0,0,0,0,0,0,0,0,0,0,0,0,0,0,0,0,0,0,0,0,0,0,0,0,0,0,0,0,0,0,0,0,0,0,0,0,0]
[null,null,null,null,20,0.9,null,null,null,null,null,null,null,null,null,null,null,null,null,null,null,null,null,null,null,null,null,null,null,null,null,null,null,null,null,null,null,null,null,null,null,null,null,null,null,null,null,null,null,null,null,null,null,null,null,null,null,0,0,0,0,0,0,0,0,0,0,0,0,0,0,0,0,0,0,0,0,0,0,0,0,0,0,0,0,0,0,0,0,0,0,0,0,0,0,0,0,0,0,0,0,0,0,0,0,0,0]
[null,null,null,null,25,1.1000000000000001,null,null,null,null,null,null,null,null,null,null,null,null,null,null,null,null,null,null,null,null,null,null,null,null,null,null,null,null,null,null,null,null,null,null,null,null,null,null,null,null,null,null,null,null,null,null,null,null,null,null,null,0,0,0,0,0,0,0,0,0,0,0,0,0,0,0,0,0,0,0,0,0,0,0,0,0,0,0,0,0,0,0,0,0,0,0,0,0,0,0,0,0,0,0,0,0,0,0,0,0,0]
[null,85136,null,"Optiflex-Profix-Kupplung","16 x 16",0.3,null,null,null,null,null,null,null,null,null,null,null,null,null,null,null,null,null,null,null,null,null,null,null,null,null,null,null,null,null,null,null,null,null,null,null,null,null,null,null,null,null,null,null,null,null,null,null,null,null,null,null,0,0,0,0,0,0,0,0,0,0,0,0,0,0,0,0,0,0,0,0,0,0,0,0,0,0,0,0,0,0,0,0,0,0,0,0,0,0,0,0,0,0,0,0,0,0,0,0,0,0]
[null,null,null,null,"20 x 20",0.2,null,null,null,null,null,null,null,null,null,null,null,null,null,null,null,null,null,null,null,null,null,null,null,null,null,null,null,null,null,null,null,null,null,null,null,null,null,null,null,null,null,null,null,null,null,null,null,null,null,null,null,0,0,0,0,0,0,0,0,0,0,0,0,0,0,0,0,0,0,0,0,0,0,0,0,0,0,0,0,0,0,0,0,0,0,0,0,0,0,0,0,0,0,0,0,0,0,0,0,0,0]
[null,null,null,null,"20 x 16",0.7,null,null,null,null,null,null,null,null,null,null,null,null,null,null,null,null,null,null,null,null,null,null,null,null,null,null,null,null,null,null,null,null,null,null,null,null,null,null,null,null,null,null,null,null,null,null,null,null,null,null,null,0,0,0,0,0,0,0,0,0,0,0,0,0,0,0,0,0,0,0,0,0,0,0,0,0,0,0,0,0,0,0,0,0,0,0,0,0,0,0,0,0,0,0,0,0,0,0,0,0,0]
[null,null,null,null,"25 x 25",0.1,null,null,null,null,null,null,null,null,null,null,null,null,null,null,null,null,null,null,null,null,null,null,null,null,null,null,null,null,null,null,null,null,null,null,null,null,null,null,null,null,null,null,null,null,null,null,null,null,null,null,null,0,0,0,0,0,0,0,0,0,0,0,0,0,0,0,0,0,0,0,0,0,0,0,0,0,0,0,0,0,0,0,0,0,0,0,0,0,0,0,0,0,0,0,0,0,0,0,0,0,0]
[null,null,null,null,"25 x 20",1,null,null,null,null,null,null,null,null,null,null,null,null,null,null,null,null,null,null,null,null,null,null,null,null,null,null,null,null,null,null,null,null,null,null,null,null,null,null,null,null,null,null,null,null,null,null,null,null,null,null,null,0,0,0,0,0,0,0,0,0,0,0,0,0,0,0,0,0,0,0,0,0,0,0,0,0,0,0,0,0,0,0,0,0,0,0,0,0,0,0,0,0,0,0,0,0,0,0,0,0,0]
[null,"86002 / 86003 mit 85150",null,"Optiflex-Verteiler",16,1,null,null,null,null,null,null,null,null,null,null,null,null,null,null,null,null,null,null,null,null,null,null,null,null,null,null,null,null,null,null,null,null,null,null,null,null,null,null,null,null,null,null,null,null,null,null,null,null,null,null,null,0,0,0,0,0,0,0,0,0,0,0,0,0,0,0,0,0,0,0,0,0,0,0,0,0,0,0,0,0,0,0,0,0,0,0,0,0,0,0,0,0,0,0,0,0,0,0,0,0,0]
[null,null,null,null,20,1,null,null,null,null,null,null,null,null,null,null,null,null,null,null,null,null,null,null,null,null,null,null,null,null,null,null,null,null,null,null,null,null,null,null,null,null,null,null,null,null,null,null,null,null,null,null,null,null,null,null,null,0,0,0,0,0,0,0,0,0,0,0,0,0,0,0,0,0,0,0,0,0,0,0,0,0,0,0,0,0,0,0,0,0,0,0,0,0,0,0,0,0,0,0,0,0,0,0,0,0,0]
[null,null,null,null,25,1,null,null,null,null,null,null,null,null,null,null,null,null,null,null,null,null,null,null,null,null,null,null,null,null,null,null,null,null,null,null,null,null,null,null,null,null,null,null,null,null,null,null,null,null,null,null,null,null,null,null,null,0,0,0,0,0,0,0,0,0,0,0,0,0,0,0,0,0,0,0,0,0,0,0,0,0,0,0,0,0,0,0,0,0,0,0,0,0,0,0,0,0,0,0,0,0,0,0,0,0,0]
[null,"Total z",null,null,null,null,{"$f":"BF42","v":0},0,0,0,0,0,0,0,0,0,0,0,0,0,0,0,0,0,0,0,0,0,0,0,0,0,0,0,0,0,0,0,0,0,0,0,0,0,0,0,0,0,0,{"$f":"CW42","v":0},0,0,0,0,0,0,null,{"$f":"SUM(BF6:BF41)","v":0},{"$f":"SUM(BG6:BG41)","v":0},0,0,0,0,0,0,0,0,0,0,0,0,0,0,0,0,0,0,0,0,0,0,0,0,0,0,0,0,0,0,0,0,0,0,0,0,0,0,0,0,0,{"$f":"SUM(CW6:CW41)","v":0},0,0,0,0,0,0]
[]
[]
[]
[null,{"$f":"'Perdita di pressione'!B65","v":"10.2024 V3.1. ©  R. Nussbaum SA"}]
[null,{"$f":"'Perdita di pressione'!B66","v":"L'utilizzatore è esclusivo responsabile della correttezza."}]

{"sheet":"Optiflex-Press","index":4,"n_rows":43,"n_cols":108,"rows_kept":43,"cut":false,"hidden":true,"merged":[[25,107,35,107],[20,3,21,3],[2,5,3,5],[1,1,1,5],[5,1,6,1],[5,2,6,2],[5,3,6,3],[2,1,3,1],[2,2,3,2],[2,3,3,3],[2,4,3,4],[22,1,24,1],[22,2,24,2],[22,3,24,3],[7,1,12,1],[7,2,9,2],[7,3,9,3],[10,2,12,2],[10,3,12,3],[13,1,17,1],[13,2,17,2],[13,3,17,3],[18,1,21,1],[18,2,19,2],[18,3,19,3],[20,2,21,2],[38,1,38,5],[25,1,30,1],[25,2,27,2],[25,3,27,3],[28,2,30,2],[28,3,30,3],[36,1,37,1],[36,2,37,2],[36,3,37,3],[31,1,35,1],[31,2,35,2],[31,3,35,3]]}
[]
[null,"Zum Löschen: Namensfeld auswählen und «Delete» drücken",null,null,null,null,"TS","TS","TS","TS","TS","TS","TS","TS","TS","TS","TS","TS","TS","TS","TS","TS","TS","TS","TS","TS","TS","TS","TS","TS","TS","TS","TS","TS","TS","TS","TS","TS","TS","TS","TS","TS","TS","TS","TS","TS","TS","TS","TS","TS","TS","TS","TS","TS","TS","TS"]
[null,"Nr.","Symbol","Bezeichnung","d","z",1,2,3,4,5,6,7,8,9,10,11,12,13,14,15,16,17,18,19,20,21,22,23,24,25,26,27,28,29,30,31,32,33,34,35,36,37,38,39,40,41,42,43,44,45,46,47,48,49,50]
[null,null,null,null,null,null,"Stk","Stk","Stk","Stk","Stk","Stk","Stk","Stk","Stk","Stk","Stk","Stk","Stk","Stk","Stk","Stk","Stk","Stk","Stk","Stk","Stk","Stk","Stk","Stk","Stk","Stk","Stk","Stk","Stk","Stk","Stk","Stk","Stk","Stk","Stk","Stk","Stk","Stk","Stk","Stk","Stk","Stk","Stk","Stk","Stk","Stk","Stk","Stk","Stk","Stk"]
[null,null,null,"Zeta-Total Optiflex-Press",null,null,{"$f":"G39","v":0},{"$f":"H39","v":0},0,0,0,0,0,0,0,0,0,0,0,0,0,0,0,0,0,0,0,0,0,0,0,0,0,0,0,0,0,0,0,0,0,0,0,0,0,0,0,0,0,0,0,0,0,0,0,0]
[null,"84110 84111",null,"Optiflex-Press-Dose 90° ","½ x 16",5.6,null,null,null,null,null,null,null,null,null,null,null,null,null,null,null,null,null,null,null,null,null,null,null,null,null,null,null,null,null,null,null,null,null,null,null,null,null,null,null,null,null,null,null,null,null,null,null,null,null,null,null,{"$f":"$F6*G6","v":0},0,0,0,0,0,0,0,0,0,0,0,0,0,0,0,0,0,0,0,{"$f":"$F6*AA6","v":0},0,0,0,0,0,0,0,0,0,0,0,0,0,0,0,{"$f":"$F6*AQ6","v":0},0,0,0,0,0,0,0,0,0,0,0,0,0]
[null,null,null,null,"½ x 20",3.3,null,null,null,null,null,null,null,null,null,null,null,null,null,null,null,null,null,null,null,null,null,null,null,null,null,null,null,null,null,null,null,null,null,null,null,null,null,null,null,null,null,null,null,null,null,null,null,null,null,null,null,{"$f":"$F7*G7","v":0},{"$f":"$F7*H7","v":0},0,0,0,0,0,0,0,0,0,{"$f":"$F7*R7","v":0},0,0,0,0,0,0,0,0,0,0,0,0,0,0,0,0,0,0,0,0,0,0,0,0,0,0,0,0,0,0,0,0,0,0,0,0,0,0]
[null,84117,"Durchfluss","Optiflex-Press-Doppeldose 90°","½ x 16 x 16",5.5,null,null,null,null,null,null,null,null,null,null,null,null,null,null,null,null,null,null,null,null,null,null,null,null,null,null,null,null,null,null,null,null,null,null,null,null,null,null,null,null,null,null,null,null,null,null,null,null,null,null,null,0,0,0,0,0,0,0,0,0,0,0,0,0,0,0,0,0,0,0,0,0,0,0,0,0,0,0,0,0,0,0,0,0,0,0,0,0,0,0,0,0,0,0,0,0,0,0,0,0,0]
[null,null,null,null,"½ x 20 x 16",3.4,null,null,null,null,null,null,null,null,null,null,null,null,null,null,null,null,null,null,null,null,null,null,null,null,null,null,null,null,null,null,null,null,null,null,null,null,null,null,null,null,null,null,null,null,null,null,null,null,null,null,null,0,0,0,0,0,0,0,0,0,0,0,0,0,0,0,0,0,0,0,0,0,0,0,0,0,0,0,0,0,0,0,0,0,0,0,0,0,0,0,0,0,0,0,0,0,0,0,0,0,0]
[null,null,null,null,"½ x 20 x 20",3.5,null,null,null,null,null,null,null,null,null,null,null,null,null,null,null,null,null,null,null,null,null,null,null,null,null,null,null,null,null,null,null,null,null,null,null,null,null,null,null,null,null,null,null,null,null,null,null,null,null,null,null,0,0,0,0,0,0,0,0,0,0,0,0,0,0,0,0,{"$f":"$F10*W10","v":0},0,0,0,0,0,0,0,0,0,0,0,0,0,0,0,0,0,0,0,0,0,0,0,0,0,0,0,0,0,0,0,0,0]
[null,null,"Ausfluss","Optiflex-Press-Doppeldose 90°","½ x 16 x 16",5.6,null,null,null,null,null,null,null,null,null,null,null,null,null,null,null,null,null,null,null,null,null,null,null,null,null,null,null,null,null,null,null,null,null,null,null,null,null,null,null,null,null,null,null,null,null,null,null,null,null,null,null,0,0,0,0,0,0,0,0,0,0,0,0,0,0,0,0,0,0,0,0,0,0,0,0,0,0,0,0,0,0,0,0,0,0,0,0,0,0,0,0,0,0,0,0,0,0,0,0,0,0]
[null,null,null,null,"½ x 16 x 16",3.3,null,null,null,null,null,null,null,null,null,null,null,null,null,null,null,null,null,null,null,null,null,null,null,null,null,null,null,null,null,null,null,null,null,null,null,null,null,null,null,null,null,null,null,null,null,null,null,null,null,null,null,0,0,0,0,0,0,0,0,0,0,0,0,0,0,0,0,0,0,0,0,0,0,0,0,0,0,0,0,0,0,0,0,0,0,0,0,0,0,0,0,0,0,0,0,0,0,0,0,0,0]
[null,null,null,null,"½ x 20 x 20",3.3,null,null,null,null,null,null,null,null,null,null,null,null,null,null,null,null,null,null,null,null,null,null,null,null,null,null,null,null,null,null,null,null,null,null,null,null,null,null,null,null,null,null,null,null,null,null,null,null,null,null,null,0,0,0,0,0,0,0,0,0,0,0,0,0,0,0,0,0,0,0,0,0,0,0,0,0,0,0,0,0,0,0,0,0,0,0,0,0,0,0,0,0,0,0,0,0,0,0,0,0,0]
[null,84021,null,"Optiflex-Press-Anschluss-winkel","½ x 16-30 mm",5.5,null,null,null,null,null,null,null,null,null,null,null,null,null,null,null,null,null,null,null,null,null,null,null,null,null,null,null,null,null,null,null,null,null,null,null,null,null,null,null,null,null,null,null,null,null,null,null,null,null,null,null,0,0,0,0,0,0,0,0,0,0,0,0,0,0,0,0,0,0,0,0,0,0,0,0,0,0,0,0,0,0,0,0,0,0,0,0,0,0,0,0,0,0,0,0,0,0,0,0,0,0]
[null,null,null,null,"½ x 20-30 mm",5.5,null,null,null,null,null,null,null,null,null,null,null,null,null,null,null,null,null,null,null,null,null,null,null,null,null,null,null,null,null,null,null,null,null,null,null,null,null,null,null,null,null,null,null,null,null,null,null,null,null,null,null,0,0,0,0,0,0,0,0,0,0,0,0,0,0,0,0,0,0,0,0,0,0,0,0,0,0,0,0,0,0,0,0,0,0,0,0,0,0,0,0,0,0,0,0,0,0,0,0,0,0]
[null,null,null,null,"¾ x 20-30 mm",3.4,null,null,null,null,null,null,null,null,null,null,null,null,null,null,null,null,null,null,null,null,null,null,null,null,null,null,null,null,null,null,null,null,null,null,null,null,null,null,null,null,null,null,null,null,null,null,null,null,null,null,null,0,0,0,0,0,0,0,0,0,0,0,0,0,0,0,0,0,0,0,0,0,0,0,0,0,0,0,0,0,0,0,0,0,0,0,0,0,0,0,0,0,0,0,0,0,0,0,0,0,0]
[null,null,null,null,"½ x 16-39 mm",5.6,null,null,null,null,null,null,null,null,null,null,null,null,null,null,null,null,null,null,null,null,null,null,null,null,null,null,null,null,null,null,null,null,null,null,null,null,null,null,null,null,null,null,null,null,null,null,null,null,null,null,null,0,0,0,0,0,0,0,0,0,0,0,0,0,0,0,0,0,0,0,0,0,0,0,0,0,0,0,0,0,0,0,0,0,0,0,0,0,0,0,0,0,0,0,0,0,0,0,0,0,0]
[null,null,null,null,"½ x 20-39 mm",3.6,null,null,null,null,null,null,null,null,null,null,null,null,null,null,null,null,null,null,null,null,null,null,null,null,null,null,null,null,null,null,null,null,null,null,null,null,null,null,null,null,null,null,null,null,null,null,null,null,null,null,null,0,0,0,0,0,0,0,0,0,0,0,0,0,0,0,0,0,0,0,0,0,0,0,0,0,0,0,0,0,0,0,0,0,0,0,0,0,0,0,0,0,0,0,0,0,0,0,0,0,0]
[null,84022,"Durchfluss","Optiflex-Press-Doppel-Anschlusswinkel","½ x 16 x 16-32 mm",7.1,null,null,null,null,null,null,null,null,null,null,null,null,null,null,null,null,null,null,null,null,null,null,null,null,null,null,null,null,null,null,null,null,null,null,null,null,null,null,null,null,null,null,null,null,null,null,null,null,null,null,null,0,0,0,0,0,0,0,0,0,0,0,0,0,0,0,0,0,0,0,0,0,0,0,0,0,0,0,0,0,0,0,0,0,0,0,0,0,0,0,0,0,0,0,0,0,0,0,0,0,0]
[null,null,null,null,"½ x 20 x 20-32 mm",5.4,null,null,null,null,null,null,null,null,null,null,null,null,null,null,null,null,null,null,null,null,null,null,null,null,null,null,null,null,null,null,null,null,null,null,null,null,null,null,null,null,null,null,null,null,null,null,null,null,null,null,null,0,0,0,0,0,0,0,0,0,0,0,0,0,0,0,0,0,0,0,0,0,0,0,0,0,0,0,0,0,0,0,0,0,0,0,0,0,0,0,0,0,0,0,0,0,0,0,0,0,0]
[null,null,"Ausfluss","Optiflex-Press-Doppel-Anschlusswinkel","½ x 16 x 16-32 mm",4.3,null,null,null,null,null,null,null,null,null,null,null,null,null,null,null,null,null,null,null,null,null,null,null,null,null,null,null,null,null,null,null,null,null,null,null,null,null,null,null,null,null,null,null,null,null,null,null,null,null,null,null,0,0,0,0,0,0,0,0,0,0,0,0,0,0,0,0,0,0,0,0,0,0,0,0,0,0,0,0,0,0,0,0,0,0,0,{"$f":"$F21*AP21","v":0},0,0,0,0,0,0,0,0,0,0,0,0,0,0]
[null,null,null,null,"½ x 20 x 20-32 mm",6,null,null,null,null,null,null,null,null,null,null,null,null,null,null,null,null,null,null,null,null,null,null,null,null,null,null,null,null,null,null,null,null,null,null,null,null,null,null,null,null,null,null,null,null,null,null,null,null,null,null,null,0,0,0,0,0,0,0,0,0,0,0,0,0,0,0,0,0,0,0,0,0,0,0,0,0,0,0,0,0,0,0,0,{"$f":"$F22*AM22","v":0},0,0,0,0,0,0,0,0,0,0,0,0,0,0,0,0,0]
[null,84076,null,"Optiflex-Press-Bogen 90°","16 x 16",5.4,null,null,null,null,null,null,null,null,null,null,null,null,null,null,null,null,null,null,null,null,null,null,null,null,null,null,null,null,null,null,null,null,null,null,null,null,null,null,null,null,null,null,null,null,null,null,null,null,null,null,null,0,0,0,0,0,0,0,0,0,0,0,0,0,0,0,0,0,0,0,0,0,0,0,0,0,0,0,0,0,0,0,0,0,0,0,0,0,0,0,0,0,0,0,0,0,0,0,0,0,0]
[null,null,null,null,"20 x 20",3.2,null,null,null,null,null,null,null,null,null,null,null,null,null,null,null,null,null,null,null,null,null,null,null,null,null,null,null,null,null,null,null,null,null,null,null,null,null,null,null,null,null,null,null,null,null,null,null,null,null,null,null,0,0,0,0,0,0,0,0,0,0,0,0,0,0,0,0,0,0,0,0,0,0,0,0,0,0,0,0,0,0,0,0,0,0,0,0,0,0,0,0,0,0,0,0,0,0,0,0,0,0]
[null,null,null,null,"25 x 25",3.7,null,null,null,null,null,null,null,null,null,null,null,null,null,null,null,null,null,null,null,null,null,null,null,null,null,null,null,null,null,null,null,null,null,null,null,null,null,null,null,null,null,null,null,null,null,null,null,null,null,null,null,0,0,0,0,0,0,0,0,0,0,0,0,{"$f":"$F25*S25","v":0},0,0,0,0,0,0,0,0,0,0,0,0,0,0,0,0,0,0,0,0,0,0,0,0,0,0,0,0,0,0,0,0,0,0,0,0,0]
[null,84077,"Durchfluss","Optiflex-Press-T-Stück",16,4.5999999999999996,null,null,null,null,null,null,null,null,null,null,null,null,null,null,null,null,null,null,null,null,null,null,null,null,null,null,null,null,null,null,null,null,null,null,null,null,null,null,null,null,null,null,null,null,null,null,null,null,null,null,null,{"$f":"$F26*G26","v":0},0,0,0,0,0,0,0,0,0,0,0,0,0,0,0,0,0,0,0,0,0,0,0,0,0,0,0,0,0,0,0,0,0,0,0,0,0,0,0,0,0,0,0,0,0,0,0,0,0,"Bei reduzierten T-Stücken wird der Widerstandswert des egalen T-Stückes mit der kleinsten Dimension des reduzierten T-Stückes für den zu berechnenden Fliessweg angesetzt."]
[null,null,null,null,20,2.2999999999999998,null,null,null,null,null,null,null,null,null,null,null,null,null,null,null,null,null,null,null,null,null,null,null,null,null,null,null,null,null,null,null,null,null,null,null,null,null,null,null,null,null,null,null,null,null,null,null,null,null,null,null,0,0,0,0,0,0,0,0,0,0,0,0,0,0,0,0,0,0,0,0,0,0,0,0,0,0,0,0,0,0,0,0,0,0,0,0,0,0,0,0,0,0,0,0,0,0,0,0,0,0]
[null,null,null,null,25,2.8,null,null,null,null,null,null,null,null,null,null,null,null,null,null,null,null,null,null,null,null,null,null,null,null,null,null,null,null,null,null,null,null,null,null,null,null,null,null,null,null,null,null,null,null,null,null,null,null,null,null,null,0,0,0,0,0,0,0,0,0,0,0,0,0,0,0,0,0,0,0,0,0,0,0,0,0,0,0,0,0,0,0,0,0,0,0,0,0,0,0,0,0,0,0,0,0,0,0,0,0,0]
[null,null,"Abzweig","Optiflex-Press-T-Stück",16,7.6,null,null,null,null,null,null,null,null,null,null,null,null,null,null,null,null,null,null,null,null,null,null,null,null,null,null,null,null,null,null,null,null,null,null,null,null,null,null,null,null,null,null,null,null,null,null,null,null,null,null,null,0,0,0,0,0,0,0,0,0,0,0,0,0,0,0,0,0,0,0,0,0,0,0,0,0,0,0,0,0,0,0,0,0,0,0,0,0,0,0,0,0,0,0,0,0,0,0,0,0,0]
[null,null,null,null,20,3.9,null,null,null,null,null,null,null,null,null,null,null,null,null,null,null,null,null,null,null,null,null,null,null,null,null,null,null,null,null,null,null,null,null,null,null,null,null,null,null,null,null,null,null,null,null,null,null,null,null,null,null,0,0,0,0,0,0,0,0,0,0,0,0,0,0,0,0,0,0,0,0,0,0,0,0,0,0,0,0,0,0,0,0,0,0,0,0,0,0,0,0,0,0,0,0,0,0,0,0,0,0]
[null,null,null,null,25,4.9000000000000004,null,null,null,null,null,null,null,null,null,null,null,null,null,null,null,null,null,null,null,null,null,null,null,null,null,null,null,null,null,null,null,null,null,null,null,null,null,null,null,null,null,null,null,null,null,null,null,null,null,null,null,0,0,0,0,0,0,0,0,0,0,0,0,0,0,0,0,0,0,0,0,0,0,0,0,0,0,0,0,0,0,0,0,0,0,0,0,0,0,0,0,0,0,0,0,0,0,0,0,0,0]
[null,84075,null,"Optiflex-Press-Kupplung","16 x 16",2.7,null,null,null,null,null,null,null,null,null,null,null,null,null,null,null,null,null,null,null,null,null,null,null,null,null,null,null,null,null,null,null,null,null,null,null,null,null,null,null,null,null,null,null,null,null,null,null,null,null,null,null,0,0,0,0,0,0,0,0,0,0,0,0,0,0,0,0,0,0,0,0,0,0,0,0,0,0,0,0,0,0,0,0,0,0,0,0,0,0,0,0,0,0,0,0,0,0,0,0,0,0]
[null,null,null,null,"20 x 20",1.8,null,null,null,null,null,null,null,null,null,null,null,null,null,null,null,null,null,null,null,null,null,null,null,null,null,null,null,null,null,null,null,null,null,null,null,null,null,null,null,null,null,null,null,null,null,null,null,null,null,null,null,0,0,0,0,0,0,0,0,0,0,0,0,0,0,0,0,0,0,0,0,0,0,0,0,0,0,0,0,0,0,0,0,0,0,0,0,0,0,0,0,0,0,0,0,0,0,0,0,0,0]
[null,null,null,null,"20 x 16",3.1,null,null,null,null,null,null,null,null,null,null,null,null,null,null,null,null,null,null,null,null,null,null,null,null,null,null,null,null,null,null,null,null,null,null,null,null,null,null,null,null,null,null,null,null,null,null,null,null,null,null,null,0,0,0,0,0,0,0,0,0,0,0,0,0,0,0,0,0,0,0,0,0,0,0,0,0,0,0,0,0,0,0,{"$f":"$F34*AL34","v":0},0,0,0,0,0,0,0,0,0,0,0,0,0,0,0,0,0,0]
[null,null,null,null,"25 x 25",2,null,null,null,null,null,null,null,null,null,null,null,null,null,null,null,null,null,null,null,null,null,null,null,null,null,null,null,null,null,null,null,null,null,null,null,null,null,null,null,null,null,null,null,null,null,null,null,null,null,null,null,0,0,0,0,0,0,0,0,0,0,0,0,0,0,0,0,0,0,0,0,0,0,0,0,0,0,0,0,{"$f":"$F35*AI35","v":0},0,0,0,0,0,0,0,0,0,0,0,0,0,0,0,0,0,0,0,0,0]
[null,null,null,null,"25 x 20",2,null,null,null,null,null,null,null,null,null,null,null,null,null,null,null,null,null,null,null,null,null,null,null,null,null,null,null,null,null,null,null,null,null,null,null,null,null,null,null,null,null,null,null,null,null,null,null,null,null,null,null,0,0,0,0,0,0,0,0,0,0,0,0,0,0,0,0,0,0,0,0,0,0,0,0,0,0,0,0,0,0,0,0,0,0,0,0,0,0,0,0,0,0,0,0,0,0,0,0,0,0]
[null,"86002 / 86003 mit 84008",null,null,16,2.2000000000000002,null,null,null,null,null,null,null,null,null,null,null,null,null,null,null,null,null,null,null,null,null,null,null,null,null,null,null,null,null,null,null,null,null,null,null,null,null,null,null,null,null,null,null,null,null,null,null,null,null,null,null,0,0,0,0,0,0,0,0,0,0,0,0,0,0,0,0,0,0,0,0,0,0,0,0,0,0,0,0,0,0,0,0,0,0,0,0,0,0,0,0,0,0,0,0,0,0,0,0,0,0]
[null,null,null,null,20,1.9,null,null,null,null,null,null,null,null,null,null,null,null,null,null,null,null,null,null,null,null,null,null,null,null,null,null,null,null,null,null,null,null,null,null,null,null,null,null,null,null,null,null,null,null,null,null,null,null,null,null,null,0,0,0,0,0,0,0,0,0,0,0,0,0,0,0,0,0,0,0,0,0,0,0,0,0,0,0,0,0,0,0,0,0,0,0,0,0,0,0,0,0,0,0,0,0,0,0,0,0,{"$f":"$F38*BD38","v":0}]
[null,"Total z",null,null,null,null,{"$f":"BF39","v":0},{"$f":"BG39","v":0},0,0,0,0,0,0,0,0,0,0,0,0,0,0,0,0,0,0,0,0,0,0,0,0,0,0,0,0,0,0,0,0,0,0,0,0,0,0,0,0,0,0,0,0,0,0,0,0,null,{"$f":"SUM(BF6:BF38)","v":0},{"$f":"SUM(BG6:BG38)","v":0},{"$f":"SUM(BH6:BH38)","v":0},{"$f":"SUM(BI6:BI38)","v":0},{"$f":"SUM(BJ6:BJ38)","v":0},{"$f":"SUM(BK6:BK38)","v":0},{"$f":"SUM(BL6:BL38)","v":0},{"$f":"SUM(BM6:BM38)","v":0},{"$f":"SUM(BN6:BN38)","v":0},{"$f":"SUM(BO6:BO38)","v":0},{"$f":"SUM(BP6:BP38)","v":0},{"$f":"SUM(BQ6:BQ38)","v":0},{"$f":"SUM(BR6:BR38)","v":0},{"$f":"SUM(BS6:BS38)","v":0},{"$f":"SUM(BT6:BT38)","v":0},{"$f":"SUM(BU6:BU38)","v":0},{"$f":"SUM(BV6:BV38)","v":0},{"$f":"SUM(BW6:BW38)","v":0},{"$f":"SUM(BX6:BX38)","v":0},{"$f":"SUM(BY6:BY38)","v":0},{"$f":"SUM(BZ6:BZ38)","v":0},{"$f":"SUM(CA6:CA38)","v":0},{"$f":"SUM(CB6:CB38)","v":0},{"$f":"SUM(CC6:CC38)","v":0},{"$f":"SUM(CD6:CD38)","v":0},{"$f":"SUM(CE6:CE38)","v":0},{"$f":"SUM(CF6:CF38)","v":0},{"$f":"SUM(CG6:CG38)","v":0},{"$f":"SUM(CH6:CH38)","v":0},{"$f":"SUM(CI6:CI38)","v":0},{"$f":"SUM(CJ6:CJ38)","v":0},{"$f":"SUM(CK6:CK38)","v":0},{"$f":"SUM(CL6:CL38)","v":0},{"$f":"SUM(CM6:CM38)","v":0},{"$f":"SUM(CN6:CN38)","v":0},{"$f":"SUM(CO6:CO38)","v":0},{"$f":"SUM(CP6:CP38)","v":0},{"$f":"SUM(CQ6:CQ38)","v":0},{"$f":"SUM(CR6:CR38)","v":0},{"$f":"SUM(CS6:CS38)","v":0},{"$f":"SUM(CT6:CT38)","v":0},{"$f":"SUM(CU6:CU38)","v":0},{"$f":"SUM(CV6:CV38)","v":0},{"$f":"SUM(CW6:CW38)","v":0},{"$f":"SUM(CX6:CX38)","v":0},{"$f":"SUM(CY6:CY38)","v":0},{"$f":"SUM(CZ6:CZ38)","v":0},{"$f":"SUM(DA6:DA38)","v":0},{"$f":"SUM(DB6:DB38)","v":0},{"$f":"SUM(DC6:DC38)","v":0}]
[]
[]
[null,{"$f":"'Perdita di pressione'!B65","v":"10.2024 V3.1. ©  R. Nussbaum SA"}]
[null,{"$f":"'Perdita di pressione'!B66","v":"L'utilizzatore è esclusivo responsabile della correttezza."}]

{"sheet":"Optiarmatur","index":5,"n_rows":39,"n_cols":107,"rows_kept":39,"cut":false,"hidden":true,"merged":[[5,1,11,1],[5,2,11,2],[5,3,11,3],[2,4,3,4],[2,5,3,5],[2,1,3,1],[2,2,3,2],[2,3,3,3],[34,1,34,5],[12,1,21,1],[12,2,21,2],[12,3,21,3],[22,1,28,1],[22,2,28,2],[22,3,28,3],[29,1,31,1],[29,2,31,2],[29,3,31,3]]}
[]
[null,"Zum Löschen: Namensfeld auswählen und «Delete» drücken",null,null,null,null,"TS","TS","TS","TS","TS","TS","TS","TS","TS","TS","TS","TS","TS","TS","TS","TS","TS","TS","TS","TS","TS","TS","TS","TS","TS","TS","TS","TS","TS","TS","TS","TS","TS","TS","TS","TS","TS","TS","TS","TS","TS","TS","TS","TS","TS","TS","TS","TS","TS","TS"]
[null,"Nr.","Symbol","Bezeichnung","d","z",1,2,3,4,5,6,7,8,9,10,11,12,13,14,15,16,17,18,19,20,21,22,23,24,25,26,27,28,29,30,31,32,33,34,35,36,37,38,39,40,41,42,43,44,45,46,47,48,49,50]
[null,null,null,null,null,null,"Stk","Stk","Stk","Stk","Stk","Stk","Stk","Stk","Stk","Stk","Stk","Stk","Stk","Stk","Stk","Stk","Stk","Stk","Stk","Stk","Stk","Stk","Stk","Stk","Stk","Stk","Stk","Stk","Stk","Stk","Stk","Stk","Stk","Stk","Stk","Stk","Stk","Stk","Stk","Stk","Stk","Stk","Stk","Stk","Stk","Stk","Stk","Stk","Stk","Stk"]
[null,null,null,"Zeta-Total Optiarmatur",null,null,{"$f":"G35","v":0},0,0,0,0,0,0,0,0,0,0,0,0,0,0,0,0,0,0,0,{"$f":"AA35","v":0},0,0,0,0,0,0,0,0,0,0,0,0,0,0,0,0,0,0,0,0,0,0,0,0,0,0,0,0,0]
[null,"22000 22002 22004 22006",null,"Schrägsitzventil",0.5,2,null,null,null,null,null,null,null,null,null,null,null,null,null,null,null,null,null,null,null,null,null,null,null,null,null,null,null,null,null,null,null,null,null,null,null,null,null,null,null,null,null,null,null,null,null,null,null,null,null,null,null,{"$f":"$F6*G6","v":0},0,0,0,0,0,0,0,0,0,0,0,0,0,0,0,0,0,0,0,{"$f":"$F6*AA6","v":0},0,0,0,0,0,0,0,0,0,0,0,0,0,0,0,{"$f":"$F6*AQ6","v":0},0,0,0,0,0,0,0,0,0,0,0,0,0]
[null,null,null,null,0.75,1.7,null,null,null,null,null,null,null,null,null,null,null,null,null,null,null,null,null,null,null,null,null,null,null,null,null,null,null,null,null,null,null,null,null,null,null,null,null,null,null,null,null,null,null,null,null,null,null,null,null,null,null,{"$f":"$F7*G7","v":0},{"$f":"$F7*H7","v":0},0,0,0,0,0,0,0,0,0,{"$f":"$F7*R7","v":0},0,0,0,0,0,0,0,0,0,0,0,0,0,0,0,0,0,0,0,0,0,0,0,0,0,0,0,0,0,0,0,0,0,0,0,0,0,0]
[null,null,null,null,1,1.4,null,null,null,null,null,null,null,null,null,null,null,null,null,null,null,null,null,null,null,null,null,null,null,null,null,null,null,null,null,null,null,null,null,null,null,null,null,null,null,null,null,null,null,null,null,null,null,null,null,null,null,0,0,0,0,0,0,0,0,0,0,0,0,0,0,0,0,0,0,0,0,0,0,0,0,0,0,0,0,0,0,0,0,0,0,0,0,0,0,0,0,0,0,0,0,0,0,0,0,0,0]
[null,null,null,null,1.25,1.2,null,null,null,null,null,null,null,null,null,null,null,null,null,null,null,null,null,null,null,null,null,null,null,null,null,null,null,null,null,null,null,null,null,null,null,null,null,null,null,null,null,null,null,null,null,null,null,null,null,null,null,0,0,0,0,0,0,0,0,0,0,0,0,0,0,0,0,0,0,0,0,0,0,0,0,0,0,0,0,0,0,0,0,0,0,0,0,0,0,0,0,0,0,0,0,0,0,0,0,0,0]
[null,null,null,null,1.5,1.6,null,null,null,null,null,null,null,null,null,null,null,null,null,null,null,null,null,null,null,null,null,null,null,null,null,null,null,null,null,null,null,null,null,null,null,null,null,null,null,null,null,null,null,null,null,null,null,null,null,null,null,0,0,0,0,0,0,0,0,0,0,0,0,0,0,0,0,{"$f":"$F10*W10","v":0},0,0,0,0,0,0,0,0,0,0,0,0,0,0,0,0,0,0,0,0,0,0,0,0,0,0,0,0,0,0,0,0,0]
[null,null,null,null,2,1.5,null,null,null,null,null,null,null,null,null,null,null,null,null,null,null,null,null,null,null,null,null,null,null,null,null,null,null,null,null,null,null,null,null,null,null,null,null,null,null,null,null,null,null,null,null,null,null,null,null,null,null,0,0,0,0,0,0,0,0,0,0,0,0,0,0,0,0,0,0,0,0,0,0,0,0,0,0,0,0,0,0,0,0,0,0,0,0,0,0,0,0,0,0,0,0,0,0,0,0,0,0]
[null,null,null,null,2.5,1.5,null,null,null,null,null,null,null,null,null,null,null,null,null,null,null,null,null,null,null,null,null,null,null,null,null,null,null,null,null,null,null,null,null,null,null,null,null,null,null,null,null,null,null,null,null,null,null,null,null,null,null,0,0,0,0,0,0,0,0,0,0,0,0,0,0,0,0,0,0,0,0,0,0,0,0,0,0,0,0,0,0,0,0,0,0,0,0,0,0,0,0,0,0,0,0,0,0,0,0,0,0]
[null,22050,null,"Batterieventil","1 x 25",1.2,null,null,null,null,null,null,null,null,null,null,null,null,null,null,null,null,null,null,null,null,null,null,null,null,null,null,null,null,null,null,null,null,null,null,null,null,null,null,null,null,null,null,null,null,null,null,null,null,null,null,null,0,0,0,0,0,0,0,0,0,0,0,0,0,0,0,0,0,0,0,0,0,0,0,0,0,0,0,0,0,0,0,0,0,0,0,0,0,0,0,0,0,0,0,0,0,0,0,0,0,0]
[null,null,null,null,"1 1/4 x 25",1.8,null,null,null,null,null,null,null,null,null,null,null,null,null,null,null,null,null,null,null,null,null,null,null,null,null,null,null,null,null,null,null,null,null,null,null,null,null,null,null,null,null,null,null,null,null,null,null,null,null,null,null,0,0,0,0,0,0,0,0,0,0,0,0,0,0,0,0,0,0,0,0,0,0,0,0,0,0,0,0,0,0,0,0,0,0,0,0,0,0,0,0,0,0,0,0,0,0,0,0,0,0]
[null,null,null,null,"1 1/4 x 32",0.9,null,null,null,null,null,null,null,null,null,null,null,null,null,null,null,null,null,null,null,null,null,null,null,null,null,null,null,null,null,null,null,null,null,null,null,null,null,null,null,null,null,null,null,null,null,null,null,null,null,null,null,0,0,0,0,0,0,0,0,0,0,0,0,0,0,0,0,0,0,0,0,0,0,0,0,0,0,0,0,0,0,0,0,0,0,0,0,0,0,0,0,0,0,0,0,0,0,0,0,0,0]
[null,null,null,null,"1 1/2 x 32",1.3,null,null,null,null,null,null,null,null,null,null,null,null,null,null,null,null,null,null,null,null,null,null,null,null,null,null,null,null,null,null,null,null,null,null,null,null,null,null,null,null,null,null,null,null,null,null,null,null,null,null,null,0,0,0,0,0,0,0,0,0,0,0,0,0,0,0,0,0,0,0,0,0,0,0,0,0,0,0,0,0,0,0,0,0,0,0,0,0,0,0,0,0,0,0,0,0,0,0,0,0,0]
[null,null,null,null,"1 1/2 x 40",1.4,null,null,null,null,null,null,null,null,null,null,null,null,null,null,null,null,null,null,null,null,null,null,null,null,null,null,null,null,null,null,null,null,null,null,null,null,null,null,null,null,null,null,null,null,null,null,null,null,null,null,null,0,0,0,0,0,0,0,0,0,0,0,0,0,0,0,0,0,0,0,0,0,0,0,0,0,0,0,0,0,0,0,0,0,0,0,0,0,0,0,0,0,0,0,0,0,0,0,0,0,0]
[null,null,null,null,"2 x 32",1.5,null,null,null,null,null,null,null,null,null,null,null,null,null,null,null,null,null,null,null,null,null,null,null,null,null,null,null,null,null,null,null,null,null,null,null,null,null,null,null,null,null,null,null,null,null,null,null,null,null,null,null,0,0,0,0,0,0,0,0,0,0,0,0,0,0,0,0,0,0,0,0,0,0,0,0,0,0,0,0,0,0,0,0,0,0,0,0,0,0,0,0,0,0,0,0,0,0,0,0,0,0]
[null,null,null,null,"2 x 50",1.5,null,null,null,null,null,null,null,null,null,null,null,null,null,null,null,null,null,null,null,null,null,null,null,null,null,null,null,null,null,null,null,null,null,null,null,null,null,null,null,null,null,null,null,null,null,null,null,null,null,null,null,0,0,0,0,0,0,0,0,0,0,0,0,0,0,0,0,0,0,0,0,0,0,0,0,0,0,0,0,0,0,0,0,0,0,0,0,0,0,0,0,0,0,0,0,0,0,0,0,0,0]
[null,null,null,null,"2 1//2 x 32",1.5,null,null,null,null,null,null,null,null,null,null,null,null,null,null,null,null,null,null,null,null,null,null,null,null,null,null,null,null,null,null,null,null,null,null,null,null,null,null,null,null,null,null,null,null,null,null,null,null,null,null,null,0,0,0,0,0,0,0,0,0,0,0,0,0,0,0,0,0,0,0,0,0,0,0,0,0,0,0,0,0,0,0,0,0,0,0,0,0,0,0,0,0,0,0,0,0,0,0,0,0,0]
[null,null,null,null,"2 1/2 x 50",1.9,null,null,null,null,null,null,null,null,null,null,null,null,null,null,null,null,null,null,null,null,null,null,null,null,null,null,null,null,null,null,null,null,null,null,null,null,null,null,null,null,null,null,null,null,null,null,null,null,null,null,null,0,0,0,0,0,0,0,0,0,0,0,0,0,0,0,0,0,0,0,0,0,0,0,0,0,0,0,0,0,0,0,0,0,0,0,{"$f":"$F21*AP21","v":0},0,0,0,0,0,0,0,0,0,0,0,0,0,0]
[null,null,null,null,"2 1/2 x 65",1.8,null,null,null,null,null,null,null,null,null,null,null,null,null,null,null,null,null,null,null,null,null,null,null,null,null,null,null,null,null,null,null,null,null,null,null,null,null,null,null,null,null,null,null,null,null,null,null,null,null,null,null,0,0,0,0,0,0,0,0,0,0,0,0,0,0,0,0,0,0,0,0,0,0,0,0,0,0,0,0,0,0,0,0,{"$f":"$F22*AM22","v":0},0,0,0,0,0,0,0,0,0,0,0,0,0,0,0,0,0]
[null,23000,null,"Gradsitzventil",0.5,5.7,null,null,null,null,null,null,null,null,null,null,null,null,null,null,null,null,null,null,null,null,null,null,null,null,null,null,null,null,null,null,null,null,null,null,null,null,null,null,null,null,null,null,null,null,null,null,null,null,null,null,null,0,0,0,0,0,0,0,0,0,0,0,0,0,0,0,0,0,0,0,0,0,0,0,0,0,0,0,0,0,0,0,0,0,0,0,0,0,0,0,0,0,0,0,0,0,0,0,0,0,0]
[null,null,null,null,0.75,7.4,null,null,null,null,null,null,null,null,null,null,null,null,null,null,null,null,null,null,null,null,null,null,null,null,null,null,null,null,null,null,null,null,null,null,null,null,null,null,null,null,null,null,null,null,null,null,null,null,null,null,null,0,0,0,0,0,0,0,0,0,0,0,0,0,0,0,0,0,0,0,0,0,0,0,0,0,0,0,0,0,0,0,0,0,0,0,0,0,0,0,0,0,0,0,0,0,0,0,0,0,0]
[null,null,null,null,1,7,null,null,null,null,null,null,null,null,null,null,null,null,null,null,null,null,null,null,null,null,null,null,null,null,null,null,null,null,null,null,null,null,null,null,null,null,null,null,null,null,null,null,null,null,null,null,null,null,null,null,null,0,0,0,0,0,0,0,0,0,0,0,0,{"$f":"$F25*S25","v":0},0,0,0,0,0,0,0,0,0,0,0,0,0,0,0,0,0,0,0,0,0,0,0,0,0,0,0,0,0,0,0,0,0,0,0,0,0]
[null,null,null,null,1.25,6.5,null,null,null,null,null,null,null,null,null,null,null,null,null,null,null,null,null,null,null,null,null,null,null,null,null,null,null,null,null,null,null,null,null,null,null,null,null,null,null,null,null,null,null,null,null,null,null,null,null,null,null,{"$f":"$F26*G26","v":0},0,0,0,0,0,0,0,0,0,0,0,0,0,0,0,0,0,0,0,0,0,0,0,0,0,0,0,0,0,0,0,0,0,0,0,0,0,0,0,0,0,0,0,0,0,0,0,0,0]
[null,null,null,null,1.5,8.5,null,null,null,null,null,null,null,null,null,null,null,null,null,null,null,null,null,null,null,null,null,null,null,null,null,null,null,null,null,null,null,null,null,null,null,null,null,null,null,null,null,null,null,null,null,null,null,null,null,null,null,0,0,0,0,0,0,0,0,0,0,0,0,0,0,0,0,0,0,0,0,0,0,0,0,0,0,0,0,0,0,0,0,0,0,0,0,0,0,0,0,0,0,0,0,0,0,0,0,0,0]
[null,null,null,null,2,8,null,null,null,null,null,null,null,null,null,null,null,null,null,null,null,null,null,null,null,null,null,null,null,null,null,null,null,null,null,null,null,null,null,null,null,null,null,null,null,null,null,null,null,null,null,null,null,null,null,null,null,0,0,0,0,0,0,0,0,0,0,0,0,0,0,0,0,0,0,0,0,0,0,0,0,0,0,0,0,0,0,0,0,0,0,0,0,0,0,0,0,0,0,0,0,0,0,0,0,0,0]
[null,null,null,null,2.5,9.1999999999999993,null,null,null,null,null,null,null,null,null,null,null,null,null,null,null,null,null,null,null,null,null,null,null,null,null,null,null,null,null,null,null,null,null,null,null,null,null,null,null,null,null,null,null,null,null,null,null,null,null,null,null,0,0,0,0,0,0,0,0,0,0,0,0,0,0,0,0,0,0,0,0,0,0,0,0,0,0,0,0,0,0,0,0,0,0,0,0,0,0,0,0,0,0,0,0,0,0,0,0,0,0]
[null,23030,null,"Unterputtz-Gradsittz--ventil",0.5,3.3,null,null,null,null,null,null,null,null,null,null,null,null,null,null,null,null,null,null,null,null,null,null,null,null,null,null,null,null,null,null,null,null,null,null,null,null,null,null,null,null,null,null,null,null,null,null,null,null,null,null,null,0,0,0,0,0,0,0,0,0,0,0,0,0,0,0,0,0,0,0,0,0,0,0,0,0,0,0,0,0,0,0,0,0,0,0,0,0,0,0,0,0,0,0,0,0,0,0,0,0,0]
[null,null,null,null,0.75,6.9,null,null,null,null,null,null,null,null,null,null,null,null,null,null,null,null,null,null,null,null,null,null,null,null,null,null,null,null,null,null,null,null,null,null,null,null,null,null,null,null,null,null,null,null,null,null,null,null,null,null,null,0,0,0,0,0,0,0,0,0,0,0,0,0,0,0,0,0,0,0,0,0,0,0,0,0,0,0,0,0,0,0,0,0,0,0,0,0,0,0,0,0,0,0,0,0,0,0,0,0,0]
[null,null,null,null,1,12.3,null,null,null,null,null,null,null,null,null,null,null,null,null,null,null,null,null,null,null,null,null,null,null,null,null,null,null,null,null,null,null,null,null,null,null,null,null,null,null,null,null,null,null,null,null,null,null,null,null,null,null,0,0,0,0,0,0,0,0,0,0,0,0,0,0,0,0,0,0,0,0,0,0,0,0,0,0,0,0,0,0,0,0,0,0,0,0,0,0,0,0,0,0,0,0,0,0,0,0,0,0]
[null,67005,null,"Rohbauset-UP-Ventil-Garnitur",0.75,19.899999999999999,null,null,null,null,null,null,null,null,null,null,null,null,null,null,null,null,null,null,null,null,null,null,null,null,null,null,null,null,null,null,null,null,null,null,null,null,null,null,null,null,null,null,null,null,null,null,null,null,null,null,null,0,0,0,0,0,0,0,0,0,0,0,0,0,0,0,0,0,0,0,0,0,0,0,0,0,0,0,0,0,0,0,0,0,0,0,0,0,0,0,0,0,0,0,0,0,0,0,0,0,0]
[null,67006,null,"Rohbauset-UP-Ventil-Garnitur",0.75,7.2,null,null,null,null,null,null,null,null,null,null,null,null,null,null,null,null,null,null,null,null,null,null,null,null,null,null,null,null,null,null,null,null,null,null,null,null,null,null,null,null,null,null,null,null,null,null,null,null,null,null,null,0,0,0,0,0,0,0,0,0,0,0,0,0,0,0,0,0,0,0,0,0,0,0,0,0,0,0,0,0,0,0,{"$f":"$F34*AL34","v":0},0,0,0,0,0,0,0,0,0,0,0,0,0,0,0,0,0,0]
[null,"Total z",null,null,null,null,{"$f":"BF35","v":0},{"$f":"BG35","v":0},0,0,0,0,0,0,0,0,0,0,0,0,0,0,0,0,0,0,0,0,0,0,0,0,0,0,0,0,0,0,0,0,0,0,0,0,0,0,0,0,0,0,0,0,0,0,0,0,null,{"$f":"SUM(BF6:BF34)","v":0},{"$f":"SUM(BG6:BG34)","v":0},0,0,0,0,0,0,0,0,0,0,0,0,0,0,0,0,0,0,0,0,0,0,0,0,0,0,0,0,0,0,0,0,0,0,0,0,0,0,0,0,0,0,0,0,0,0,0,0]
[]
[]
[null,{"$f":" 'Perdita di pressione'!B65","v":"10.2024 V3.1. ©  R. Nussbaum SA"}]
[null,{"$f":"'Perdita di pressione'!B66","v":"L'utilizzatore è esclusivo responsabile della correttezza."}]

{"sheet":"Dimensionen","index":6,"n_rows":23,"n_cols":10,"rows_kept":23,"cut":false,"hidden":true,"merged":[]}
[null,"Nummer","Durchmesser","Innendurchmesser","Rohrrauhigkeit","Bezeichnung"]
[null,"Optipress"]
["Optipress",1.0149999999999999," 15x1.0",13,1.5E-3,"Optipress-1.4401"]
[null,1.018,"18x1.0",16,1.5E-3,"Optipress-1.4401"]
[null,1.022," 22x1.2",19.600000000000001,1.5E-3,"Optipress-1.4401"]
[null,1.028," 28x1.2",25.6,1.5E-3,"Optipress-1.4401"]
[null,1.0349999999999999," 35x1.5",32,1.5E-3,"Optipress-1.4401"]
[null,1.042," 42x1.5",39,1.5E-3,"Optipress-1.4401"]
[null,1.054," 54x1.5",51,1.5E-3,"Optipress-1.4401",null,null,null,"Acciaio zincato"]
[null,1.0640000000000001,"64x2.0",60,1.5E-3,"Optipress-1.4401"]
[null,1.0760000000000001,"76.1x2.0",72.099999999999994,1.5E-3,"Optipress-1.4401"]
[null,1.0880000000000001,"88.9x2.0",84.9,1.5E-3,"Optipress-1.4401"]
[null,1.1080000000000001,"108x2.0",104,1.5E-3,"Optipress-1.4401"]
["PEHD",2.032," 32x2.9",26.2,0.25,"PEHD SDR 11 / S5"]
[null,2.04," 40x3.7",32.6,0.25,"PEHD SDR 11 / S5"]
[null,2.0499999999999998," 50x4.6",40.799999999999997,0.25,"PEHD SDR 11 / S6"]
[null,2.0630000000000002," 63x5.8",51.4,0.25,"PEHD SDR 11 / S7"]
["Acier zingué",3.0150000000000001,"1/2\"",16,0.56999999999999995,"Acciaio zincato"]
[null,3.02,"3/4\"",21.6,0.56999999999999995,"Acciaio zincato"]
[null,3.0249999999999999,"1\"",27.2,0.56999999999999995,"Acciaio zincato"]
[null,3.032,"1¼\"",35.9,0.56999999999999995,"Acciaio zincato"]
[null,3.04,"1½\"",41.8,0.56999999999999995,"Acciaio zincato"]
[null,3.05,"2\"",53,0.56999999999999995,"Acciaio zincato"]